Workbook

Sheet arrangementen
A1: versies | B1: 1.05
A2: eerder gezet | B2: 1
A3: groot | B3: 8
A4: werkervaring | B4: 4
A5: starttarief | B5: 24
A6: eersteopdrachttoeslag | B6: 100
A7: curve log | B7: 1
A8: R2 | B8: =RSQ(O11:O110,D11:D110) -> 0.7795504
A10: naam arrangement | B10: opdrachtgever | C10: opleverdatum | D10: daadwerkelijke prijs | E10: min | F10: sec | G10: versies | H10: eerder gezet | I10: groot | J10: opdrachtnr | K10: werkervaring (jaren) | L10: time | M10: IST_tarief index | N10: IST_tariefcorr | O10: IST_vraagprijs | P10: IST_afgerond | Q10: IST_SQ
A11: arrangement 1 | B11: Ensemble Hond | C11: 36526 | D11: 125 | E11: 1 | F11: 5 | G11: 2 | H11: 0 | I11: 1 | J11: =IF(COUNTBLANK(B11)=1,"",COUNTIF(B$10:B10,B11)) -> 0 | K11: =IF(ROUND(DAYS360(C$11,C11,TRUE)/365,0)<0,"",ROUND(DAYS360(C$11,C11,TRUE)/365,0)) -> 0 | L11: =IF(E11+(F11/60)=0,"",E11+(F11/60)) -> 1.0833333 | M11: =IFERROR($B$5+($B$4*K11)+($B$3*I11),"") -> 32 | N11: =IFERROR(M11*($B$1^G11)/($B$2+H11),"") -> 35.28 | O11: =IFERROR($B$6+(N11*L11)+($B$7*LOG(1+J11,(1/3))),"") -> 138.22 | P11: =IFERROR(ROUND(O11/25,0)*25,"") -> 150 | Q11: =(D11-O11)^2 -> 174.7684
A12: arrangement 2 | B12: Het Poes Orkest | C12: 36541 | D12: 600 | E12: 5 | F12: 10 | G12: 4 | H12: 0 | I12: 0 | J12: =IF(COUNTBLANK(B12)=1,"",COUNTIF(B$10:B11,B12)) -> 0 | K12: =IF(ROUND(DAYS360(C$11,C12,TRUE)/365,0)<0,"",ROUND(DAYS360(C$11,C12,TRUE)/365,0)) -> 0 | L12: =IF(E12+(F12/60)=0,"",E12+(F12/60)) -> 5.1666667 | M12: =IFERROR($B$5+($B$4*K12)+($B$3*I12),"") -> 24 | N12: =IFERROR(M12*($B$1^G12)/($B$2+H12),"") -> 29.17215 | O12: =IFERROR($B$6+(N12*L12)+($B$7*LOG(1+J12,(1/3))),"") -> 250.72278 | P12: =IFERROR(ROUND(O12/25,0)*25,"") -> 250 | Q12: =(D12-O12)^2 -> 121994.58
A13: arrangement 3 | B13: Fanfare Kat | C13: 36570 | D13: 500 | E13: 5 | F13: 3 | G13: 1 | H13: 0 | I13: 0 | J13: =IF(COUNTBLANK(B13)=1,"",COUNTIF(B$10:B12,B13)) -> 0 | K13: =IF(ROUND(DAYS360(C$11,C13,TRUE)/365,0)<0,"",ROUND(DAYS360(C$11,C13,TRUE)/365,0)) -> 0 | L13: =IF(E13+(F13/60)=0,"",E13+(F13/60)) -> 5.05 | M13: =IFERROR($B$5+($B$4*K13)+($B$3*I13),"") -> 24 | N13: =IFERROR(M13*($B$1^G13)/($B$2+H13),"") -> 25.2 | O13: =IFERROR($B$6+(N13*L13)+($B$7*LOG(1+J13,(1/3))),"") -> 227.26 | P13: =IFERROR(ROUND(O13/25,0)*25,"") -> 225 | Q13: =(D13-O13)^2 -> 74387.108
A14: arrangement 4 | B14: Fanfare Kat | C14: 36629 | D14: 125 | E14: 1 | F14: 18 | G14: 1 | H14: 0 | I14: 0 | J14: =IF(COUNTBLANK(B14)=1,"",COUNTIF(B$10:B13,B14)) -> 1 | K14: =IF(ROUND(DAYS360(C$11,C14,TRUE)/365,0)<0,"",ROUND(DAYS360(C$11,C14,TRUE)/365,0)) -> 0 | L14: =IF(E14+(F14/60)=0,"",E14+(F14/60)) -> 1.3 | M14: =IFERROR($B$5+($B$4*K14)+($B$3*I14),"") -> 24 | N14: =IFERROR(M14*($B$1^G14)/($B$2+H14),"") -> 25.2 | O14: =IFERROR($B$6+(N14*L14)+($B$7*LOG(1+J14,(1/3))),"") -> 132.12907 | P14: =IFERROR(ROUND(O14/25,0)*25,"") -> 125 | Q14: =(D14-O14)^2 -> 50.823643
A15: arrangement 5 | B15: De Leeuw Harmonie | C15: 36666 | D15: 300 | E15: 2 | F15: 53 | G15: 1 | H15: 0 | I15: 0 | J15: =IF(COUNTBLANK(B15)=1,"",COUNTIF(B$10:B14,B15)) -> 0 | K15: =IF(ROUND(DAYS360(C$11,C15,TRUE)/365,0)<0,"",ROUND(DAYS360(C$11,C15,TRUE)/365,0)) -> 0 | L15: =IF(E15+(F15/60)=0,"",E15+(F15/60)) -> 2.8833333 | M15: =IFERROR($B$5+($B$4*K15)+($B$3*I15),"") -> 24 | N15: =IFERROR(M15*($B$1^G15)/($B$2+H15),"") -> 25.2 | O15: =IFERROR($B$6+(N15*L15)+($B$7*LOG(1+J15,(1/3))),"") -> 172.66 | P15: =IFERROR(ROUND(O15/25,0)*25,"") -> 175 | Q15: =(D15-O15)^2 -> 16215.476
A16: arrangement 6 | B16: Ensemble Tor | C16: 36697 | D16: 150 | E16: 1 | F16: 30 | G16: 2 | H16: 0 | I16: 0 | J16: =IF(COUNTBLANK(B16)=1,"",COUNTIF(B$10:B15,B16)) -> 0 | K16: =IF(ROUND(DAYS360(C$11,C16,TRUE)/365,0)<0,"",ROUND(DAYS360(C$11,C16,TRUE)/365,0)) -> 0 | L16: =IF(E16+(F16/60)=0,"",E16+(F16/60)) -> 1.5 | M16: =IFERROR($B$5+($B$4*K16)+($B$3*I16),"") -> 24 | N16: =IFERROR(M16*($B$1^G16)/($B$2+H16),"") -> 26.46 | O16: =IFERROR($B$6+(N16*L16)+($B$7*LOG(1+J16,(1/3))),"") -> 139.69 | P16: =IFERROR(ROUND(O16/25,0)*25,"") -> 150 | Q16: =(D16-O16)^2 -> 106.2961
A17: arrangement 7 | B17: Het Kever Orkest | C17: 36728 | D17: 275 | E17: 2 | F17: 52 | G17: 1 | H17: 0 | I17: 0 | J17: =IF(COUNTBLANK(B17)=1,"",COUNTIF(B$10:B16,B17)) -> 0 | K17: =IF(ROUND(DAYS360(C$11,C17,TRUE)/365,0)<0,"",ROUND(DAYS360(C$11,C17,TRUE)/365,0)) -> 1 | L17: =IF(E17+(F17/60)=0,"",E17+(F17/60)) -> 2.8666667 | M17: =IFERROR($B$5+($B$4*K17)+($B$3*I17),"") -> 28 | N17: =IFERROR(M17*($B$1^G17)/($B$2+H17),"") -> 29.4 | O17: =IFERROR($B$6+(N17*L17)+($B$7*LOG(1+J17,(1/3))),"") -> 184.28 | P17: =IFERROR(ROUND(O17/25,0)*25,"") -> 175 | Q17: =(D17-O17)^2 -> 8230.1184
A18: arrangement 8 | B18: Fanfare Kat | C18: 36775 | D18: 450 | E18: 4 | F18: 33 | G18: 1 | H18: 0 | I18: 0 | J18: =IF(COUNTBLANK(B18)=1,"",COUNTIF(B$10:B17,B18)) -> 2 | K18: =IF(ROUND(DAYS360(C$11,C18,TRUE)/365,0)<0,"",ROUND(DAYS360(C$11,C18,TRUE)/365,0)) -> 1 | L18: =IF(E18+(F18/60)=0,"",E18+(F18/60)) -> 4.55 | M18: =IFERROR($B$5+($B$4*K18)+($B$3*I18),"") -> 28 | N18: =IFERROR(M18*($B$1^G18)/($B$2+H18),"") -> 29.4 | O18: =IFERROR($B$6+(N18*L18)+($B$7*LOG(1+J18,(1/3))),"") -> 232.77 | P18: =IFERROR(ROUND(O18/25,0)*25,"") -> 225 | Q18: =(D18-O18)^2 -> 47188.873
A19: arrangement 9 | B19: Fanfare Krekel | C19: 36800 | D19: 250 | E19: 2 | F19: 35 | G19: 1 | H19: 0 | I19: 0 | J19: =IF(COUNTBLANK(B19)=1,"",COUNTIF(B$10:B18,B19)) -> 0 | K19: =IF(ROUND(DAYS360(C$11,C19,TRUE)/365,0)<0,"",ROUND(DAYS360(C$11,C19,TRUE)/365,0)) -> 1 | L19: =IF(E19+(F19/60)=0,"",E19+(F19/60)) -> 2.5833333 | M19: =IFERROR($B$5+($B$4*K19)+($B$3*I19),"") -> 28 | N19: =IFERROR(M19*($B$1^G19)/($B$2+H19),"") -> 29.4 | O19: =IFERROR($B$6+(N19*L19)+($B$7*LOG(1+J19,(1/3))),"") -> 175.95 | P19: =IFERROR(ROUND(O19/25,0)*25,"") -> 175 | Q19: =(D19-O19)^2 -> 5483.4025
A20: arrangement 10 | B20: Het Kever Orkest | C20: 36830 | D20: 250 | E20: 2 | F20: 39 | G20: 1 | H20: 0 | I20: 0 | J20: =IF(COUNTBLANK(B20)=1,"",COUNTIF(B$10:B19,B20)) -> 1 | K20: =IF(ROUND(DAYS360(C$11,C20,TRUE)/365,0)<0,"",ROUND(DAYS360(C$11,C20,TRUE)/365,0)) -> 1 | L20: =IF(E20+(F20/60)=0,"",E20+(F20/60)) -> 2.65 | M20: =IFERROR($B$5+($B$4*K20)+($B$3*I20),"") -> 28 | N20: =IFERROR(M20*($B$1^G20)/($B$2+H20),"") -> 29.4 | O20: =IFERROR($B$6+(N20*L20)+($B$7*LOG(1+J20,(1/3))),"") -> 177.27907 | P20: =IFERROR(ROUND(O20/25,0)*25,"") -> 175 | Q20: =(D20-O20)^2 -> 5288.3336
A21: arrangement 11 | B21: Het Poes Orkest | C21: 36843 | D21: 475 | E21: 4 | F21: 17 | G21: 1 | H21: 0 | I21: 1 | J21: =IF(COUNTBLANK(B21)=1,"",COUNTIF(B$10:B20,B21)) -> 1 | K21: =IF(ROUND(DAYS360(C$11,C21,TRUE)/365,0)<0,"",ROUND(DAYS360(C$11,C21,TRUE)/365,0)) -> 1 | L21: =IF(E21+(F21/60)=0,"",E21+(F21/60)) -> 4.2833333 | M21: =IFERROR($B$5+($B$4*K21)+($B$3*I21),"") -> 36 | N21: =IFERROR(M21*($B$1^G21)/($B$2+H21),"") -> 37.8 | O21: =IFERROR($B$6+(N21*L21)+($B$7*LOG(1+J21,(1/3))),"") -> 261.27907 | P21: =IFERROR(ROUND(O21/25,0)*25,"") -> 250 | Q21: =(D21-O21)^2 -> 45676.636
A22: arrangement 12 | B22: Het Kever Orkest | C22: 36875 | D22: 125 | E22: 1 | F22: 21 | G22: 2 | H22: 0 | I22: 0 | J22: =IF(COUNTBLANK(B22)=1,"",COUNTIF(B$10:B21,B22)) -> 2 | K22: =IF(ROUND(DAYS360(C$11,C22,TRUE)/365,0)<0,"",ROUND(DAYS360(C$11,C22,TRUE)/365,0)) -> 1 | L22: =IF(E22+(F22/60)=0,"",E22+(F22/60)) -> 1.35 | M22: =IFERROR($B$5+($B$4*K22)+($B$3*I22),"") -> 28 | N22: =IFERROR(M22*($B$1^G22)/($B$2+H22),"") -> 30.87 | O22: =IFERROR($B$6+(N22*L22)+($B$7*LOG(1+J22,(1/3))),"") -> 140.6745 | P22: =IFERROR(ROUND(O22/25,0)*25,"") -> 150 | Q22: =(D22-O22)^2 -> 245.68995
... A110: arrangement 98 | B110: Fanfare Krekel | C110: 40002 | D110: 300 | E110: 5 | F110: 5 | G110: 3 | H110: 1 | I110: 0 | J110: =IF(COUNTBLANK(B110)=1,"",COUNTIF(B$10:B109,B110)) -> 1 | K110: =IF(ROUND(DAYS360(C$11,C110,TRUE)/365,0)<0,"",ROUND(DAYS360(C$11,C110,TRUE)/365,0)) -> 9 | L110: =IF(E110+(F110/60)=0,"",E110+(F110/60)) -> 5.0833333 | M110: =IFERROR($B$5+($B$4*K110)+($B$3*I110),"") -> 60 | N110: =IFERROR(M110*($B$1^G110)/($B$2+H110),"") -> 34.72875 | O110: =IFERROR($B$6+(N110*L110)+($B$7*LOG(1+J110,(1/3))),"") -> 275.90688 | P110: =IFERROR(ROUND(O110/25,0)*25,"") -> 275 | Q110: =(D110-O110)^2 -> 580.4783
Q111: =SUM(Q11:Q110) -> 1327690.6

Sheet stats
B1: daadwerkelijke prijs | C1: versies | D1: eerder gezet | E1: groot | F1: tijd (minuten)
A2: N | B2: =COUNTA(arrangementen!D:D)-1 -> 100 | C2: =COUNTA(arrangementen!G:G)-1 -> 100 | D2: =COUNTA(arrangementen!H:H)-1 -> 100 | E2: =COUNTA(arrangementen!I:I)-1 -> 100 | F2: =COUNTA(arrangementen!L:L)-1 -> 100
A3: sum | B3: =SUM(arrangementen!D:D) -> 30425 | C3: =SUM(arrangementen!G:G) -> 186 | D3: =SUM(arrangementen!H:H) -> 23 | E3: =SUM(arrangementen!I:I) -> 14 | F3: =SUM(arrangementen!L:L) -> 324.93333
A4: avg | B4: =AVERAGE(arrangementen!D:D) -> 304.25 | C4: =AVERAGE(arrangementen!G:G) -> 1.86 | D4: =AVERAGE(arrangementen!H:H) -> 0.23 | E4: =AVERAGE(arrangementen!I:I) -> 0.14 | F4: =AVERAGE(arrangementen!L:L) -> 3.2493333
A5: sd | B5: =_xlfn.STDEV.P(arrangementen!D:D) -> 158.82597 | C5: =_xlfn.STDEV.P(arrangementen!G:G) -> 1.0489995 | D5: =_xlfn.STDEV.P(arrangementen!H:H) -> 0.42083251 | E5: =_xlfn.STDEV.P(arrangementen!I:I) -> 0.34698703 | F5: =_xlfn.STDEV.P(arrangementen!L:L) -> 1.4689715
A6: min | B6: =SMALL(arrangementen!D:D,1) -> 50 | C6: =SMALL(arrangementen!G:G,1) -> 1 | D6: =SMALL(arrangementen!H:H,1) -> 0 | E6: =SMALL(arrangementen!I:I,1) -> 0 | F6: =SMALL(arrangementen!L:L,1) -> 1.05
A7: max | B7: =LARGE(arrangementen!D:D,1) -> 650 | C7: =LARGE(arrangementen!G:G,1) -> 4 | D7: =LARGE(arrangementen!H:H,1) -> 1 | E7: =LARGE(arrangementen!I:I,1) -> 1 | F7: =LARGE(arrangementen!L:L,1) -> 5.9
A8: {=IFERROR(INDEX(arrangementen!#REF!,MATCH(0,COUNTIF(stats!#REF!,arrangementen!#REF!),0)),"")} | B8: =IFERROR(AVERAGEIF(arrangementen!#REF!,$A8,arrangementen!#REF!),"") | C8: =IFERROR(AVERAGEIF(arrangementen!#REF!,$A8,arrangementen!D:D),"") | D8: =IFERROR(AVERAGEIF(arrangementen!#REF!,$A8,arrangementen!L:L),"") | E8: =IFERROR(AVERAGEIF(arrangementen!#REF!,$A8,arrangementen!#REF!),"") | F8: =IFERROR(AVERAGEIF(arrangementen!#REF!,$A8,arrangementen!I:I),"")
A9: {=IFERROR(INDEX(arrangementen!#REF!,MATCH(0,COUNTIF(stats!$A$8:A8,arrangementen!#REF!),0)),"")} | B9: =IFERROR(AVERAGEIF(arrangementen!#REF!,$A9,arrangementen!#REF!),"") | C9: =IFERROR(AVERAGEIF(arrangementen!#REF!,$A9,arrangementen!D:D),"") | D9: =IFERROR(AVERAGEIF(arrangementen!#REF!,$A9,arrangementen!L:L),"") | E9: =IFERROR(AVERAGEIF(arrangementen!#REF!,$A9,arrangementen!#REF!),"") | F9: =IFERROR(AVERAGEIF(arrangementen!#REF!,$A9,arrangementen!I:I),"")
A10: {=IFERROR(INDEX(arrangementen!#REF!,MATCH(0,COUNTIF(stats!$A$8:A9,arrangementen!#REF!),0)),"")} | B10: =IFERROR(AVERAGEIF(arrangementen!#REF!,$A10,arrangementen!#REF!),"") | C10: =IFERROR(AVERAGEIF(arrangementen!#REF!,$A10,arrangementen!D:D),"") | D10: =IFERROR(AVERAGEIF(arrangementen!#REF!,$A10,arrangementen!L:L),"") | E10: =IFERROR(AVERAGEIF(arrangementen!#REF!,$A10,arrangementen!#REF!),"") | F10: =IFERROR(AVERAGEIF(arrangementen!#REF!,$A10,arrangementen!I:I),"")
A11: {=IFERROR(INDEX(arrangementen!#REF!,MATCH(0,COUNTIF(stats!$A$8:A10,arrangementen!#REF!),0)),"")} | B11: =IFERROR(AVERAGEIF(arrangementen!#REF!,$A11,arrangementen!#REF!),"") | C11: =IFERROR(AVERAGEIF(arrangementen!#REF!,$A11,arrangementen!D:D),"") | D11: =IFERROR(AVERAGEIF(arrangementen!#REF!,$A11,arrangementen!L:L),"") | E11: =IFERROR(AVERAGEIF(arrangementen!#REF!,$A11,arrangementen!#REF!),"") | F11: =IFERROR(AVERAGEIF(arrangementen!#REF!,$A11,arrangementen!I:I),"")
A12: {=IFERROR(INDEX(arrangementen!#REF!,MATCH(0,COUNTIF(stats!$A$8:A11,arrangementen!#REF!),0)),"")} | B12: =IFERROR(AVERAGEIF(arrangementen!#REF!,$A12,arrangementen!#REF!),"") | C12: =IFERROR(AVERAGEIF(arrangementen!#REF!,$A12,arrangementen!D:D),"") | D12: =IFERROR(AVERAGEIF(arrangementen!#REF!,$A12,arrangementen!L:L),"") | E12: =IFERROR(AVERAGEIF(arrangementen!#REF!,$A12,arrangementen!#REF!),"") | F12: =IFERROR(AVERAGEIF(arrangementen!#REF!,$A12,arrangementen!I:I),"")
A13: {=IFERROR(INDEX(arrangementen!#REF!,MATCH(0,COUNTIF(stats!$A$8:A12,arrangementen!#REF!),0)),"")} | B13: =IFERROR(AVERAGEIF(arrangementen!#REF!,$A13,arrangementen!#REF!),"") | C13: =IFERROR(AVERAGEIF(arrangementen!#REF!,$A13,arrangementen!D:D),"") | D13: =IFERROR(AVERAGEIF(arrangementen!#REF!,$A13,arrangementen!L:L),"") | E13: =IFERROR(AVERAGEIF(arrangementen!#REF!,$A13,arrangementen!#REF!),"") | F13: =IFERROR(AVERAGEIF(arrangementen!#REF!,$A13,arrangementen!I:I),"")
A14: {=IFERROR(INDEX(arrangementen!#REF!,MATCH(0,COUNTIF(stats!$A$8:A13,arrangementen!#REF!),0)),"")} | B14: =IFERROR(AVERAGEIF(arrangementen!#REF!,$A14,arrangementen!#REF!),"") | C14: =IFERROR(AVERAGEIF(arrangementen!#REF!,$A14,arrangementen!D:D),"") | D14: =IFERROR(AVERAGEIF(arrangementen!#REF!,$A14,arrangementen!L:L),"") | E14: =IFERROR(AVERAGEIF(arrangementen!#REF!,$A14,arrangementen!#REF!),"") | F14: =IFERROR(AVERAGEIF(arrangementen!#REF!,$A14,arrangementen!I:I),"")
A15: {=IFERROR(INDEX(arrangementen!#REF!,MATCH(0,COUNTIF(stats!$A$8:A14,arrangementen!#REF!),0)),"")} | B15: =IFERROR(AVERAGEIF(arrangementen!#REF!,$A15,arrangementen!#REF!),"") | C15: =IFERROR(AVERAGEIF(arrangementen!#REF!,$A15,arrangementen!D:D),"") | D15: =IFERROR(AVERAGEIF(arrangementen!#REF!,$A15,arrangementen!L:L),"") | E15: =IFERROR(AVERAGEIF(arrangementen!#REF!,$A15,arrangementen!#REF!),"") | F15: =IFERROR(AVERAGEIF(arrangementen!#REF!,$A15,arrangementen!I:I),"")
A16: {=IFERROR(INDEX(arrangementen!#REF!,MATCH(0,COUNTIF(stats!$A$8:A15,arrangementen!#REF!),0)),"")} | B16: =IFERROR(AVERAGEIF(arrangementen!#REF!,$A16,arrangementen!#REF!),"") | C16: =IFERROR(AVERAGEIF(arrangementen!#REF!,$A16,arrangementen!D:D),"") | D16: =IFERROR(AVERAGEIF(arrangementen!#REF!,$A16,arrangementen!L:L),"") | E16: =IFERROR(AVERAGEIF(arrangementen!#REF!,$A16,arrangementen!#REF!),"") | F16: =IFERROR(AVERAGEIF(arrangementen!#REF!,$A16,arrangementen!I:I),"")
A17: {=IFERROR(INDEX(arrangementen!#REF!,MATCH(0,COUNTIF(stats!$A$8:A16,arrangementen!#REF!),0)),"")} | B17: =IFERROR(AVERAGEIF(arrangementen!#REF!,$A17,arrangementen!#REF!),"") | C17: =IFERROR(AVERAGEIF(arrangementen!#REF!,$A17,arrangementen!D:D),"") | D17: =IFERROR(AVERAGEIF(arrangementen!#REF!,$A17,arrangementen!L:L),"") | E17: =IFERROR(AVERAGEIF(arrangementen!#REF!,$A17,arrangementen!#REF!),"") | F17: =IFERROR(AVERAGEIF(arrangementen!#REF!,$A17,arrangementen!I:I),"")
A18: {=IFERROR(INDEX(arrangementen!#REF!,MATCH(0,COUNTIF(stats!$A$8:A17,arrangementen!#REF!),0)),"")} | B18: =IFERROR(AVERAGEIF(arrangementen!#REF!,$A18,arrangementen!#REF!),"") | C18: =IFERROR(AVERAGEIF(arrangementen!#REF!,$A18,arrangementen!D:D),"") | D18: =IFERROR(AVERAGEIF(arrangementen!#REF!,$A18,arrangementen!L:L),"") | E18: =IFERROR(AVERAGEIF(arrangementen!#REF!,$A18,arrangementen!#REF!),"") | F18: =IFERROR(AVERAGEIF(arrangementen!#REF!,$A18,arrangementen!I:I),"")
A19: {=IFERROR(INDEX(arrangementen!#REF!,MATCH(0,COUNTIF(stats!$A$8:A18,arrangementen!#REF!),0)),"")} | B19: =IFERROR(AVERAGEIF(arrangementen!#REF!,$A19,arrangementen!#REF!),"") | C19: =IFERROR(AVERAGEIF(arrangementen!#REF!,$A19,arrangementen!D:D),"") | D19: =IFERROR(AVERAGEIF(arrangementen!#REF!,$A19,arrangementen!L:L),"") | E19: =IFERROR(AVERAGEIF(arrangementen!#REF!,$A19,arrangementen!#REF!),"") | F19: =IFERROR(AVERAGEIF(arrangementen!#REF!,$A19,arrangementen!I:I),"")
A20: {=IFERROR(INDEX(arrangementen!#REF!,MATCH(0,COUNTIF(stats!$A$8:A19,arrangementen!#REF!),0)),"")} | B20: =IFERROR(AVERAGEIF(arrangementen!#REF!,$A20,arrangementen!#REF!),"") | C20: =IFERROR(AVERAGEIF(arrangementen!#REF!,$A20,arrangementen!D:D),"") | D20: =IFERROR(AVERAGEIF(arrangementen!#REF!,$A20,arrangementen!L:L),"") | E20: =IFERROR(AVERAGEIF(arrangementen!#REF!,$A20,arrangementen!#REF!),"") | F20: =IFERROR(AVERAGEIF(arrangementen!#REF!,$A20,arrangementen!I:I),"")
... A41: {=IFERROR(INDEX(arrangementen!#REF!,MATCH(0,COUNTIF(stats!$A$8:A40,arrangementen!#REF!),0)),"")} | B41: =IFERROR(AVERAGEIF(arrangementen!#REF!,$A41,arrangementen!#REF!),"") | C41: =IFERROR(AVERAGEIF(arrangementen!#REF!,$A41,arrangementen!D:D),"") | D41: =IFERROR(AVERAGEIF(arrangementen!#REF!,$A41,arrangementen!L:L),"") | E41: =IFERROR(AVERAGEIF(arrangementen!#REF!,$A41,arrangementen!#REF!),"") | F41: =IFERROR(AVERAGEIF(arrangementen!#REF!,$A41,arrangementen!I:I),"")
