Workbook

Sheet stats
A1: {=recepten!1:1} -> Jaar | B1: datum | C1: uit eten | D1: afhaal/ fastfood | E1: brood/ kliekjes | F1: Bimi en tofu met chili-misodressing | G1: Gado gado | H1: Risotto met chorizo, doperwten en geitenkaas | I1: Minestrone | J1: Frittata, rokerige | K1: AGV | L1: Witlof ham kaas | M1: Bietencarpaccio | N1: Baba ghanoush | O1: 0 | P1: 0 | Q1: 0 | R1: 0 | S1: 0 | T1: 0 | U1: 0 | V1: 0 | W1: 0 | X1: 0 | Y1: 0 | Z1: 0 | AA1: 0 | AB1: 0 | AC1: 0 | AD1: 0 | AE1: 0 | AF1: 0 | AG1: 0 | AH1: 0 | AI1: 0 | AJ1: 0 | AK1: 0 | AL1: 0 | AM1: 0 | AN1: 0 | AO1: 0 | AP1: 0 | AQ1: 0 | AR1: 0 | AS1: 0 | AT1: 0 | AU1: 0 | AV1: 0 | AW1: 0 | AX1: 0 | AY1: 0 | AZ1: 0 | BA1: 0 | BB1: 0 | BC1: 0 | BD1: 0 | BE1: 0 | BF1: 0 | BG1: 0 | BH1: 0 | BI1: 0 | BJ1: 0 | BK1: 0 | BL1: 0 | BM1: 0 | BN1: 0 | BO1: 0 | BP1: 0 | BQ1: 0 | BR1: 0 | BS1: 0 | BT1: 0 | BU1: 0 | BV1: 0 | BW1: 0 | BX1: 0 | BY1: 0 | BZ1: 0 | CA1: 0 | CB1: 0 | CC1: 0 | CD1: 0 | CE1: 0 | CF1: 0 | CG1: 0 | CH1: 0 | CI1: 0 | CJ1: 0 | CK1: 0 | CL1: 0 | CM1: 0 | CN1: 0 | CO1: 0 | CP1: 0 | CQ1: 0 | CR1: 0 | CS1: 0 | CT1: 0 | CU1: 0 | CV1: 0 | CW1: 0 | CX1: 0 | CY1: 0 | CZ1: 0 | DA1: 0 | DB1: 0 | DC1: 0 | DD1: 0 | DE1: 0 | DF1: 0 | DG1: 0 | DH1: 0 | DI1: 0 | DJ1: 0 | DK1: 0 | DL1: 0 | DM1: 0 | DN1: 0 | DO1: 0 | DP1: 0 | DQ1: 0 | DR1: 0 | DS1: 0 | DT1: 0 | DU1: 0 | DV1: 0 | DW1: 0 | DX1: 0 | DY1: 0 | DZ1: 0 | EA1: 0 | EB1: 0 | EC1: 0 | ED1: 0 | EE1: 0 | EF1: 0 | EG1: 0 | EH1: 0 | EI1: 0 | EJ1: 0 | EK1: 0 | EL1: 0 | EM1: 0 | EN1: 0 | EO1: 0 | EP1: 0 | EQ1: 0 | ER1: 0 | ES1: 0 | ET1: 0 | EU1: 0 | EV1: 0 | EW1: 0 | EX1: 0 | EY1: 0 | EZ1: 0 | FA1: 0 | FB1: 0 | FC1: 0 | FD1: 0 | FE1: 0 | FF1: 0 | FG1: 0 | FH1: 0 | FI1: 0 | FJ1: 0 | FK1: 0 | FL1: 0 | FM1: 0 | FN1: 0 | FO1: 0 | FP1: 0 | FQ1: 0 | FR1: 0 | FS1: 0 | FT1: 0 | FU1: 0 | FV1: 0 | FW1: 0 | FX1: 0 | FY1: 0 | FZ1: 0 | GA1: 0 | GB1: 0 | GC1: 0 | GD1: 0 | GE1: 0 | GF1: 0 | GG1: 0 | GH1: 0 | GI1: 0 | GJ1: 0 | GK1: 0 | GL1: 0 | GM1: 0 | GN1: 0 | GO1: 0 | GP1: 0 | GQ1: 0 | GR1: 0 | GS1: 0 | GT1: 0 | GU1: 0 | GV1: 0 | GW1: 0 | GX1: 0 | GY1: 0 | GZ1: 0 | HA1: 0 | HB1: 0 | HC1: 0 | HD1: 0 | HE1: 0 | HF1: 0 | HG1: 0 | HH1: 0 | HI1: 0 | HJ1: 0 | HK1: 0 | HL1: 0 | HM1: 0 | HN1: 0 | HO1: 0 | HP1: 0 | HQ1: 0 | HR1: 0 | HS1: 0 | HT1: 0 | HU1: 0 | HV1: 0 | HW1: 0 | HX1: 0 | HY1: 0 | HZ1: 0 | IA1: 0 | IB1: 0 | IC1: 0 | ID1: 0 | IE1: 0 | IF1: 0 | IG1: 0 | IH1: 0 | II1: 0 | IJ1: 0 | IK1: 0 | IL1: 0 | IM1: 0 | IN1: 0 | IO1: 0 | IP1: 0 | IQ1: 0 | IR1: 0 | IS1: 0 | IT1: 0 | IU1: 0 | IV1: 0 | IW1: 0 | IX1: 0 | IY1: 0 | IZ1: 0 | JA1: 0 | JB1: 0 | JC1: 0 | JD1: 0 | JE1: 0 | JF1: 0 | JG1: 0 | JH1: 0 | JI1: 0 | JJ1: 0 | JK1: 0 | JL1: 0 | JM1: 0 | JN1: 0 | JO1: 0 | JP1: 0 | JQ1: 0 | JR1: 0 | JS1: 0 | JT1: 0 | JU1: 0 | JV1: 0 | JW1: 0 | JX1: 0 | JY1: 0 | JZ1: 0 | KA1: 0 | KB1: 0 | KC1: 0 | KD1: 0 | KE1: 0 | KF1: 0 | KG1: 0 | KH1: 0 | KI1: 0 | KJ1: 0 | KK1: 0 | KL1: 0 | KM1: 0 | KN1: 0 | KO1: 0 | KP1: 0 | KQ1: 0 | KR1: 0 | KS1: 0 | KT1: 0 | KU1: 0 | KV1: 0 | KW1: 0 | KX1: 0 | KY1: 0 | KZ1: 0 | LA1: 0 | LB1: 0 | LC1: 0 | LD1: 0 | LE1: 0 | LF1: 0 | LG1: 0 | LH1: 0 | LI1: 0 | LJ1: 0 | LK1: 0 | LL1: 0 | LM1: 0 | LN1: 0 | LO1: 0 | LP1: 0 | LQ1: 0 | LR1: 0 | LS1: 0 | LT1: 0 | LU1: 0 | LV1: 0 | LW1: 0 | LX1: 0 | LY1: 0 | LZ1: 0 | MA1: 0 | MB1: 0 | MC1: 0 | MD1: 0 | ME1: 0 | MF1: 0 | MG1: 0 | MH1: 0 | MI1: 0 | MJ1: 0 | MK1: 0 | ML1: 0 | MM1: 0 | MN1: 0 | MO1: 0 | MP1: 0 | MQ1: 0 | MR1: 0 | MS1: 0 | MT1: 0 | MU1: 0 | MV1: 0 | MW1: 0 | MX1: 0 | MY1: 0 | MZ1: 0 | NA1: 0 | NB1: 0 | NC1: 0 | ND1: 0 | NE1: 0 | NF1: 0 | NG1: 0 | NH1: 0 | NI1: 0 | NJ1: 0 | NK1: 0 | NL1: 0 | NM1: 0 | NN1: 0 | NO1: 0 | NP1: 0 | NQ1: 0 | NR1: 0 | NS1: 0 | NT1: 0 | NU1: 0 | NV1: 0 | NW1: 0 | NX1: 0 | NY1: 0 | NZ1: 0 | OA1: 0 | OB1: 0 | OC1: 0 | OD1: 0 | OE1: 0 | OF1: 0 | OG1: 0 | OH1: 0 | OI1: 0 | OJ1: 0 | OK1: 0 | OL1: 0 | OM1: 0 | ON1: 0 | OO1: 0 | OP1: 0 | OQ1: 0 | OR1: 0 | OS1: 0 | OT1: 0 | OU1: 0 | OV1: 0 | OW1: 0 | OX1: 0 | OY1: 0 | OZ1: 0 | PA1: 0 | PB1: 0 | PC1: 0 | PD1: 0 | PE1: 0 | PF1: 0 | PG1: 0 | PH1: 0 | PI1: 0 | PJ1: 0 | PK1: 0 | PL1: 0 | PM1: 0 | PN1: 0 | PO1: 0 | PP1: 0 | PQ1: 0 | PR1: 0 | PS1: 0 | PT1: 0 | PU1: 0 | PV1: 0 | PW1: 0 | PX1: 0 | PY1: 0 | PZ1: 0 | QA1: 0 | QB1: 0 | QC1: 0 | QD1: 0 | QE1: 0 | QF1: 0 | QG1: 0 | QH1: 0 | QI1: 0 | QJ1: 0 | QK1: 0 | QL1: 0 | QM1: 0 | QN1: 0 | QO1: 0 | QP1: 0 | QQ1: 0 | QR1: 0 | QS1: 0 | QT1: 0 | QU1: 0 | QV1: 0 | QW1: 0 | QX1: 0 | QY1: 0 | QZ1: 0 | RA1: 0 | RB1: 0 | RC1: 0 | RD1: 0 | RE1: 0 | RF1: 0 | RG1: 0 | RH1: 0 | RI1: 0 | RJ1: 0 | RK1: 0 | RL1: 0 | RM1: 0 | RN1: 0 | RO1: 0 | RP1: 0 | RQ1: 0 | RR1: 0 | RS1: 0 | RT1: 0 | RU1: 0 | RV1: 0 | RW1: 0 | RX1: 0 | RY1: 0 | RZ1: 0 | SA1: 0 | SB1: 0 | SC1: 0 | SD1: 0 | SE1: 0 | SF1: 0 | SG1: 0 | SH1: 0 | SI1: 0 | SJ1: 0 | SK1: 0 | SL1: 0 | SM1: 0 | SN1: 0 | SO1: 0 | SP1: 0 | SQ1: 0 | SR1: 0 | SS1: 0 | ST1: 0 | SU1: 0 | SV1: 0 | SW1: 0 | SX1: 0 | SY1: 0 | SZ1: 0 | TA1: 0 | TB1: 0 | TC1: 0 | TD1: 0 | TE1: 0 | TF1: 0 | TG1: 0 | TH1: 0 | TI1: 0 | TJ1: 0 | TK1: 0 | TL1: 0 | TM1: 0 | TN1: 0 | TO1: 0 | TP1: 0 | TQ1: 0 | TR1: 0 | TS1: 0 | TT1: 0 | TU1: 0 | TV1: 0 | TW1: 0 | TX1: 0 | TY1: 0 | TZ1: 0 | UA1: 0 | UB1: 0 | UC1: 0 | UD1: 0 | UE1: 0 | UF1: 0 | UG1: 0 | UH1: 0 | UI1: 0 | UJ1: 0 | UK1: 0 | UL1: 0 | UM1: 0 | UN1: 0 | UO1: 0 | UP1: 0 | UQ1: 0 | UR1: 0 | US1: 0 | UT1: 0 | UU1: 0 | UV1: 0 | UW1: 0 | UX1: 0 | UY1: 0 | UZ1: 0 | VA1: 0 | VB1: 0 | VC1: 0 | VD1: 0 | VE1: 0 | VF1: 0 | VG1: 0 | VH1: 0 | VI1: 0 | VJ1: 0 | VK1: 0 | VL1: 0 | VM1: 0 | VN1: 0 | VO1: 0 | VP1: 0 | VQ1: 0 | VR1: 0 | VS1: 0 | VT1: 0 | VU1: 0 | VV1: 0 | VW1: 0 | VX1: 0 | VY1: 0 | VZ1: 0 | WA1: 0 | WB1: 0 | WC1: 0 | WD1: 0 | WE1: 0 | WF1: 0 | WG1: 0 | WH1: 0 | WI1: 0 | WJ1: 0 | WK1: 0 | WL1: 0 | WM1: 0 | WN1: 0 | WO1: 0 | WP1: 0 | WQ1: 0 | WR1: 0 | WS1: 0 | WT1: 0 | WU1: 0 | WV1: 0 | WW1: 0 | WX1: 0 | WY1: 0 | WZ1: 0 | XA1: 0 | XB1: 0 | XC1: 0 | XD1: 0 | XE1: 0 | XF1: 0 | XG1: 0 | XH1: 0 | XI1: 0 | XJ1: 0 | XK1: 0 | XL1: 0 | XM1: 0 | XN1: 0 | XO1: 0 | XP1: 0 | XQ1: 0 | XR1: 0 | XS1: 0 | XT1: 0 | XU1: 0 | XV1: 0 | XW1: 0 | XX1: 0 | XY1: 0 | XZ1: 0 | YA1: 0 | YB1: 0 | YC1: 0 | YD1: 0 | YE1: 0 | YF1: 0 | YG1: 0 | YH1: 0 | YI1: 0 | YJ1: 0 | YK1: 0 | YL1: 0 | YM1: 0 | YN1: 0 | YO1: 0 | YP1: 0 | YQ1: 0 | YR1: 0 | YS1: 0 | YT1: 0 | YU1: 0 | YV1: 0 | YW1: 0 | YX1: 0 | YY1: 0 | YZ1: 0 | ZA1: 0 | ZB1: 0 | ZC1: 0 | ZD1: 0 | ZE1: 0 | ZF1: 0 | ZG1: 0 | ZH1: 0 | ZI1: 0 | ZJ1: 0 | ZK1: 0 | ZL1: 0 | ZM1: 0 | ZN1: 0 | ZO1: 0 | ZP1: 0 | ZQ1: 0 | ZR1: 0 | ZS1: 0 | ZT1: 0 | ZU1: 0 | ZV1: 0 | ZW1: 0 | ZX1: 0 | ZY1: 0 | ZZ1: 0 | AAA1: 0 | AAB1: 0 | AAC1: 0 | AAD1: 0 | AAE1: 0 | AAF1: 0 | AAG1: 0 | AAH1: 0 | AAI1: 0 | AAJ1: 0 | AAK1: 0 | AAL1: 0 | AAM1: 0 | AAN1: 0 | AAO1: 0 | AAP1: 0 | AAQ1: 0 | AAR1: 0 | AAS1: 0 | AAT1: 0 | AAU1: 0 | AAV1: 0 | AAW1: 0 | AAX1: 0 | AAY1: 0 | AAZ1: 0 | ABA1: 0 | ABB1: 0 | ABC1: 0 | ABD1: 0 | ABE1: 0 | ABF1: 0 | ABG1: 0 | ABH1: 0 | ABI1: 0 | ABJ1: 0 | ABK1: 0 | ABL1: 0 | ABM1: 0 | ABN1: 0 | ABO1: 0 | ABP1: 0 | ABQ1: 0 | ABR1: 0 | ABS1: 0 | ABT1: 0 | ABU1: 0 | ABV1: 0 | ABW1: 0 | ABX1: 0 | ABY1: 0 | ABZ1: 0 | ACA1: 0 | ACB1: 0 | ACC1: 0 | ACD1: 0 | ACE1: 0 | ACF1: 0 | ACG1: 0 | ACH1: 0 | ACI1: 0 | ACJ1: 0 | ACK1: 0 | ACL1: 0 | ACM1: 0 | ACN1: 0 | ACO1: 0 | ACP1: 0 | ACQ1: 0 | ACR1: 0 | ACS1: 0 | ACT1: 0 | ACU1: 0 | ACV1: 0 | ACW1: 0 | ACX1: 0 | ACY1: 0 | ACZ1: 0 | ADA1: 0 | ADB1: 0 | ADC1: 0 | ADD1: 0 | ADE1: 0 | ADF1: 0 | ADG1: 0 | ADH1: 0 | ADI1: 0 | ADJ1: 0 | ADK1: 0 | ADL1: 0 | ADM1: 0 | ADN1: 0 | ADO1: 0 | ADP1: 0 | ADQ1: 0 | ADR1: 0 | ADS1: 0 | ADT1: 0 | ADU1: 0 | ADV1: 0 | ADW1: 0 | ADX1: 0 | ADY1: 0 | ADZ1: 0 | AEA1: 0 | AEB1: 0 | AEC1: 0 | AED1: 0 | AEE1: 0 | AEF1: 0 | AEG1: 0 | AEH1: 0 | AEI1: 0 | AEJ1: 0 | AEK1: 0 | AEL1: 0 | AEM1: 0 | AEN1: 0 | AEO1: 0 | AEP1: 0 | AEQ1: 0 | AER1: 0 | AES1: 0 | AET1: 0 | AEU1: 0 | AEV1: 0 | AEW1: 0 | AEX1: 0 | AEY1: 0 | AEZ1: 0 | AFA1: 0 | AFB1: 0 | AFC1: 0 | AFD1: 0 | AFE1: 0 | AFF1: 0 | AFG1: 0 | AFH1: 0 | AFI1: 0 | AFJ1: 0 | AFK1: 0 | AFL1: 0 | AFM1: 0 | AFN1: 0 | AFO1: 0 | AFP1: 0 | AFQ1: 0 | AFR1: 0 | AFS1: 0 | AFT1: 0 | AFU1: 0 | AFV1: 0 | AFW1: 0 | AFX1: 0 | AFY1: 0 | AFZ1: 0 | AGA1: 0 | AGB1: 0 | AGC1: 0 | AGD1: 0 | AGE1: 0 | AGF1: 0 | AGG1: 0 | AGH1: 0 | AGI1: 0 | AGJ1: 0 | AGK1: 0 | AGL1: 0 | AGM1: 0 | AGN1: 0 | AGO1: 0 | AGP1: 0 | AGQ1: 0 | AGR1: 0 | AGS1: 0 | AGT1: 0 | AGU1: 0 | AGV1: 0 | AGW1: 0 | AGX1: 0 | AGY1: 0 | AGZ1: 0 | AHA1: 0 | AHB1: 0 | AHC1: 0 | AHD1: 0 | AHE1: 0 | AHF1: 0 | AHG1: 0 | AHH1: 0 | AHI1: 0 | AHJ1: 0 | AHK1: 0 | AHL1: 0 | AHM1: 0 | AHN1: 0 | AHO1: 0 | AHP1: 0 | AHQ1: 0 | AHR1: 0 | AHS1: 0 | AHT1: 0 | AHU1: 0 | AHV1: 0 | AHW1: 0 | AHX1: 0 | AHY1: 0 | AHZ1: 0 | AIA1: 0 | AIB1: 0 | AIC1: 0 | AID1: 0 | AIE1: 0 | AIF1: 0 | AIG1: 0 | AIH1: 0 | AII1: 0 | AIJ1: 0 | AIK1: 0 | AIL1: 0 | AIM1: 0 | AIN1: 0 | AIO1: 0 | AIP1: 0 | AIQ1: 0 | AIR1: 0 | AIS1: 0 | AIT1: 0 | AIU1: 0 | AIV1: 0 | AIW1: 0 | AIX1: 0 | AIY1: 0 | AIZ1: 0 | AJA1: 0 | AJB1: 0 | AJC1: 0 | AJD1: 0 | AJE1: 0 | AJF1: 0 | AJG1: 0 | AJH1: 0 | AJI1: 0 | AJJ1: 0 | AJK1: 0 | AJL1: 0 | AJM1: 0 | AJN1: 0 | AJO1: 0 | AJP1: 0 | AJQ1: 0 | AJR1: 0 | AJS1: 0 | AJT1: 0 | AJU1: 0 | AJV1: 0 | AJW1: 0 | AJX1: 0 | AJY1: 0 | AJZ1: 0 | AKA1: 0 | AKB1: 0 | AKC1: 0 | AKD1: 0 | AKE1: 0 | AKF1: 0 | AKG1: 0 | AKH1: 0 | AKI1: 0 | AKJ1: 0 | AKK1: 0 | AKL1: 0 | AKM1: 0 | AKN1: 0 | AKO1: 0 | AKP1: 0 | AKQ1: 0 | AKR1: 0 | AKS1: 0 | AKT1: 0 | AKU1: 0 | AKV1: 0 | AKW1: 0 | AKX1: 0 | AKY1: 0 | AKZ1: 0 | ALA1: 0 | ALB1: 0 | ALC1: 0 | ALD1: 0 | ALE1: 0 | ALF1: 0 | ALG1: 0 | ALH1: 0 | ALI1: 0 | ALJ1: 0 | ALK1: 0 | ALL1: 0 | ALM1: 0 | ALN1: 0 | ALO1: 0 | ALP1: 0 | ALQ1: 0 | ALR1: 0 | ALS1: 0 | ALT1: 0 | ALU1: 0 | ALV1: 0 | ALW1: 0 | ALX1: 0 | ALY1: 0 | ALZ1: 0 | AMA1: 0 | AMB1: 0 | AMC1: 0 | AMD1: 0 | AME1: 0 | AMF1: 0 | AMG1: 0 | AMH1: 0 | AMI1: 0 | AMJ1: 0 | AMK1: 0 | AML1: 0 | AMM1: 0 | AMN1: 0 | AMO1: 0 | AMP1: 0 | AMQ1: 0 | AMR1: 0 | AMS1: 0 | AMT1: 0 | AMU1: 0 | AMV1: 0 | AMW1: 0 | AMX1: 0 | AMY1: 0 | AMZ1: 0 | ANA1: 0 | ANB1: 0 | ANC1: 0 | AND1: 0 | ANE1: 0 | ANF1: 0 | ANG1: 0 | ANH1: 0 | ANI1: 0 | ANJ1: 0 | ANK1: 0 | ANL1: 0 | ANM1: 0 | ANN1: 0 | ANO1: 0 | ANP1: 0 | ANQ1: 0 | ANR1: 0 | ANS1: 0 | ANT1: 0 | ANU1: 0 | ANV1: 0 | ANW1: 0 | ANX1: 0 | ANY1: 0 | ANZ1: 0 | AOA1: 0 | AOB1: 0 | AOC1: 0 | AOD1: 0 | AOE1: 0 | AOF1: 0 | AOG1: 0 | AOH1: 0 | AOI1: 0 | AOJ1: 0 | AOK1: 0 | AOL1: 0 | AOM1: 0 | AON1: 0 | AOO1: 0 | AOP1: 0 | AOQ1: 0 | AOR1: 0 | AOS1: 0 | AOT1: 0 | AOU1: 0 | AOV1: 0 | AOW1: 0 | AOX1: 0 | AOY1: 0 | AOZ1: 0 | APA1: 0 | APB1: 0 | APC1: 0 | APD1: 0 | APE1: 0 | APF1: 0 | APG1: 0 | APH1: 0 | API1: 0 | APJ1: 0 | APK1: 0 | APL1: 0 | APM1: 0 | APN1: 0 | APO1: 0 | APP1: 0 | APQ1: 0 | APR1: 0 | APS1: 0 | APT1: 0 | APU1: 0 | APV1: 0 | APW1: 0 | APX1: 0 | APY1: 0 | APZ1: 0 | AQA1: 0 | AQB1: 0 | AQC1: 0 | AQD1: 0 | AQE1: 0 | AQF1: 0 | AQG1: 0 | AQH1: 0 | AQI1: 0 | AQJ1: 0 | AQK1: 0 | AQL1: 0 | AQM1: 0 | AQN1: 0 | AQO1: 0 | AQP1: 0 | AQQ1: 0 | AQR1: 0 | AQS1: 0 | AQT1: 0 | AQU1: 0 | AQV1: 0 | AQW1: 0 | AQX1: 0 | AQY1: 0 | AQZ1: 0 | ARA1: 0 | ARB1: 0 | ARC1: 0 | ARD1: 0 | ARE1: 0 | ARF1: 0 | ARG1: 0 | ARH1: 0 | ARI1: 0 | ARJ1: 0 | ARK1: 0 | ARL1: 0 | ARM1: 0 | ARN1: 0 | ARO1: 0 | ARP1: 0 | ARQ1: 0 | ARR1: 0 | ARS1: 0 | ART1: 0 | ARU1: 0 | ARV1: 0 | ARW1: 0 | ARX1: 0 | ARY1: 0 | ARZ1: 0 | ASA1: 0 | ASB1: 0 | ASC1: 0 | ASD1: 0 | ASE1: 0 | ASF1: 0 | ASG1: 0 | ASH1: 0 | ASI1: 0 | ASJ1: 0 | ASK1: 0 | ASL1: 0 | ASM1: 0 | ASN1: 0 | ASO1: 0 | ASP1: 0 | ASQ1: 0 | ASR1: 0 | ASS1: 0 | AST1: 0 | ASU1: 0 | ASV1: 0 | ASW1: 0 | ASX1: 0 | ASY1: 0 | ASZ1: 0 | ATA1: 0 | ATB1: 0 | ATC1: 0 | ATD1: 0 | ATE1: 0 | ATF1: 0 | ATG1: 0 | ATH1: 0 | ATI1: 0 | ATJ1: 0 | ATK1: 0 | ATL1: 0 | ATM1: 0 | ATN1: 0 | ATO1: 0 | ATP1: 0 | ATQ1: 0 | ATR1: 0 | ATS1: 0 | ATT1: 0 | ATU1: 0 | ATV1: 0 | ATW1: 0 | ATX1: 0 | ATY1: 0 | ATZ1: 0 | AUA1: 0 | AUB1: 0 | AUC1: 0 | AUD1: 0 | AUE1: 0 | AUF1: 0 | AUG1: 0 | AUH1: 0 | AUI1: 0 | AUJ1: 0 | AUK1: 0 | AUL1: 0 | AUM1: 0 | AUN1: 0 | AUO1: 0 | AUP1: 0 | AUQ1: 0 | AUR1: 0 | AUS1: 0 | AUT1: 0 | AUU1: 0 | AUV1: 0 | AUW1: 0 | AUX1: 0 | AUY1: 0 | AUZ1: 0 | AVA1: 0 | AVB1: 0 | AVC1: 0 | AVD1: 0 | AVE1: 0 | AVF1: 0 | AVG1: 0 | AVH1: 0 | AVI1: 0 | AVJ1: 0 | AVK1: 0 | AVL1: 0 | AVM1: 0 | AVN1: 0 | AVO1: 0 | AVP1: 0 | AVQ1: 0 | AVR1: 0 | AVS1: 0 | AVT1: 0 | AVU1: 0 | AVV1: 0 | AVW1: 0 | AVX1: 0 | AVY1: 0 | AVZ1: 0 | AWA1: 0 | AWB1: 0 | AWC1: 0 | AWD1: 0 | AWE1: 0 | AWF1: 0 | AWG1: 0 | AWH1: 0 | AWI1: 0 | AWJ1: 0 | AWK1: 0 | AWL1: 0 | AWM1: 0 | AWN1: 0 | AWO1: 0 | AWP1: 0 | AWQ1: 0 | AWR1: 0 | AWS1: 0 | AWT1: 0 | AWU1: 0 | AWV1: 0 | AWW1: 0 | AWX1: 0 | AWY1: 0 | AWZ1: 0 | AXA1: 0 | AXB1: 0 | AXC1: 0 | AXD1: 0 | AXE1: 0 | AXF1: 0 | AXG1: 0 | AXH1: 0 | AXI1: 0 | AXJ1: 0 | AXK1: 0 | AXL1: 0 | AXM1: 0 | AXN1: 0 | AXO1: 0 | AXP1: 0 | AXQ1: 0 | AXR1: 0 | AXS1: 0 | AXT1: 0 | AXU1: 0 | AXV1: 0 | AXW1: 0 | AXX1: 0 | AXY1: 0 | AXZ1: 0 | AYA1: 0 | AYB1: 0 | AYC1: 0 | AYD1: 0 | AYE1: 0 | AYF1: 0 | AYG1: 0 | AYH1: 0 | AYI1: 0 | AYJ1: 0 | AYK1: 0 | AYL1: 0 | AYM1: 0 | AYN1: 0 | AYO1: 0 | AYP1: 0 | AYQ1: 0 | AYR1: 0 | AYS1: 0 | AYT1: 0 | AYU1: 0 | AYV1: 0 | AYW1: 0 | AYX1: 0 | AYY1: 0 | AYZ1: 0 | AZA1: 0 | AZB1: 0 | AZC1: 0 | AZD1: 0 | AZE1: 0 | AZF1: 0 | AZG1: 0 | AZH1: 0 | AZI1: 0 | AZJ1: 0 | AZK1: 0 | AZL1: 0 | AZM1: 0 | AZN1: 0 | AZO1: 0 | AZP1: 0 | AZQ1: 0 | AZR1: 0 | AZS1: 0 | AZT1: 0 | AZU1: 0 | AZV1: 0 | AZW1: 0 | AZX1: 0 | AZY1: 0 | AZZ1: 0 | BAA1: 0 | BAB1: 0 | BAC1: 0 | BAD1: 0 | BAE1: 0 | BAF1: 0 | BAG1: 0 | BAH1: 0 | BAI1: 0 | BAJ1: 0 | BAK1: 0 | BAL1: 0 | BAM1: 0 | BAN1: 0 | BAO1: 0 | BAP1: 0 | BAQ1: 0 | BAR1: 0 | BAS1: 0 | BAT1: 0 | BAU1: 0 | BAV1: 0 | BAW1: 0 | BAX1: 0 | BAY1: 0 | BAZ1: 0 | BBA1: 0 | BBB1: 0 | BBC1: 0 | BBD1: 0 | BBE1: 0 | BBF1: 0 | BBG1: 0 | BBH1: 0 | BBI1: 0 | BBJ1: 0 | BBK1: 0 | BBL1: 0 | BBM1: 0 | BBN1: 0 | BBO1: 0 | BBP1: 0 | BBQ1: 0 | BBR1: 0 | BBS1: 0 | BBT1: 0 | BBU1: 0 | BBV1: 0 | BBW1: 0 | BBX1: 0 | BBY1: 0 | BBZ1: 0 | BCA1: 0 | BCB1: 0 | BCC1: 0 | BCD1: 0 | BCE1: 0 | BCF1: 0 | BCG1: 0 | BCH1: 0 | BCI1: 0 | BCJ1: 0 | BCK1: 0 | BCL1: 0 | BCM1: 0 | BCN1: 0 | BCO1: 0 | BCP1: 0 | BCQ1: 0 | BCR1: 0 | BCS1: 0 | BCT1: 0 | BCU1: 0 | BCV1: 0 | BCW1: 0 | BCX1: 0 | BCY1: 0 | BCZ1: 0 | BDA1: 0 | BDB1: 0 | BDC1: 0 | BDD1: 0 | BDE1: 0 | BDF1: 0 | BDG1: 0 | BDH1: 0 | BDI1: 0 | BDJ1: 0 | BDK1: 0 | BDL1: 0 | BDM1: 0 | BDN1: 0 | BDO1: 0 | BDP1: 0 | BDQ1: 0 | BDR1: 0 | BDS1: 0 | BDT1: 0 | BDU1: 0 | BDV1: 0 | BDW1: 0 | BDX1: 0 | BDY1: 0 | BDZ1: 0 | BEA1: 0 | BEB1: 0 | BEC1: 0 | BED1: 0 | BEE1: 0 | BEF1: 0 | BEG1: 0 | BEH1: 0 | BEI1: 0 | BEJ1: 0 | BEK1: 0 | BEL1: 0 | BEM1: 0 | BEN1: 0 | BEO1: 0 | BEP1: 0 | BEQ1: 0 | BER1: 0 | BES1: 0 | BET1: 0 | BEU1: 0 | BEV1: 0 | BEW1: 0 | BEX1: 0 | BEY1: 0 | BEZ1: 0 | BFA1: 0 | BFB1: 0 | BFC1: 0 | BFD1: 0 | BFE1: 0 | BFF1: 0 | BFG1: 0 | BFH1: 0 | BFI1: 0 | BFJ1: 0 | BFK1: 0 | BFL1: 0 | BFM1: 0 | BFN1: 0 | BFO1: 0 | BFP1: 0 | BFQ1: 0 | BFR1: 0 | BFS1: 0 | BFT1: 0 | BFU1: 0 | BFV1: 0 | BFW1: 0 | BFX1: 0 | BFY1: 0 | BFZ1: 0 | BGA1: 0 | BGB1: 0 | BGC1: 0 | BGD1: 0 | BGE1: 0 | BGF1: 0 | BGG1: 0 | BGH1: 0 | BGI1: 0 | BGJ1: 0 | BGK1: 0 | BGL1: 0 | BGM1: 0 | BGN1: 0 | BGO1: 0 | BGP1: 0 | BGQ1: 0 | BGR1: 0 | BGS1: 0 | BGT1: 0 | BGU1: 0 | BGV1: 0 | BGW1: 0 | BGX1: 0 | BGY1: 0 | BGZ1: 0 | BHA1: 0 | BHB1: 0 | BHC1: 0 | BHD1: 0 | BHE1: 0 | BHF1: 0 | BHG1: 0 | BHH1: 0 | BHI1: 0 | BHJ1: 0 | BHK1: 0 | BHL1: 0 | BHM1: 0 | BHN1: 0 | BHO1: 0 | BHP1: 0 | BHQ1: 0 | BHR1: 0 | BHS1: 0 | BHT1: 0 | BHU1: 0 | BHV1: 0 | BHW1: 0 | BHX1: 0 | BHY1: 0 | BHZ1: 0 | BIA1: 0 | BIB1: 0 | BIC1: 0 | BID1: 0 | BIE1: 0 | BIF1: 0 | BIG1: 0 | BIH1: 0 | BII1: 0 | BIJ1: 0 | BIK1: 0 | BIL1: 0 | BIM1: 0 | BIN1: 0 | BIO1: 0 | BIP1: 0 | BIQ1: 0 | BIR1: 0 | BIS1: 0 | BIT1: 0 | BIU1: 0 | BIV1: 0 | BIW1: 0 | BIX1: 0 | BIY1: 0 | BIZ1: 0 | BJA1: 0 | BJB1: 0 | BJC1: 0 | BJD1: 0 | BJE1: 0 | BJF1: 0 | BJG1: 0 | BJH1: 0 | BJI1: 0 | BJJ1: 0 | BJK1: 0 | BJL1: 0 | BJM1: 0 | BJN1: 0 | BJO1: 0 | BJP1: 0 | BJQ1: 0 | BJR1: 0 | BJS1: 0 | BJT1: 0 | BJU1: 0 | BJV1: 0 | BJW1: 0 | BJX1: 0 | BJY1: 0 | BJZ1: 0 | BKA1: 0 | BKB1: 0 | BKC1: 0 | BKD1: 0 | BKE1: 0 | BKF1: 0 | BKG1: 0 | BKH1: 0 | BKI1: 0 | BKJ1: 0 | BKK1: 0 | BKL1: 0 | BKM1: 0 | BKN1: 0 | BKO1: 0 | BKP1: 0 | BKQ1: 0 | BKR1: 0 | BKS1: 0 | BKT1: 0 | BKU1: 0 | BKV1: 0 | BKW1: 0 | BKX1: 0 | BKY1: 0 | BKZ1: 0 | BLA1: 0 | BLB1: 0 | BLC1: 0 | BLD1: 0 | BLE1: 0 | BLF1: 0 | BLG1: 0 | BLH1: 0 | BLI1: 0 | BLJ1: 0 | BLK1: 0 | BLL1: 0 | BLM1: 0 | BLN1: 0 | BLO1: 0 | BLP1: 0 | BLQ1: 0 | BLR1: 0 | BLS1: 0 | BLT1: 0 | BLU1: 0 | BLV1: 0 | BLW1: 0 | BLX1: 0 | BLY1: 0 | BLZ1: 0 | BMA1: 0 | BMB1: 0 | BMC1: 0 | BMD1: 0 | BME1: 0 | BMF1: 0 | BMG1: 0 | BMH1: 0 | BMI1: 0 | BMJ1: 0 | BMK1: 0 | BML1: 0 | BMM1: 0 | BMN1: 0 | BMO1: 0 | BMP1: 0 | BMQ1: 0 | BMR1: 0 | BMS1: 0 | BMT1: 0 | BMU1: 0 | BMV1: 0 | BMW1: 0 | BMX1: 0 | BMY1: 0 | BMZ1: 0 | BNA1: 0 | BNB1: 0 | BNC1: 0 | BND1: 0 | BNE1: 0 | BNF1: 0 | BNG1: 0 | BNH1: 0 | BNI1: 0 | BNJ1: 0 | BNK1: 0 | BNL1: 0 | BNM1: 0 | BNN1: 0 | BNO1: 0 | BNP1: 0 | BNQ1: 0 | BNR1: 0 | BNS1: 0 | BNT1: 0 | BNU1: 0 | BNV1: 0 | BNW1: 0 | BNX1: 0 | BNY1: 0 | BNZ1: 0 | BOA1: 0 | BOB1: 0 | BOC1: 0 | BOD1: 0 | BOE1: 0 | BOF1: 0 | BOG1: 0 | BOH1: 0 | BOI1: 0 | BOJ1: 0 | BOK1: 0 | BOL1: 0 | BOM1: 0 | BON1: 0 | BOO1: 0 | BOP1: 0 | BOQ1: 0 | BOR1: 0 | BOS1: 0 | BOT1: 0 | BOU1: 0 | BOV1: 0 | BOW1: 0 | BOX1: 0 | BOY1: 0 | BOZ1: 0 | BPA1: 0 | BPB1: 0 | BPC1: 0 | BPD1: 0 | BPE1: 0 | BPF1: 0 | BPG1: 0 | BPH1: 0 | BPI1: 0 | BPJ1: 0 | BPK1: 0 | BPL1: 0 | BPM1: 0 | BPN1: 0 | BPO1: 0 | BPP1: 0 | BPQ1: 0 | BPR1: 0 | BPS1: 0 | BPT1: 0 | BPU1: 0 | BPV1: 0 | BPW1: 0 | BPX1: 0 | BPY1: 0 | BPZ1: 0 | BQA1: 0 | BQB1: 0 | BQC1: 0 | BQD1: 0 | BQE1: 0 | BQF1: 0 | BQG1: 0 | BQH1: 0 | BQI1: 0 | BQJ1: 0 | BQK1: 0 | BQL1: 0 | BQM1: 0 | BQN1: 0 | BQO1: 0 | BQP1: 0 | BQQ1: 0 | BQR1: 0 | BQS1: 0 | BQT1: 0 | BQU1: 0 | BQV1: 0 | BQW1: 0 | BQX1: 0 | BQY1: 0 | BQZ1: 0 | BRA1: 0 | BRB1: 0 | BRC1: 0 | BRD1: 0 | BRE1: 0 | BRF1: 0 | BRG1: 0 | BRH1: 0 | BRI1: 0 | BRJ1: 0 | BRK1: 0 | BRL1: 0 | BRM1: 0 | BRN1: 0 | BRO1: 0 | BRP1: 0 | BRQ1: 0 | BRR1: 0 | BRS1: 0 | BRT1: 0 | BRU1: 0 | BRV1: 0 | BRW1: 0 | BRX1: 0 | BRY1: 0 | BRZ1: 0 | BSA1: 0 | BSB1: 0 | BSC1: 0 | BSD1: 0 | BSE1: 0 | BSF1: 0 | BSG1: 0 | BSH1: 0 | BSI1: 0 | BSJ1: 0 | BSK1: 0 | BSL1: 0 | BSM1: 0 | BSN1: 0 | BSO1: 0 | BSP1: 0 | BSQ1: 0 | BSR1: 0 | BSS1: 0 | BST1: 0 | BSU1: 0 | BSV1: 0 | BSW1: 0 | BSX1: 0 | BSY1: 0 | BSZ1: 0 | BTA1: 0 | BTB1: 0 | BTC1: 0 | BTD1: 0 | BTE1: 0 | BTF1: 0 | BTG1: 0 | BTH1: 0 | BTI1: 0 | BTJ1: 0 | BTK1: 0 | BTL1: 0 | BTM1: 0 | BTN1: 0 | BTO1: 0 | BTP1: 0 | BTQ1: 0 | BTR1: 0 | BTS1: 0 | BTT1: 0 | BTU1: 0 | BTV1: 0 | BTW1: 0 | BTX1: 0 | BTY1: 0 | BTZ1: 0 | BUA1: 0 | BUB1: 0 | BUC1: 0 | BUD1: 0 | BUE1: 0 | BUF1: 0 | BUG1: 0 | BUH1: 0 | BUI1: 0 | BUJ1: 0 | BUK1: 0 | BUL1: 0 | BUM1: 0 | BUN1: 0 | BUO1: 0 | BUP1: 0 | BUQ1: 0 | BUR1: 0 | BUS1: 0 | BUT1: 0 | BUU1: 0 | BUV1: 0 | BUW1: 0 | BUX1: 0 | BUY1: 0 | BUZ1: 0 | BVA1: 0 | BVB1: 0 | BVC1: 0 | BVD1: 0 | BVE1: 0 | BVF1: 0 | BVG1: 0 | BVH1: 0 | BVI1: 0 | BVJ1: 0 | BVK1: 0 | BVL1: 0 | BVM1: 0 | BVN1: 0 | BVO1: 0 | BVP1: 0 | BVQ1: 0 | BVR1: 0 | BVS1: 0 | BVT1: 0 | BVU1: 0 | BVV1: 0 | BVW1: 0 | BVX1: 0 | BVY1: 0 | BVZ1: 0 | BWA1: 0 | BWB1: 0 | BWC1: 0 | BWD1: 0 | BWE1: 0 | BWF1: 0 | BWG1: 0 | BWH1: 0 | BWI1: 0 | BWJ1: 0 | BWK1: 0 | BWL1: 0 | BWM1: 0 | BWN1: 0 | BWO1: 0 | BWP1: 0 | BWQ1: 0 | BWR1: 0 | BWS1: 0 | BWT1: 0 | BWU1: 0 | BWV1: 0 | BWW1: 0 | BWX1: 0 | BWY1: 0 | BWZ1: 0 | BXA1: 0 | BXB1: 0 | BXC1: 0 | BXD1: 0 | BXE1: 0 | BXF1: 0 | BXG1: 0 | BXH1: 0 | BXI1: 0 | BXJ1: 0 | BXK1: 0 | BXL1: 0 | BXM1: 0 | BXN1: 0 | BXO1: 0 | BXP1: 0 | BXQ1: 0 | BXR1: 0 | BXS1: 0 | BXT1: 0 | BXU1: 0 | BXV1: 0 | BXW1: 0 | BXX1: 0 | BXY1: 0 | BXZ1: 0 | BYA1: 0 | BYB1: 0 | BYC1: 0 | BYD1: 0 | BYE1: 0 | BYF1: 0 | BYG1: 0 | BYH1: 0 | BYI1: 0 | BYJ1: 0 | BYK1: 0 | BYL1: 0 | BYM1: 0 | BYN1: 0 | BYO1: 0 | BYP1: 0 | BYQ1: 0 | BYR1: 0 | BYS1: 0 | BYT1: 0 | BYU1: 0 | BYV1: 0 | BYW1: 0 | BYX1: 0 | BYY1: 0 | BYZ1: 0 | BZA1: 0 | BZB1: 0 | BZC1: 0 | BZD1: 0 | BZE1: 0 | BZF1: 0 | BZG1: 0 | BZH1: 0 | BZI1: 0 | BZJ1: 0 | BZK1: 0 | BZL1: 0 | BZM1: 0 | BZN1: 0 | BZO1: 0 | BZP1: 0 | BZQ1: 0 | BZR1: 0 | BZS1: 0 | BZT1: 0 | BZU1: 0 | BZV1: 0 | BZW1: 0 | BZX1: 0 | BZY1: 0 | BZZ1: 0 | CAA1: 0 | CAB1: 0 | CAC1: 0 | CAD1: 0 | CAE1: 0 | CAF1: 0 | CAG1: 0 | CAH1: 0 | CAI1: 0 | CAJ1: 0 | CAK1: 0 | CAL1: 0 | CAM1: 0 | CAN1: 0 | CAO1: 0 | CAP1: 0 | CAQ1: 0 | CAR1: 0 | CAS1: 0 | CAT1: 0 | CAU1: 0 | CAV1: 0 | CAW1: 0 | CAX1: 0 | CAY1: 0 | CAZ1: 0 | CBA1: 0 | CBB1: 0 | CBC1: 0 | CBD1: 0 | CBE1: 0 | CBF1: 0 | CBG1: 0 | CBH1: 0 | CBI1: 0 | CBJ1: 0 | CBK1: 0 | CBL1: 0 | CBM1: 0 | CBN1: 0 | CBO1: 0 | CBP1: 0 | CBQ1: 0 | CBR1: 0 | CBS1: 0 | CBT1: 0 | CBU1: 0 | CBV1: 0 | CBW1: 0 | CBX1: 0 | CBY1: 0 | CBZ1: 0 | CCA1: 0 | CCB1: 0 | CCC1: 0 | CCD1: 0 | CCE1: 0 | CCF1: 0 | CCG1: 0 | CCH1: 0 | CCI1: 0 | CCJ1: 0 | CCK1: 0 | CCL1: 0 | CCM1: 0 | CCN1: 0 | CCO1: 0 | CCP1: 0 | CCQ1: 0 | CCR1: 0 | CCS1: 0 | CCT1: 0 | CCU1: 0 | CCV1: 0 | CCW1: 0 | CCX1: 0 | CCY1: 0 | CCZ1: 0 | CDA1: 0 | CDB1: 0 | CDC1: 0 | CDD1: 0 | CDE1: 0 | CDF1: 0 | CDG1: 0 | CDH1: 0 | CDI1: 0 | CDJ1: 0 | CDK1: 0 | CDL1: 0 | CDM1: 0 | CDN1: 0 | CDO1: 0 | CDP1: 0 | CDQ1: 0 | CDR1: 0 | CDS1: 0 | CDT1: 0 | CDU1: 0 | CDV1: 0 | CDW1: 0 | CDX1: 0 | CDY1: 0 | CDZ1: 0 | CEA1: 0 | CEB1: 0 | CEC1: 0 | CED1: 0 | CEE1: 0 | CEF1: 0 | CEG1: 0 | CEH1: 0 | CEI1: 0 | CEJ1: 0 | CEK1: 0 | CEL1: 0 | CEM1: 0 | CEN1: 0 | CEO1: 0 | CEP1: 0 | CEQ1: 0 | CER1: 0 | CES1: 0 | CET1: 0 | CEU1: 0 | CEV1: 0 | CEW1: 0 | CEX1: 0 | CEY1: 0 | CEZ1: 0 | CFA1: 0 | CFB1: 0 | CFC1: 0 | CFD1: 0 | CFE1: 0 | CFF1: 0 | CFG1: 0 | CFH1: 0 | CFI1: 0 | CFJ1: 0 | CFK1: 0 | CFL1: 0 | CFM1: 0 | CFN1: 0 | CFO1: 0 | CFP1: 0 | CFQ1: 0 | CFR1: 0 | CFS1: 0 | CFT1: 0 | CFU1: 0 | CFV1: 0 | CFW1: 0 | CFX1: 0 | CFY1: 0 | CFZ1: 0 | CGA1: 0 | CGB1: 0 | CGC1: 0 | CGD1: 0 | CGE1: 0 | CGF1: 0 | CGG1: 0 | CGH1: 0 | CGI1: 0 | CGJ1: 0 | CGK1: 0 | CGL1: 0 | CGM1: 0 | CGN1: 0 | CGO1: 0 | CGP1: 0 | CGQ1: 0 | CGR1: 0 | CGS1: 0 | CGT1: 0 | CGU1: 0 | CGV1: 0 | CGW1: 0 | CGX1: 0 | CGY1: 0 | CGZ1: 0 | CHA1: 0 | CHB1: 0 | CHC1: 0 | CHD1: 0 | CHE1: 0 | CHF1: 0 | CHG1: 0 | CHH1: 0 | CHI1: 0 | CHJ1: 0 | CHK1: 0 | CHL1: 0 | CHM1: 0 | CHN1: 0 | CHO1: 0 | CHP1: 0 | CHQ1: 0 | CHR1: 0 | CHS1: 0 | CHT1: 0 | CHU1: 0 | CHV1: 0 | CHW1: 0 | CHX1: 0 | CHY1: 0 | CHZ1: 0 | CIA1: 0 | CIB1: 0 | CIC1: 0 | CID1: 0 | CIE1: 0 | CIF1: 0 | CIG1: 0 | CIH1: 0 | CII1: 0 | CIJ1: 0 | CIK1: 0 | CIL1: 0 | CIM1: 0 | CIN1: 0 | CIO1: 0 | CIP1: 0 | CIQ1: 0 | CIR1: 0 | CIS1: 0 | CIT1: 0 | CIU1: 0 | CIV1: 0 | CIW1: 0 | CIX1: 0 | CIY1: 0 | CIZ1: 0 | CJA1: 0 | CJB1: 0 | CJC1: 0 | CJD1: 0 | CJE1: 0 | CJF1: 0 | CJG1: 0 | CJH1: 0 | CJI1: 0 | CJJ1: 0 | CJK1: 0 | CJL1: 0 | CJM1: 0 | CJN1: 0 | CJO1: 0 | CJP1: 0 | CJQ1: 0 | CJR1: 0 | CJS1: 0 | CJT1: 0 | CJU1: 0 | CJV1: 0 | CJW1: 0 | CJX1: 0 | CJY1: 0 | CJZ1: 0 | CKA1: 0 | CKB1: 0 | CKC1: 0 | CKD1: 0 | CKE1: 0 | CKF1: 0 | CKG1: 0 | CKH1: 0 | CKI1: 0 | CKJ1: 0 | CKK1: 0 | CKL1: 0 | CKM1: 0 | CKN1: 0 | CKO1: 0 | CKP1: 0 | CKQ1: 0 | CKR1: 0 | CKS1: 0 | CKT1: 0 | CKU1: 0 | CKV1: 0 | CKW1: 0 | CKX1: 0 | CKY1: 0 | CKZ1: 0 | CLA1: 0 | CLB1: 0 | CLC1: 0 | CLD1: 0 | CLE1: 0 | CLF1: 0 | CLG1: 0 | CLH1: 0 | CLI1: 0 | CLJ1: 0 | CLK1: 0 | CLL1: 0 | CLM1: 0 | CLN1: 0 | CLO1: 0 | CLP1: 0 | CLQ1: 0 | CLR1: 0 | CLS1: 0 | CLT1: 0 | CLU1: 0 | CLV1: 0 | CLW1: 0 | CLX1: 0 | CLY1: 0 | CLZ1: 0 | CMA1: 0 | CMB1: 0 | CMC1: 0 | CMD1: 0 | CME1: 0 | CMF1: 0 | CMG1: 0 | CMH1: 0 | CMI1: 0 | CMJ1: 0 | CMK1: 0 | CML1: 0 | CMM1: 0 | CMN1: 0 | CMO1: 0 | CMP1: 0 | CMQ1: 0 | CMR1: 0 | CMS1: 0 | CMT1: 0 | CMU1: 0 | CMV1: 0 | CMW1: 0 | CMX1: 0 | CMY1: 0 | CMZ1: 0 | CNA1: 0 | CNB1: 0 | CNC1: 0 | CND1: 0 | CNE1: 0 | CNF1: 0 | CNG1: 0 | CNH1: 0 | CNI1: 0 | CNJ1: 0 | CNK1: 0 | CNL1: 0 | CNM1: 0 | CNN1: 0 | CNO1: 0 | CNP1: 0 | CNQ1: 0 | CNR1: 0 | CNS1: 0 | CNT1: 0 | CNU1: 0 | CNV1: 0 | CNW1: 0 | CNX1: 0 | CNY1: 0 | CNZ1: 0 | COA1: 0 | COB1: 0 | COC1: 0 | COD1: 0 | COE1: 0 | COF1: 0 | COG1: 0 | COH1: 0 | COI1: 0 | COJ1: 0 | COK1: 0 | COL1: 0 | COM1: 0 | CON1: 0 | COO1: 0 | COP1: 0 | COQ1: 0 | COR1: 0 | COS1: 0 | COT1: 0 | COU1: 0 | COV1: 0 | COW1: 0 | COX1: 0 | COY1: 0 | COZ1: 0 | CPA1: 0 | CPB1: 0 | CPC1: 0 | CPD1: 0 | CPE1: 0 | CPF1: 0 | CPG1: 0 | CPH1: 0 | CPI1: 0 | CPJ1: 0 | CPK1: 0 | CPL1: 0 | CPM1: 0 | CPN1: 0 | CPO1: 0 | CPP1: 0 | CPQ1: 0 | CPR1: 0 | CPS1: 0 | CPT1: 0 | CPU1: 0 | CPV1: 0 | CPW1: 0 | CPX1: 0 | CPY1: 0 | CPZ1: 0 | CQA1: 0 | CQB1: 0 | CQC1: 0 | CQD1: 0 | CQE1: 0 | CQF1: 0 | CQG1: 0 | CQH1: 0 | CQI1: 0 | CQJ1: 0 | CQK1: 0 | CQL1: 0 | CQM1: 0 | CQN1: 0 | CQO1: 0 | CQP1: 0 | CQQ1: 0 | CQR1: 0 | CQS1: 0 | CQT1: 0 | CQU1: 0 | CQV1: 0 | CQW1: 0 | CQX1: 0 | CQY1: 0 | CQZ1: 0 | CRA1: 0 | CRB1: 0 | CRC1: 0 | CRD1: 0 | CRE1: 0 | CRF1: 0 | CRG1: 0 | CRH1: 0 | CRI1: 0 | CRJ1: 0 | CRK1: 0 | CRL1: 0 | CRM1: 0 | CRN1: 0 | CRO1: 0 | CRP1: 0 | CRQ1: 0 | CRR1: 0 | CRS1: 0 | CRT1: 0 | CRU1: 0 | CRV1: 0 | CRW1: 0 | CRX1: 0 | CRY1: 0 | CRZ1: 0 | CSA1: 0 | CSB1: 0 | CSC1: 0 | CSD1: 0 | CSE1: 0 | CSF1: 0 | CSG1: 0 | CSH1: 0 | CSI1: 0 | CSJ1: 0 | CSK1: 0 | CSL1: 0 | CSM1: 0 | CSN1: 0 | CSO1: 0 | CSP1: 0 | CSQ1: 0 | CSR1: 0 | CSS1: 0 | CST1: 0 | CSU1: 0 | CSV1: 0 | CSW1: 0 | CSX1: 0 | CSY1: 0 | CSZ1: 0 | CTA1: 0 | CTB1: 0 | CTC1: 0 | CTD1: 0 | CTE1: 0 | CTF1: 0 | CTG1: 0 | CTH1: 0 | CTI1: 0 | CTJ1: 0 | CTK1: 0 | CTL1: 0 | CTM1: 0 | CTN1: 0 | CTO1: 0 | CTP1: 0 | CTQ1: 0 | CTR1: 0 | CTS1: 0 | CTT1: 0 | CTU1: 0 | CTV1: 0 | CTW1: 0 | CTX1: 0 | CTY1: 0 | CTZ1: 0 | CUA1: 0 | CUB1: 0 | CUC1: 0 | CUD1: 0 | CUE1: 0 | CUF1: 0 | CUG1: 0 | CUH1: 0 | CUI1: 0 | CUJ1: 0 | CUK1: 0 | CUL1: 0 | CUM1: 0 | CUN1: 0 | CUO1: 0 | CUP1: 0 | CUQ1: 0 | CUR1: 0 | CUS1: 0 | CUT1: 0 | CUU1: 0 | CUV1: 0 | CUW1: 0 | CUX1: 0 | CUY1: 0 | CUZ1: 0 | CVA1: 0 | CVB1: 0 | CVC1: 0 | CVD1: 0 | CVE1: 0 | CVF1: 0 | CVG1: 0 | CVH1: 0 | CVI1: 0 | CVJ1: 0 | CVK1: 0 | CVL1: 0 | CVM1: 0 | CVN1: 0 | CVO1: 0 | CVP1: 0 | CVQ1: 0 | CVR1: 0 | CVS1: 0 | CVT1: 0 | CVU1: 0 | CVV1: 0 | CVW1: 0 | CVX1: 0 | CVY1: 0 | CVZ1: 0 | CWA1: 0 | CWB1: 0 | CWC1: 0 | CWD1: 0 | CWE1: 0 | CWF1: 0 | CWG1: 0 | CWH1: 0 | CWI1: 0 | CWJ1: 0 | CWK1: 0 | CWL1: 0 | CWM1: 0 | CWN1: 0 | CWO1: 0 | CWP1: 0 | CWQ1: 0 | CWR1: 0 | CWS1: 0 | CWT1: 0 | CWU1: 0 | CWV1: 0 | CWW1: 0 | CWX1: 0 | CWY1: 0 | CWZ1: 0 | CXA1: 0 | CXB1: 0 | CXC1: 0 | CXD1: 0 | CXE1: 0 | CXF1: 0 | CXG1: 0 | CXH1: 0 | CXI1: 0 | CXJ1: 0 | CXK1: 0 | CXL1: 0 | CXM1: 0 | CXN1: 0 | CXO1: 0 | CXP1: 0 | CXQ1: 0 | CXR1: 0 | CXS1: 0 | CXT1: 0 | CXU1: 0 | CXV1: 0 | CXW1: 0 | CXX1: 0 | CXY1: 0 | CXZ1: 0 | CYA1: 0 | CYB1: 0 | CYC1: 0 | CYD1: 0 | CYE1: 0 | CYF1: 0 | CYG1: 0 | CYH1: 0 | CYI1: 0 | CYJ1: 0 | CYK1: 0 | CYL1: 0 | CYM1: 0 | CYN1: 0 | CYO1: 0 | CYP1: 0 | CYQ1: 0 | CYR1: 0 | CYS1: 0 | CYT1: 0 | CYU1: 0 | CYV1: 0 | CYW1: 0 | CYX1: 0 | CYY1: 0 | CYZ1: 0 | CZA1: 0 | CZB1: 0 | CZC1: 0 | CZD1: 0 | CZE1: 0 | CZF1: 0 | CZG1: 0 | CZH1: 0 | CZI1: 0 | CZJ1: 0 | CZK1: 0 | CZL1: 0 | CZM1: 0 | CZN1: 0 | CZO1: 0 | CZP1: 0 | CZQ1: 0 | CZR1: 0 | CZS1: 0 | CZT1: 0 | CZU1: 0 | CZV1: 0 | CZW1: 0 | CZX1: 0 | CZY1: 0 | CZZ1: 0 | DAA1: 0 | DAB1: 0 | DAC1: 0 | DAD1: 0 | DAE1: 0 | DAF1: 0 | DAG1: 0 | DAH1: 0 | DAI1: 0 | DAJ1: 0 | DAK1: 0 | DAL1: 0 | DAM1: 0 | DAN1: 0 | DAO1: 0 | DAP1: 0 | DAQ1: 0 | DAR1: 0 | DAS1: 0 | DAT1: 0 | DAU1: 0 | DAV1: 0 | DAW1: 0 | DAX1: 0 | DAY1: 0 | DAZ1: 0 | DBA1: 0 | DBB1: 0 | DBC1: 0 | DBD1: 0 | DBE1: 0 | DBF1: 0 | DBG1: 0 | DBH1: 0 | DBI1: 0 | DBJ1: 0 | DBK1: 0 | DBL1: 0 | DBM1: 0 | DBN1: 0 | DBO1: 0 | DBP1: 0 | DBQ1: 0 | DBR1: 0 | DBS1: 0 | DBT1: 0 | DBU1: 0 | DBV1: 0 | DBW1: 0 | DBX1: 0 | DBY1: 0 | DBZ1: 0 | DCA1: 0 | DCB1: 0 | DCC1: 0 | DCD1: 0 | DCE1: 0 | DCF1: 0 | DCG1: 0 | DCH1: 0 | DCI1: 0 | DCJ1: 0 | DCK1: 0 | DCL1: 0 | DCM1: 0 | DCN1: 0 | DCO1: 0 | DCP1: 0 | DCQ1: 0 | DCR1: 0 | DCS1: 0 | DCT1: 0 | DCU1: 0 | DCV1: 0 | DCW1: 0 | DCX1: 0 | DCY1: 0 | DCZ1: 0 | DDA1: 0 | DDB1: 0 | DDC1: 0 | DDD1: 0 | DDE1: 0 | DDF1: 0 | DDG1: 0 | DDH1: 0 | DDI1: 0 | DDJ1: 0 | DDK1: 0 | DDL1: 0 | DDM1: 0 | DDN1: 0 | DDO1: 0 | DDP1: 0 | DDQ1: 0 | DDR1: 0 | DDS1: 0 | DDT1: 0 | DDU1: 0 | DDV1: 0 | DDW1: 0 | DDX1: 0 | DDY1: 0 | DDZ1: 0 | DEA1: 0 | DEB1: 0 | DEC1: 0 | DED1: 0 | DEE1: 0 | DEF1: 0 | DEG1: 0 | DEH1: 0 | DEI1: 0 | DEJ1: 0 | DEK1: 0 | DEL1: 0 | DEM1: 0 | DEN1: 0 | DEO1: 0 | DEP1: 0 | DEQ1: 0 | DER1: 0 | DES1: 0 | DET1: 0 | DEU1: 0 | DEV1: 0 | DEW1: 0 | DEX1: 0 | DEY1: 0 | DEZ1: 0 | DFA1: 0 | DFB1: 0 | DFC1: 0 | DFD1: 0 | DFE1: 0 | DFF1: 0 | DFG1: 0 | DFH1: 0 | DFI1: 0 | DFJ1: 0 | DFK1: 0 | DFL1: 0 | DFM1: 0 | DFN1: 0 | DFO1: 0 | DFP1: 0 | DFQ1: 0 | DFR1: 0 | DFS1: 0 | DFT1: 0 | DFU1: 0 | DFV1: 0 | DFW1: 0 | DFX1: 0 | DFY1: 0 | DFZ1: 0 | DGA1: 0 | DGB1: 0 | DGC1: 0 | DGD1: 0 | DGE1: 0 | DGF1: 0 | DGG1: 0 | DGH1: 0 | DGI1: 0 | DGJ1: 0 | DGK1: 0 | DGL1: 0 | DGM1: 0 | DGN1: 0 | DGO1: 0 | DGP1: 0 | DGQ1: 0 | DGR1: 0 | DGS1: 0 | DGT1: 0 | DGU1: 0 | DGV1: 0 | DGW1: 0 | DGX1: 0 | DGY1: 0 | DGZ1: 0 | DHA1: 0 | DHB1: 0 | DHC1: 0 | DHD1: 0 | DHE1: 0 | DHF1: 0 | DHG1: 0 | DHH1: 0 | DHI1: 0 | DHJ1: 0 | DHK1: 0 | DHL1: 0 | DHM1: 0 | DHN1: 0 | DHO1: 0 | DHP1: 0 | DHQ1: 0 | DHR1: 0 | DHS1: 0 | DHT1: 0 | DHU1: 0 | DHV1: 0 | DHW1: 0 | DHX1: 0 | DHY1: 0 | DHZ1: 0 | DIA1: 0 | DIB1: 0 | DIC1: 0 | DID1: 0 | DIE1: 0 | DIF1: 0 | DIG1: 0 | DIH1: 0 | DII1: 0 | DIJ1: 0 | DIK1: 0 | DIL1: 0 | DIM1: 0 | DIN1: 0 | DIO1: 0 | DIP1: 0 | DIQ1: 0 | DIR1: 0 | DIS1: 0 | DIT1: 0 | DIU1: 0 | DIV1: 0 | DIW1: 0 | DIX1: 0 | DIY1: 0 | DIZ1: 0 | DJA1: 0 | DJB1: 0 | DJC1: 0 | DJD1: 0 | DJE1: 0 | DJF1: 0 | DJG1: 0 | DJH1: 0 | DJI1: 0 | DJJ1: 0 | DJK1: 0 | DJL1: 0 | DJM1: 0 | DJN1: 0 | DJO1: 0 | DJP1: 0 | DJQ1: 0 | DJR1: 0 | DJS1: 0 | DJT1: 0 | DJU1: 0 | DJV1: 0 | DJW1: 0 | DJX1: 0 | DJY1: 0 | DJZ1: 0 | DKA1: 0 | DKB1: 0 | DKC1: 0 | DKD1: 0 | DKE1: 0 | DKF1: 0 | DKG1: 0 | DKH1: 0 | DKI1: 0 | DKJ1: 0 | DKK1: 0 | DKL1: 0 | DKM1: 0 | DKN1: 0 | DKO1: 0 | DKP1: 0 | DKQ1: 0 | DKR1: 0 | DKS1: 0 | DKT1: 0 | DKU1: 0 | DKV1: 0 | DKW1: 0 | DKX1: 0 | DKY1: 0 | DKZ1: 0 | DLA1: 0 | DLB1: 0 | DLC1: 0 | DLD1: 0 | DLE1: 0 | DLF1: 0 | DLG1: 0 | DLH1: 0 | DLI1: 0 | DLJ1: 0 | DLK1: 0 | DLL1: 0 | DLM1: 0 | DLN1: 0 | DLO1: 0 | DLP1: 0 | DLQ1: 0 | DLR1: 0 | DLS1: 0 | DLT1: 0 | DLU1: 0 | DLV1: 0 | DLW1: 0 | DLX1: 0 | DLY1: 0 | DLZ1: 0 | DMA1: 0 | DMB1: 0 | DMC1: 0 | DMD1: 0 | DME1: 0 | DMF1: 0 | DMG1: 0 | DMH1: 0 | DMI1: 0 | DMJ1: 0 | DMK1: 0 | DML1: 0 | DMM1: 0 | DMN1: 0 | DMO1: 0 | DMP1: 0 | DMQ1: 0 | DMR1: 0 | DMS1: 0 | DMT1: 0 | DMU1: 0 | DMV1: 0 | DMW1: 0 | DMX1: 0 | DMY1: 0 | DMZ1: 0 | DNA1: 0 | DNB1: 0 | DNC1: 0 | DND1: 0 | DNE1: 0 | DNF1: 0 | DNG1: 0 | DNH1: 0 | DNI1: 0 | DNJ1: 0 | DNK1: 0 | DNL1: 0 | DNM1: 0 | DNN1: 0 | DNO1: 0 | DNP1: 0 | DNQ1: 0 | DNR1: 0 | DNS1: 0 | DNT1: 0 | DNU1: 0 | DNV1: 0 | DNW1: 0 | DNX1: 0 | DNY1: 0 | DNZ1: 0 | DOA1: 0 | DOB1: 0 | DOC1: 0 | DOD1: 0 | DOE1: 0 | DOF1: 0 | DOG1: 0 | DOH1: 0 | DOI1: 0 | DOJ1: 0 | DOK1: 0 | DOL1: 0 | DOM1: 0 | DON1: 0 | DOO1: 0 | DOP1: 0 | DOQ1: 0 | DOR1: 0 | DOS1: 0 | DOT1: 0 | DOU1: 0 | DOV1: 0 | DOW1: 0 | DOX1: 0 | DOY1: 0 | DOZ1: 0 | DPA1: 0 | DPB1: 0 | DPC1: 0 | DPD1: 0 | DPE1: 0 | DPF1: 0 | DPG1: 0 | DPH1: 0 | DPI1: 0 | DPJ1: 0 | DPK1: 0 | DPL1: 0 | DPM1: 0 | DPN1: 0 | DPO1: 0 | DPP1: 0 | DPQ1: 0 | DPR1: 0 | DPS1: 0 | DPT1: 0 | DPU1: 0 | DPV1: 0 | DPW1: 0 | DPX1: 0 | DPY1: 0 | DPZ1: 0 | DQA1: 0 | DQB1: 0 | DQC1: 0 | DQD1: 0 | DQE1: 0 | DQF1: 0 | DQG1: 0 | DQH1: 0 | DQI1: 0 | DQJ1: 0 | DQK1: 0 | DQL1: 0 | DQM1: 0 | DQN1: 0 | DQO1: 0 | DQP1: 0 | DQQ1: 0 | DQR1: 0 | DQS1: 0 | DQT1: 0 | DQU1: 0 | DQV1: 0 | DQW1: 0 | DQX1: 0 | DQY1: 0 | DQZ1: 0 | DRA1: 0 | DRB1: 0 | DRC1: 0 | DRD1: 0 | DRE1: 0 | DRF1: 0 | DRG1: 0 | DRH1: 0 | DRI1: 0 | DRJ1: 0 | DRK1: 0 | DRL1: 0 | DRM1: 0 | DRN1: 0 | DRO1: 0 | DRP1: 0 | DRQ1: 0 | DRR1: 0 | DRS1: 0 | DRT1: 0 | DRU1: 0 | DRV1: 0 | DRW1: 0 | DRX1: 0 | DRY1: 0 | DRZ1: 0 | DSA1: 0 | DSB1: 0 | DSC1: 0 | DSD1: 0 | DSE1: 0 | DSF1: 0 | DSG1: 0 | DSH1: 0 | DSI1: 0 | DSJ1: 0 | DSK1: 0 | DSL1: 0 | DSM1: 0 | DSN1: 0 | DSO1: 0 | DSP1: 0 | DSQ1: 0 | DSR1: 0 | DSS1: 0 | DST1: 0 | DSU1: 0 | DSV1: 0 | DSW1: 0 | DSX1: 0 | DSY1: 0 | DSZ1: 0 | DTA1: 0 | DTB1: 0 | DTC1: 0 | DTD1: 0 | DTE1: 0 | DTF1: 0 | DTG1: 0 | DTH1: 0 | DTI1: 0 | DTJ1: 0 | DTK1: 0 | DTL1: 0 | DTM1: 0 | DTN1: 0 | DTO1: 0 | DTP1: 0 | DTQ1: 0 | DTR1: 0 | DTS1: 0 | DTT1: 0 | DTU1: 0 | DTV1: 0 | DTW1: 0 | DTX1: 0 | DTY1: 0 | DTZ1: 0 | DUA1: 0 | DUB1: 0 | DUC1: 0 | DUD1: 0 | DUE1: 0 | DUF1: 0 | DUG1: 0 | DUH1: 0 | DUI1: 0 | DUJ1: 0 | DUK1: 0 | DUL1: 0 | DUM1: 0 | DUN1: 0 | DUO1: 0 | DUP1: 0 | DUQ1: 0 | DUR1: 0 | DUS1: 0 | DUT1: 0 | DUU1: 0 | DUV1: 0 | DUW1: 0 | DUX1: 0 | DUY1: 0 | DUZ1: 0 | DVA1: 0 | DVB1: 0 | DVC1: 0 | DVD1: 0 | DVE1: 0 | DVF1: 0 | DVG1: 0 | DVH1: 0 | DVI1: 0 | DVJ1: 0 | DVK1: 0 | DVL1: 0 | DVM1: 0 | DVN1: 0 | DVO1: 0 | DVP1: 0 | DVQ1: 0 | DVR1: 0 | DVS1: 0 | DVT1: 0 | DVU1: 0 | DVV1: 0 | DVW1: 0 | DVX1: 0 | DVY1: 0 | DVZ1: 0 | DWA1: 0 | DWB1: 0 | DWC1: 0 | DWD1: 0 | DWE1: 0 | DWF1: 0 | DWG1: 0 | DWH1: 0 | DWI1: 0 | DWJ1: 0 | DWK1: 0 | DWL1: 0 | DWM1: 0 | DWN1: 0 | DWO1: 0 | DWP1: 0 | DWQ1: 0 | DWR1: 0 | DWS1: 0 | DWT1: 0 | DWU1: 0 | DWV1: 0 | DWW1: 0 | DWX1: 0 | DWY1: 0 | DWZ1: 0 | DXA1: 0 | DXB1: 0 | DXC1: 0 | DXD1: 0 | DXE1: 0 | DXF1: 0 | DXG1: 0 | DXH1: 0 | DXI1: 0 | DXJ1: 0 | DXK1: 0 | DXL1: 0 | DXM1: 0 | DXN1: 0 | DXO1: 0 | DXP1: 0 | DXQ1: 0 | DXR1: 0 | DXS1: 0 | DXT1: 0 | DXU1: 0 | DXV1: 0 | DXW1: 0 | DXX1: 0 | DXY1: 0 | DXZ1: 0 | DYA1: 0 | DYB1: 0 | DYC1: 0 | DYD1: 0 | DYE1: 0 | DYF1: 0 | DYG1: 0 | DYH1: 0 | DYI1: 0 | DYJ1: 0 | DYK1: 0 | DYL1: 0 | DYM1: 0 | DYN1: 0 | DYO1: 0 | DYP1: 0 | DYQ1: 0 | DYR1: 0 | DYS1: 0 | DYT1: 0 | DYU1: 0 | DYV1: 0 | DYW1: 0 | DYX1: 0 | DYY1: 0 | DYZ1: 0 | DZA1: 0 | DZB1: 0 | DZC1: 0 | DZD1: 0 | DZE1: 0 | DZF1: 0 | DZG1: 0 | DZH1: 0 | DZI1: 0 | DZJ1: 0 | DZK1: 0 | DZL1: 0 | DZM1: 0 | DZN1: 0 | DZO1: 0 | DZP1: 0 | DZQ1: 0 | DZR1: 0 | DZS1: 0 | DZT1: 0 | DZU1: 0 | DZV1: 0 | DZW1: 0 | DZX1: 0 | DZY1: 0 | DZZ1: 0 | EAA1: 0 | EAB1: 0 | EAC1: 0 | EAD1: 0 | EAE1: 0 | EAF1: 0 | EAG1: 0 | EAH1: 0 | EAI1: 0 | EAJ1: 0 | EAK1: 0 | EAL1: 0 | EAM1: 0 | EAN1: 0 | EAO1: 0 | EAP1: 0 | EAQ1: 0 | EAR1: 0 | EAS1: 0 | EAT1: 0 | EAU1: 0 | EAV1: 0 | EAW1: 0 | EAX1: 0 | EAY1: 0 | EAZ1: 0 | EBA1: 0 | EBB1: 0 | EBC1: 0 | EBD1: 0 | EBE1: 0 | EBF1: 0 | EBG1: 0 | EBH1: 0 | EBI1: 0 | EBJ1: 0 | EBK1: 0 | EBL1: 0 | EBM1: 0 | EBN1: 0 | EBO1: 0 | EBP1: 0 | EBQ1: 0 | EBR1: 0 | EBS1: 0 | EBT1: 0 | EBU1: 0 | EBV1: 0 | EBW1: 0 | EBX1: 0 | EBY1: 0 | EBZ1: 0 | ECA1: 0 | ECB1: 0 | ECC1: 0 | ECD1: 0 | ECE1: 0 | ECF1: 0 | ECG1: 0 | ECH1: 0 | ECI1: 0 | ECJ1: 0 | ECK1: 0 | ECL1: 0 | ECM1: 0 | ECN1: 0 | ECO1: 0 | ECP1: 0 | ECQ1: 0 | ECR1: 0 | ECS1: 0 | ECT1: 0 | ECU1: 0 | ECV1: 0 | ECW1: 0 | ECX1: 0 | ECY1: 0 | ECZ1: 0 | EDA1: 0 | EDB1: 0 | EDC1: 0 | EDD1: 0 | EDE1: 0 | EDF1: 0 | EDG1: 0 | EDH1: 0 | EDI1: 0 | EDJ1: 0 | EDK1: 0 | EDL1: 0 | EDM1: 0 | EDN1: 0 | EDO1: 0 | EDP1: 0 | EDQ1: 0 | EDR1: 0 | EDS1: 0 | EDT1: 0 | EDU1: 0 | EDV1: 0 | EDW1: 0 | EDX1: 0 | EDY1: 0 | EDZ1: 0 | EEA1: 0 | EEB1: 0 | EEC1: 0 | EED1: 0 | EEE1: 0 | EEF1: 0 | EEG1: 0 | EEH1: 0 | EEI1: 0 | EEJ1: 0 | EEK1: 0 | EEL1: 0 | EEM1: 0 | EEN1: 0 | EEO1: 0 | EEP1: 0 | EEQ1: 0 | EER1: 0 | EES1: 0 | EET1: 0 | EEU1: 0 | EEV1: 0 | EEW1: 0 | EEX1: 0 | EEY1: 0 | EEZ1: 0 | EFA1: 0 | EFB1: 0 | EFC1: 0 | EFD1: 0 | EFE1: 0 | EFF1: 0 | EFG1: 0 | EFH1: 0 | EFI1: 0 | EFJ1: 0 | EFK1: 0 | EFL1: 0 | EFM1: 0 | EFN1: 0 | EFO1: 0 | EFP1: 0 | EFQ1: 0 | EFR1: 0 | EFS1: 0 | EFT1: 0 | EFU1: 0 | EFV1: 0 | EFW1: 0 | EFX1: 0 | EFY1: 0 | EFZ1: 0 | EGA1: 0 | EGB1: 0 | EGC1: 0 | EGD1: 0 | EGE1: 0 | EGF1: 0 | EGG1: 0 | EGH1: 0 | EGI1: 0 | EGJ1: 0 | EGK1: 0 | EGL1: 0 | EGM1: 0 | EGN1: 0 | EGO1: 0 | EGP1: 0 | EGQ1: 0 | EGR1: 0 | EGS1: 0 | EGT1: 0 | EGU1: 0 | EGV1: 0 | EGW1: 0 | EGX1: 0 | EGY1: 0 | EGZ1: 0 | EHA1: 0 | EHB1: 0 | EHC1: 0 | EHD1: 0 | EHE1: 0 | EHF1: 0 | EHG1: 0 | EHH1: 0 | EHI1: 0 | EHJ1: 0 | EHK1: 0 | EHL1: 0 | EHM1: 0 | EHN1: 0 | EHO1: 0 | EHP1: 0 | EHQ1: 0 | EHR1: 0 | EHS1: 0 | EHT1: 0 | EHU1: 0 | EHV1: 0 | EHW1: 0 | EHX1: 0 | EHY1: 0 | EHZ1: 0 | EIA1: 0 | EIB1: 0 | EIC1: 0 | EID1: 0 | EIE1: 0 | EIF1: 0 | EIG1: 0 | EIH1: 0 | EII1: 0 | EIJ1: 0 | EIK1: 0 | EIL1: 0 | EIM1: 0 | EIN1: 0 | EIO1: 0 | EIP1: 0 | EIQ1: 0 | EIR1: 0 | EIS1: 0 | EIT1: 0 | EIU1: 0 | EIV1: 0 | EIW1: 0 | EIX1: 0 | EIY1: 0 | EIZ1: 0 | EJA1: 0 | EJB1: 0 | EJC1: 0 | EJD1: 0 | EJE1: 0 | EJF1: 0 | EJG1: 0 | EJH1: 0 | EJI1: 0 | EJJ1: 0 | EJK1: 0 | EJL1: 0 | EJM1: 0 | EJN1: 0 | EJO1: 0 | EJP1: 0 | EJQ1: 0 | EJR1: 0 | EJS1: 0 | EJT1: 0 | EJU1: 0 | EJV1: 0 | EJW1: 0 | EJX1: 0 | EJY1: 0 | EJZ1: 0 | EKA1: 0 | EKB1: 0 | EKC1: 0 | EKD1: 0 | EKE1: 0 | EKF1: 0 | EKG1: 0 | EKH1: 0 | EKI1: 0 | EKJ1: 0 | EKK1: 0 | EKL1: 0 | EKM1: 0 | EKN1: 0 | EKO1: 0 | EKP1: 0 | EKQ1: 0 | EKR1: 0 | EKS1: 0 | EKT1: 0 | EKU1: 0 | EKV1: 0 | EKW1: 0 | EKX1: 0 | EKY1: 0 | EKZ1: 0 | ELA1: 0 | ELB1: 0 | ELC1: 0 | ELD1: 0 | ELE1: 0 | ELF1: 0 | ELG1: 0 | ELH1: 0 | ELI1: 0 | ELJ1: 0 | ELK1: 0 | ELL1: 0 | ELM1: 0 | ELN1: 0 | ELO1: 0 | ELP1: 0 | ELQ1: 0 | ELR1: 0 | ELS1: 0 | ELT1: 0 | ELU1: 0 | ELV1: 0 | ELW1: 0 | ELX1: 0 | ELY1: 0 | ELZ1: 0 | EMA1: 0 | EMB1: 0 | EMC1: 0 | EMD1: 0 | EME1: 0 | EMF1: 0 | EMG1: 0 | EMH1: 0 | EMI1: 0 | EMJ1: 0 | EMK1: 0 | EML1: 0 | EMM1: 0 | EMN1: 0 | EMO1: 0 | EMP1: 0 | EMQ1: 0 | EMR1: 0 | EMS1: 0 | EMT1: 0 | EMU1: 0 | EMV1: 0 | EMW1: 0 | EMX1: 0 | EMY1: 0 | EMZ1: 0 | ENA1: 0 | ENB1: 0 | ENC1: 0 | END1: 0 | ENE1: 0 | ENF1: 0 | ENG1: 0 | ENH1: 0 | ENI1: 0 | ENJ1: 0 | ENK1: 0 | ENL1: 0 | ENM1: 0 | ENN1: 0 | ENO1: 0 | ENP1: 0 | ENQ1: 0 | ENR1: 0 | ENS1: 0 | ENT1: 0 | ENU1: 0 | ENV1: 0 | ENW1: 0 | ENX1: 0 | ENY1: 0 | ENZ1: 0 | EOA1: 0 | EOB1: 0 | EOC1: 0 | EOD1: 0 | EOE1: 0 | EOF1: 0 | EOG1: 0 | EOH1: 0 | EOI1: 0 | EOJ1: 0 | EOK1: 0 | EOL1: 0 | EOM1: 0 | EON1: 0 | EOO1: 0 | EOP1: 0 | EOQ1: 0 | EOR1: 0 | EOS1: 0 | EOT1: 0 | EOU1: 0 | EOV1: 0 | EOW1: 0 | EOX1: 0 | EOY1: 0 | EOZ1: 0 | EPA1: 0 | EPB1: 0 | EPC1: 0 | EPD1: 0 | EPE1: 0 | EPF1: 0 | EPG1: 0 | EPH1: 0 | EPI1: 0 | EPJ1: 0 | EPK1: 0 | EPL1: 0 | EPM1: 0 | EPN1: 0 | EPO1: 0 | EPP1: 0 | EPQ1: 0 | EPR1: 0 | EPS1: 0 | EPT1: 0 | EPU1: 0 | EPV1: 0 | EPW1: 0 | EPX1: 0 | EPY1: 0 | EPZ1: 0 | EQA1: 0 | EQB1: 0 | EQC1: 0 | EQD1: 0 | EQE1: 0 | EQF1: 0 | EQG1: 0 | EQH1: 0 | EQI1: 0 | EQJ1: 0 | EQK1: 0 | EQL1: 0 | EQM1: 0 | EQN1: 0 | EQO1: 0 | EQP1: 0 | EQQ1: 0 | EQR1: 0 | EQS1: 0 | EQT1: 0 | EQU1: 0 | EQV1: 0 | EQW1: 0 | EQX1: 0 | EQY1: 0 | EQZ1: 0 | ERA1: 0 | ERB1: 0 | ERC1: 0 | ERD1: 0 | ERE1: 0 | ERF1: 0 | ERG1: 0 | ERH1: 0 | ERI1: 0 | ERJ1: 0 | ERK1: 0 | ERL1: 0 | ERM1: 0 | ERN1: 0 | ERO1: 0 | ERP1: 0 | ERQ1: 0 | ERR1: 0 | ERS1: 0 | ERT1: 0 | ERU1: 0 | ERV1: 0 | ERW1: 0 | ERX1: 0 | ERY1: 0 | ERZ1: 0 | ESA1: 0 | ESB1: 0 | ESC1: 0 | ESD1: 0 | ESE1: 0 | ESF1: 0 | ESG1: 0 | ESH1: 0 | ESI1: 0 | ESJ1: 0 | ESK1: 0 | ESL1: 0 | ESM1: 0 | ESN1: 0 | ESO1: 0 | ESP1: 0 | ESQ1: 0 | ESR1: 0 | ESS1: 0 | EST1: 0 | ESU1: 0 | ESV1: 0 | ESW1: 0 | ESX1: 0 | ESY1: 0 | ESZ1: 0 | ETA1: 0 | ETB1: 0 | ETC1: 0 | ETD1: 0 | ETE1: 0 | ETF1: 0 | ETG1: 0 | ETH1: 0 | ETI1: 0 | ETJ1: 0 | ETK1: 0 | ETL1: 0 | ETM1: 0 | ETN1: 0 | ETO1: 0 | ETP1: 0 | ETQ1: 0 | ETR1: 0 | ETS1: 0 | ETT1: 0 | ETU1: 0 | ETV1: 0 | ETW1: 0 | ETX1: 0 | ETY1: 0 | ETZ1: 0 | EUA1: 0 | EUB1: 0 | EUC1: 0 | EUD1: 0 | EUE1: 0 | EUF1: 0 | EUG1: 0 | EUH1: 0 | EUI1: 0 | EUJ1: 0 | EUK1: 0 | EUL1: 0 | EUM1: 0 | EUN1: 0 | EUO1: 0 | EUP1: 0 | EUQ1: 0 | EUR1: 0 | EUS1: 0 | EUT1: 0 | EUU1: 0 | EUV1: 0 | EUW1: 0 | EUX1: 0 | EUY1: 0 | EUZ1: 0 | EVA1: 0 | EVB1: 0 | EVC1: 0 | EVD1: 0 | EVE1: 0 | EVF1: 0 | EVG1: 0 | EVH1: 0 | EVI1: 0 | EVJ1: 0 | EVK1: 0 | EVL1: 0 | EVM1: 0 | EVN1: 0 | EVO1: 0 | EVP1: 0 | EVQ1: 0 | EVR1: 0 | EVS1: 0 | EVT1: 0 | EVU1: 0 | EVV1: 0 | EVW1: 0 | EVX1: 0 | EVY1: 0 | EVZ1: 0 | EWA1: 0 | EWB1: 0 | EWC1: 0 | EWD1: 0 | EWE1: 0 | EWF1: 0 | EWG1: 0 | EWH1: 0 | EWI1: 0 | EWJ1: 0 | EWK1: 0 | EWL1: 0 | EWM1: 0 | EWN1: 0 | EWO1: 0 | EWP1: 0 | EWQ1: 0 | EWR1: 0 | EWS1: 0 | EWT1: 0 | EWU1: 0 | EWV1: 0 | EWW1: 0 | EWX1: 0 | EWY1: 0 | EWZ1: 0 | EXA1: 0 | EXB1: 0 | EXC1: 0 | EXD1: 0 | EXE1: 0 | EXF1: 0 | EXG1: 0 | EXH1: 0 | EXI1: 0 | EXJ1: 0 | EXK1: 0 | EXL1: 0 | EXM1: 0 | EXN1: 0 | EXO1: 0 | EXP1: 0 | EXQ1: 0 | EXR1: 0 | EXS1: 0 | EXT1: 0 | EXU1: 0 | EXV1: 0 | EXW1: 0 | EXX1: 0 | EXY1: 0 | EXZ1: 0 | EYA1: 0 | EYB1: 0 | EYC1: 0 | EYD1: 0 | EYE1: 0 | EYF1: 0 | EYG1: 0 | EYH1: 0 | EYI1: 0 | EYJ1: 0 | EYK1: 0 | EYL1: 0 | EYM1: 0 | EYN1: 0 | EYO1: 0 | EYP1: 0 | EYQ1: 0 | EYR1: 0 | EYS1: 0 | EYT1: 0 | EYU1: 0 | EYV1: 0 | EYW1: 0 | EYX1: 0 | EYY1: 0 | EYZ1: 0 | EZA1: 0 | EZB1: 0 | EZC1: 0 | EZD1: 0 | EZE1: 0 | EZF1: 0 | EZG1: 0 | EZH1: 0 | EZI1: 0 | EZJ1: 0 | EZK1: 0 | EZL1: 0 | EZM1: 0 | EZN1: 0 | EZO1: 0 | EZP1: 0 | EZQ1: 0 | EZR1: 0 | EZS1: 0 | EZT1: 0 | EZU1: 0 | EZV1: 0 | EZW1: 0 | EZX1: 0 | EZY1: 0 | EZZ1: 0 | FAA1: 0 | FAB1: 0 | FAC1: 0 | FAD1: 0 | FAE1: 0 | FAF1: 0 | FAG1: 0 | FAH1: 0 | FAI1: 0 | FAJ1: 0 | FAK1: 0 | FAL1: 0 | FAM1: 0 | FAN1: 0 | FAO1: 0 | FAP1: 0 | FAQ1: 0 | FAR1: 0 | FAS1: 0 | FAT1: 0 | FAU1: 0 | FAV1: 0 | FAW1: 0 | FAX1: 0 | FAY1: 0 | FAZ1: 0 | FBA1: 0 | FBB1: 0 | FBC1: 0 | FBD1: 0 | FBE1: 0 | FBF1: 0 | FBG1: 0 | FBH1: 0 | FBI1: 0 | FBJ1: 0 | FBK1: 0 | FBL1: 0 | FBM1: 0 | FBN1: 0 | FBO1: 0 | FBP1: 0 | FBQ1: 0 | FBR1: 0 | FBS1: 0 | FBT1: 0 | FBU1: 0 | FBV1: 0 | FBW1: 0 | FBX1: 0 | FBY1: 0 | FBZ1: 0 | FCA1: 0 | FCB1: 0 | FCC1: 0 | FCD1: 0 | FCE1: 0 | FCF1: 0 | FCG1: 0 | FCH1: 0 | FCI1: 0 | FCJ1: 0 | FCK1: 0 | FCL1: 0 | FCM1: 0 | FCN1: 0 | FCO1: 0 | FCP1: 0 | FCQ1: 0 | FCR1: 0 | FCS1: 0 | FCT1: 0 | FCU1: 0 | FCV1: 0 | FCW1: 0 | FCX1: 0 | FCY1: 0 | FCZ1: 0 | FDA1: 0 | FDB1: 0 | FDC1: 0 | FDD1: 0 | FDE1: 0 | FDF1: 0 | FDG1: 0 | FDH1: 0 | FDI1: 0 | FDJ1: 0 | FDK1: 0 | FDL1: 0 | FDM1: 0 | FDN1: 0 | FDO1: 0 | FDP1: 0 | FDQ1: 0 | FDR1: 0 | FDS1: 0 | FDT1: 0 | FDU1: 0 | FDV1: 0 | FDW1: 0 | FDX1: 0 | FDY1: 0 | FDZ1: 0 | FEA1: 0 | FEB1: 0 | FEC1: 0 | FED1: 0 | FEE1: 0 | FEF1: 0 | FEG1: 0 | FEH1: 0 | FEI1: 0 | FEJ1: 0 | FEK1: 0 | FEL1: 0 | FEM1: 0 | FEN1: 0 | FEO1: 0 | FEP1: 0 | FEQ1: 0 | FER1: 0 | FES1: 0 | FET1: 0 | FEU1: 0 | FEV1: 0 | FEW1: 0 | FEX1: 0 | FEY1: 0 | FEZ1: 0 | FFA1: 0 | FFB1: 0 | FFC1: 0 | FFD1: 0 | FFE1: 0 | FFF1: 0 | FFG1: 0 | FFH1: 0 | FFI1: 0 | FFJ1: 0 | FFK1: 0 | FFL1: 0 | FFM1: 0 | FFN1: 0 | FFO1: 0 | FFP1: 0 | FFQ1: 0 | FFR1: 0 | FFS1: 0 | FFT1: 0 | FFU1: 0 | FFV1: 0 | FFW1: 0 | FFX1: 0 | FFY1: 0 | FFZ1: 0 | FGA1: 0 | FGB1: 0 | FGC1: 0 | FGD1: 0 | FGE1: 0 | FGF1: 0 | FGG1: 0 | FGH1: 0 | FGI1: 0 | FGJ1: 0 | FGK1: 0 | FGL1: 0 | FGM1: 0 | FGN1: 0 | FGO1: 0 | FGP1: 0 | FGQ1: 0 | FGR1: 0 | FGS1: 0 | FGT1: 0 | FGU1: 0 | FGV1: 0 | FGW1: 0 | FGX1: 0 | FGY1: 0 | FGZ1: 0 | FHA1: 0 | FHB1: 0 | FHC1: 0 | FHD1: 0 | FHE1: 0 | FHF1: 0 | FHG1: 0 | FHH1: 0 | FHI1: 0 | FHJ1: 0 | FHK1: 0 | FHL1: 0 | FHM1: 0 | FHN1: 0 | FHO1: 0 | FHP1: 0 | FHQ1: 0 | FHR1: 0 | FHS1: 0 | FHT1: 0 | FHU1: 0 | FHV1: 0 | FHW1: 0 | FHX1: 0 | FHY1: 0 | FHZ1: 0 | FIA1: 0 | FIB1: 0 | FIC1: 0 | FID1: 0 | FIE1: 0 | FIF1: 0 | FIG1: 0 | FIH1: 0 | FII1: 0 | FIJ1: 0 | FIK1: 0 | FIL1: 0 | FIM1: 0 | FIN1: 0 | FIO1: 0 | FIP1: 0 | FIQ1: 0 | FIR1: 0 | FIS1: 0 | FIT1: 0 | FIU1: 0 | FIV1: 0 | FIW1: 0 | FIX1: 0 | FIY1: 0 | FIZ1: 0 | FJA1: 0 | FJB1: 0 | FJC1: 0 | FJD1: 0 | FJE1: 0 | FJF1: 0 | FJG1: 0 | FJH1: 0 | FJI1: 0 | FJJ1: 0 | FJK1: 0 | FJL1: 0 | FJM1: 0 | FJN1: 0 | FJO1: 0 | FJP1: 0 | FJQ1: 0 | FJR1: 0 | FJS1: 0 | FJT1: 0 | FJU1: 0 | FJV1: 0 | FJW1: 0 | FJX1: 0 | FJY1: 0 | FJZ1: 0 | FKA1: 0 | FKB1: 0 | FKC1: 0 | FKD1: 0 | FKE1: 0 | FKF1: 0 | FKG1: 0 | FKH1: 0 | FKI1: 0 | FKJ1: 0 | FKK1: 0 | FKL1: 0 | FKM1: 0 | FKN1: 0 | FKO1: 0 | FKP1: 0 | FKQ1: 0 | FKR1: 0 | FKS1: 0 | FKT1: 0 | FKU1: 0 | FKV1: 0 | FKW1: 0 | FKX1: 0 | FKY1: 0 | FKZ1: 0 | FLA1: 0 | FLB1: 0 | FLC1: 0 | FLD1: 0 | FLE1: 0 | FLF1: 0 | FLG1: 0 | FLH1: 0 | FLI1: 0 | FLJ1: 0 | FLK1: 0 | FLL1: 0 | FLM1: 0 | FLN1: 0 | FLO1: 0 | FLP1: 0 | FLQ1: 0 | FLR1: 0 | FLS1: 0 | FLT1: 0 | FLU1: 0 | FLV1: 0 | FLW1: 0 | FLX1: 0 | FLY1: 0 | FLZ1: 0 | FMA1: 0 | FMB1: 0 | FMC1: 0 | FMD1: 0 | FME1: 0 | FMF1: 0 | FMG1: 0 | FMH1: 0 | FMI1: 0 | FMJ1: 0 | FMK1: 0 | FML1: 0 | FMM1: 0 | FMN1: 0 | FMO1: 0 | FMP1: 0 | FMQ1: 0 | FMR1: 0 | FMS1: 0 | FMT1: 0 | FMU1: 0 | FMV1: 0 | FMW1: 0 | FMX1: 0 | FMY1: 0 | FMZ1: 0 | FNA1: 0 | FNB1: 0 | FNC1: 0 | FND1: 0 | FNE1: 0 | FNF1: 0 | FNG1: 0 | FNH1: 0 | FNI1: 0 | FNJ1: 0 | FNK1: 0 | FNL1: 0 | FNM1: 0 | FNN1: 0 | FNO1: 0 | FNP1: 0 | FNQ1: 0 | FNR1: 0 | FNS1: 0 | FNT1: 0 | FNU1: 0 | FNV1: 0 | FNW1: 0 | FNX1: 0 | FNY1: 0 | FNZ1: 0 | FOA1: 0 | FOB1: 0 | FOC1: 0 | FOD1: 0 | FOE1: 0 | FOF1: 0 | FOG1: 0 | FOH1: 0 | FOI1: 0 | FOJ1: 0 | FOK1: 0 | FOL1: 0 | FOM1: 0 | FON1: 0 | FOO1: 0 | FOP1: 0 | FOQ1: 0 | FOR1: 0 | FOS1: 0 | FOT1: 0 | FOU1: 0 | FOV1: 0 | FOW1: 0 | FOX1: 0 | FOY1: 0 | FOZ1: 0 | FPA1: 0 | FPB1: 0 | FPC1: 0 | FPD1: 0 | FPE1: 0 | FPF1: 0 | FPG1: 0 | FPH1: 0 | FPI1: 0 | FPJ1: 0 | FPK1: 0 | FPL1: 0 | FPM1: 0 | FPN1: 0 | FPO1: 0 | FPP1: 0 | FPQ1: 0 | FPR1: 0 | FPS1: 0 | FPT1: 0 | FPU1: 0 | FPV1: 0 | FPW1: 0 | FPX1: 0 | FPY1: 0 | FPZ1: 0 | FQA1: 0 | FQB1: 0 | FQC1: 0 | FQD1: 0 | FQE1: 0 | FQF1: 0 | FQG1: 0 | FQH1: 0 | FQI1: 0 | FQJ1: 0 | FQK1: 0 | FQL1: 0 | FQM1: 0 | FQN1: 0 | FQO1: 0 | FQP1: 0 | FQQ1: 0 | FQR1: 0 | FQS1: 0 | FQT1: 0 | FQU1: 0 | FQV1: 0 | FQW1: 0 | FQX1: 0 | FQY1: 0 | FQZ1: 0 | FRA1: 0 | FRB1: 0 | FRC1: 0 | FRD1: 0 | FRE1: 0 | FRF1: 0 | FRG1: 0 | FRH1: 0 | FRI1: 0 | FRJ1: 0 | FRK1: 0 | FRL1: 0 | FRM1: 0 | FRN1: 0 | FRO1: 0 | FRP1: 0 | FRQ1: 0 | FRR1: 0 | FRS1: 0 | FRT1: 0 | FRU1: 0 | FRV1: 0 | FRW1: 0 | FRX1: 0 | FRY1: 0 | FRZ1: 0 | FSA1: 0 | FSB1: 0 | FSC1: 0 | FSD1: 0 | FSE1: 0 | FSF1: 0 | FSG1: 0 | FSH1: 0 | FSI1: 0 | FSJ1: 0 | FSK1: 0 | FSL1: 0 | FSM1: 0 | FSN1: 0 | FSO1: 0 | FSP1: 0 | FSQ1: 0 | FSR1: 0 | FSS1: 0 | FST1: 0 | FSU1: 0 | FSV1: 0 | FSW1: 0 | FSX1: 0 | FSY1: 0 | FSZ1: 0 | FTA1: 0 | FTB1: 0 | FTC1: 0 | FTD1: 0 | FTE1: 0 | FTF1: 0 | FTG1: 0 | FTH1: 0 | FTI1: 0 | FTJ1: 0 | FTK1: 0 | FTL1: 0 | FTM1: 0 | FTN1: 0 | FTO1: 0 | FTP1: 0 | FTQ1: 0 | FTR1: 0 | FTS1: 0 | FTT1: 0 | FTU1: 0 | FTV1: 0 | FTW1: 0 | FTX1: 0 | FTY1: 0 | FTZ1: 0 | FUA1: 0 | FUB1: 0 | FUC1: 0 | FUD1: 0 | FUE1: 0 | FUF1: 0 | FUG1: 0 | FUH1: 0 | FUI1: 0 | FUJ1: 0 | FUK1: 0 | FUL1: 0 | FUM1: 0 | FUN1: 0 | FUO1: 0 | FUP1: 0 | FUQ1: 0 | FUR1: 0 | FUS1: 0 | FUT1: 0 | FUU1: 0 | FUV1: 0 | FUW1: 0 | FUX1: 0 | FUY1: 0 | FUZ1: 0 | FVA1: 0 | FVB1: 0 | FVC1: 0 | FVD1: 0 | FVE1: 0 | FVF1: 0 | FVG1: 0 | FVH1: 0 | FVI1: 0 | FVJ1: 0 | FVK1: 0 | FVL1: 0 | FVM1: 0 | FVN1: 0 | FVO1: 0 | FVP1: 0 | FVQ1: 0 | FVR1: 0 | FVS1: 0 | FVT1: 0 | FVU1: 0 | FVV1: 0 | FVW1: 0 | FVX1: 0 | FVY1: 0 | FVZ1: 0 | FWA1: 0 | FWB1: 0 | FWC1: 0 | FWD1: 0 | FWE1: 0 | FWF1: 0 | FWG1: 0 | FWH1: 0 | FWI1: 0 | FWJ1: 0 | FWK1: 0 | FWL1: 0 | FWM1: 0 | FWN1: 0 | FWO1: 0 | FWP1: 0 | FWQ1: 0 | FWR1: 0 | FWS1: 0 | FWT1: 0 | FWU1: 0 | FWV1: 0 | FWW1: 0 | FWX1: 0 | FWY1: 0 | FWZ1: 0 | FXA1: 0 | FXB1: 0 | FXC1: 0 | FXD1: 0 | FXE1: 0 | FXF1: 0 | FXG1: 0 | FXH1: 0 | FXI1: 0 | FXJ1: 0 | FXK1: 0 | FXL1: 0 | FXM1: 0 | FXN1: 0 | FXO1: 0 | FXP1: 0 | FXQ1: 0 | FXR1: 0 | FXS1: 0 | FXT1: 0 | FXU1: 0 | FXV1: 0 | FXW1: 0 | FXX1: 0 | FXY1: 0 | FXZ1: 0 | FYA1: 0 | FYB1: 0 | FYC1: 0 | FYD1: 0 | FYE1: 0 | FYF1: 0 | FYG1: 0 | FYH1: 0 | FYI1: 0 | FYJ1: 0 | FYK1: 0 | FYL1: 0 | FYM1: 0 | FYN1: 0 | FYO1: 0 | FYP1: 0 | FYQ1: 0 | FYR1: 0 | FYS1: 0 | FYT1: 0 | FYU1: 0 | FYV1: 0 | FYW1: 0 | FYX1: 0 | FYY1: 0 | FYZ1: 0 | FZA1: 0 | FZB1: 0 | FZC1: 0 | FZD1: 0 | FZE1: 0 | FZF1: 0 | FZG1: 0 | FZH1: 0 | FZI1: 0 | FZJ1: 0 | FZK1: 0 | FZL1: 0 | FZM1: 0 | FZN1: 0 | FZO1: 0 | FZP1: 0 | FZQ1: 0 | FZR1: 0 | FZS1: 0 | FZT1: 0 | FZU1: 0 | FZV1: 0 | FZW1: 0 | FZX1: 0 | FZY1: 0 | FZZ1: 0 | GAA1: 0 | GAB1: 0 | GAC1: 0 | GAD1: 0 | GAE1: 0 | GAF1: 0 | GAG1: 0 | GAH1: 0 | GAI1: 0 | GAJ1: 0 | GAK1: 0 | GAL1: 0 | GAM1: 0 | GAN1: 0 | GAO1: 0 | GAP1: 0 | GAQ1: 0 | GAR1: 0 | GAS1: 0 | GAT1: 0 | GAU1: 0 | GAV1: 0 | GAW1: 0 | GAX1: 0 | GAY1: 0 | GAZ1: 0 | GBA1: 0 | GBB1: 0 | GBC1: 0 | GBD1: 0 | GBE1: 0 | GBF1: 0 | GBG1: 0 | GBH1: 0 | GBI1: 0 | GBJ1: 0 | GBK1: 0 | GBL1: 0 | GBM1: 0 | GBN1: 0 | GBO1: 0 | GBP1: 0 | GBQ1: 0 | GBR1: 0 | GBS1: 0 | GBT1: 0 | GBU1: 0 | GBV1: 0 | GBW1: 0 | GBX1: 0 | GBY1: 0 | GBZ1: 0 | GCA1: 0 | GCB1: 0 | GCC1: 0 | GCD1: 0 | GCE1: 0 | GCF1: 0 | GCG1: 0 | GCH1: 0 | GCI1: 0 | GCJ1: 0 | GCK1: 0 | GCL1: 0 | GCM1: 0 | GCN1: 0 | GCO1: 0 | GCP1: 0 | GCQ1: 0 | GCR1: 0 | GCS1: 0 | GCT1: 0 | GCU1: 0 | GCV1: 0 | GCW1: 0 | GCX1: 0 | GCY1: 0 | GCZ1: 0 | GDA1: 0 | GDB1: 0 | GDC1: 0 | GDD1: 0 | GDE1: 0 | GDF1: 0 | GDG1: 0 | GDH1: 0 | GDI1: 0 | GDJ1: 0 | GDK1: 0 | GDL1: 0 | GDM1: 0 | GDN1: 0 | GDO1: 0 | GDP1: 0 | GDQ1: 0 | GDR1: 0 | GDS1: 0 | GDT1: 0 | GDU1: 0 | GDV1: 0 | GDW1: 0 | GDX1: 0 | GDY1: 0 | GDZ1: 0 | GEA1: 0 | GEB1: 0 | GEC1: 0 | GED1: 0 | GEE1: 0 | GEF1: 0 | GEG1: 0 | GEH1: 0 | GEI1: 0 | GEJ1: 0 | GEK1: 0 | GEL1: 0 | GEM1: 0 | GEN1: 0 | GEO1: 0 | GEP1: 0 | GEQ1: 0 | GER1: 0 | GES1: 0 | GET1: 0 | GEU1: 0 | GEV1: 0 | GEW1: 0 | GEX1: 0 | GEY1: 0 | GEZ1: 0 | GFA1: 0 | GFB1: 0 | GFC1: 0 | GFD1: 0 | GFE1: 0 | GFF1: 0 | GFG1: 0 | GFH1: 0 | GFI1: 0 | GFJ1: 0 | GFK1: 0 | GFL1: 0 | GFM1: 0 | GFN1: 0 | GFO1: 0 | GFP1: 0 | GFQ1: 0 | GFR1: 0 | GFS1: 0 | GFT1: 0 | GFU1: 0 | GFV1: 0 | GFW1: 0 | GFX1: 0 | GFY1: 0 | GFZ1: 0 | GGA1: 0 | GGB1: 0 | GGC1: 0 | GGD1: 0 | GGE1: 0 | GGF1: 0 | GGG1: 0 | GGH1: 0 | GGI1: 0 | GGJ1: 0 | GGK1: 0 | GGL1: 0 | GGM1: 0 | GGN1: 0 | GGO1: 0 | GGP1: 0 | GGQ1: 0 | GGR1: 0 | GGS1: 0 | GGT1: 0 | GGU1: 0 | GGV1: 0 | GGW1: 0 | GGX1: 0 | GGY1: 0 | GGZ1: 0 | GHA1: 0 | GHB1: 0 | GHC1: 0 | GHD1: 0 | GHE1: 0 | GHF1: 0 | GHG1: 0 | GHH1: 0 | GHI1: 0 | GHJ1: 0 | GHK1: 0 | GHL1: 0 | GHM1: 0 | GHN1: 0 | GHO1: 0 | GHP1: 0 | GHQ1: 0 | GHR1: 0 | GHS1: 0 | GHT1: 0 | GHU1: 0 | GHV1: 0 | GHW1: 0 | GHX1: 0 | GHY1: 0 | GHZ1: 0 | GIA1: 0 | GIB1: 0 | GIC1: 0 | GID1: 0 | GIE1: 0 | GIF1: 0 | GIG1: 0 | GIH1: 0 | GII1: 0 | GIJ1: 0 | GIK1: 0 | GIL1: 0 | GIM1: 0 | GIN1: 0 | GIO1: 0 | GIP1: 0 | GIQ1: 0 | GIR1: 0 | GIS1: 0 | GIT1: 0 | GIU1: 0 | GIV1: 0 | GIW1: 0 | GIX1: 0 | GIY1: 0 | GIZ1: 0 | GJA1: 0 | GJB1: 0 | GJC1: 0 | GJD1: 0 | GJE1: 0 | GJF1: 0 | GJG1: 0 | GJH1: 0 | GJI1: 0 | GJJ1: 0 | GJK1: 0 | GJL1: 0 | GJM1: 0 | GJN1: 0 | GJO1: 0 | GJP1: 0 | GJQ1: 0 | GJR1: 0 | GJS1: 0 | GJT1: 0 | GJU1: 0 | GJV1: 0 | GJW1: 0 | GJX1: 0 | GJY1: 0 | GJZ1: 0 | GKA1: 0 | GKB1: 0 | GKC1: 0 | GKD1: 0 | GKE1: 0 | GKF1: 0 | GKG1: 0 | GKH1: 0 | GKI1: 0 | GKJ1: 0 | GKK1: 0 | GKL1: 0 | GKM1: 0 | GKN1: 0 | GKO1: 0 | GKP1: 0 | GKQ1: 0 | GKR1: 0 | GKS1: 0 | GKT1: 0 | GKU1: 0 | GKV1: 0 | GKW1: 0 | GKX1: 0 | GKY1: 0 | GKZ1: 0 | GLA1: 0 | GLB1: 0 | GLC1: 0 | GLD1: 0 | GLE1: 0 | GLF1: 0 | GLG1: 0 | GLH1: 0 | GLI1: 0 | GLJ1: 0 | GLK1: 0 | GLL1: 0 | GLM1: 0 | GLN1: 0 | GLO1: 0 | GLP1: 0 | GLQ1: 0 | GLR1: 0 | GLS1: 0 | GLT1: 0 | GLU1: 0 | GLV1: 0 | GLW1: 0 | GLX1: 0 | GLY1: 0 | GLZ1: 0 | GMA1: 0 | GMB1: 0 | GMC1: 0 | GMD1: 0 | GME1: 0 | GMF1: 0 | GMG1: 0 | GMH1: 0 | GMI1: 0 | GMJ1: 0 | GMK1: 0 | GML1: 0 | GMM1: 0 | GMN1: 0 | GMO1: 0 | GMP1: 0 | GMQ1: 0 | GMR1: 0 | GMS1: 0 | GMT1: 0 | GMU1: 0 | GMV1: 0 | GMW1: 0 | GMX1: 0 | GMY1: 0 | GMZ1: 0 | GNA1: 0 | GNB1: 0 | GNC1: 0 | GND1: 0 | GNE1: 0 | GNF1: 0 | GNG1: 0 | GNH1: 0 | GNI1: 0 | GNJ1: 0 | GNK1: 0 | GNL1: 0 | GNM1: 0 | GNN1: 0 | GNO1: 0 | GNP1: 0 | GNQ1: 0 | GNR1: 0 | GNS1: 0 | GNT1: 0 | GNU1: 0 | GNV1: 0 | GNW1: 0 | GNX1: 0 | GNY1: 0 | GNZ1: 0 | GOA1: 0 | GOB1: 0 | GOC1: 0 | GOD1: 0 | GOE1: 0 | GOF1: 0 | GOG1: 0 | GOH1: 0 | GOI1: 0 | GOJ1: 0 | GOK1: 0 | GOL1: 0 | GOM1: 0 | GON1: 0 | GOO1: 0 | GOP1: 0 | GOQ1: 0 | GOR1: 0 | GOS1: 0 | GOT1: 0 | GOU1: 0 | GOV1: 0 | GOW1: 0 | GOX1: 0 | GOY1: 0 | GOZ1: 0 | GPA1: 0 | GPB1: 0 | GPC1: 0 | GPD1: 0 | GPE1: 0 | GPF1: 0 | GPG1: 0 | GPH1: 0 | GPI1: 0 | GPJ1: 0 | GPK1: 0 | GPL1: 0 | GPM1: 0 | GPN1: 0 | GPO1: 0 | GPP1: 0 | GPQ1: 0 | GPR1: 0 | GPS1: 0 | GPT1: 0 | GPU1: 0 | GPV1: 0 | GPW1: 0 | GPX1: 0 | GPY1: 0 | GPZ1: 0 | GQA1: 0 | GQB1: 0 | GQC1: 0 | GQD1: 0 | GQE1: 0 | GQF1: 0 | GQG1: 0 | GQH1: 0 | GQI1: 0 | GQJ1: 0 | GQK1: 0 | GQL1: 0 | GQM1: 0 | GQN1: 0 | GQO1: 0 | GQP1: 0 | GQQ1: 0 | GQR1: 0 | GQS1: 0 | GQT1: 0 | GQU1: 0 | GQV1: 0 | GQW1: 0 | GQX1: 0 | GQY1: 0 | GQZ1: 0 | GRA1: 0 | GRB1: 0 | GRC1: 0 | GRD1: 0 | GRE1: 0 | GRF1: 0 | GRG1: 0 | GRH1: 0 | GRI1: 0 | GRJ1: 0 | GRK1: 0 | GRL1: 0 | GRM1: 0 | GRN1: 0 | GRO1: 0 | GRP1: 0 | GRQ1: 0 | GRR1: 0 | GRS1: 0 | GRT1: 0 | GRU1: 0 | GRV1: 0 | GRW1: 0 | GRX1: 0 | GRY1: 0 | GRZ1: 0 | GSA1: 0 | GSB1: 0 | GSC1: 0 | GSD1: 0 | GSE1: 0 | GSF1: 0 | GSG1: 0 | GSH1: 0 | GSI1: 0 | GSJ1: 0 | GSK1: 0 | GSL1: 0 | GSM1: 0 | GSN1: 0 | GSO1: 0 | GSP1: 0 | GSQ1: 0 | GSR1: 0 | GSS1: 0 | GST1: 0 | GSU1: 0 | GSV1: 0 | GSW1: 0 | GSX1: 0 | GSY1: 0 | GSZ1: 0 | GTA1: 0 | GTB1: 0 | GTC1: 0 | GTD1: 0 | GTE1: 0 | GTF1: 0 | GTG1: 0 | GTH1: 0 | GTI1: 0 | GTJ1: 0 | GTK1: 0 | GTL1: 0 | GTM1: 0 | GTN1: 0 | GTO1: 0 | GTP1: 0 | GTQ1: 0 | GTR1: 0 | GTS1: 0 | GTT1: 0 | GTU1: 0 | GTV1: 0 | GTW1: 0 | GTX1: 0 | GTY1: 0 | GTZ1: 0 | GUA1: 0 | GUB1: 0 | GUC1: 0 | GUD1: 0 | GUE1: 0 | GUF1: 0 | GUG1: 0 | GUH1: 0 | GUI1: 0 | GUJ1: 0 | GUK1: 0 | GUL1: 0 | GUM1: 0 | GUN1: 0 | GUO1: 0 | GUP1: 0 | GUQ1: 0 | GUR1: 0 | GUS1: 0 | GUT1: 0 | GUU1: 0 | GUV1: 0 | GUW1: 0 | GUX1: 0 | GUY1: 0 | GUZ1: 0 | GVA1: 0 | GVB1: 0 | GVC1: 0 | GVD1: 0 | GVE1: 0 | GVF1: 0 | GVG1: 0 | GVH1: 0 | GVI1: 0 | GVJ1: 0 | GVK1: 0 | GVL1: 0 | GVM1: 0 | GVN1: 0 | GVO1: 0 | GVP1: 0 | GVQ1: 0 | GVR1: 0 | GVS1: 0 | GVT1: 0 | GVU1: 0 | GVV1: 0 | GVW1: 0 | GVX1: 0 | GVY1: 0 | GVZ1: 0 | GWA1: 0 | GWB1: 0 | GWC1: 0 | GWD1: 0 | GWE1: 0 | GWF1: 0 | GWG1: 0 | GWH1: 0 | GWI1: 0 | GWJ1: 0 | GWK1: 0 | GWL1: 0 | GWM1: 0 | GWN1: 0 | GWO1: 0 | GWP1: 0 | GWQ1: 0 | GWR1: 0 | GWS1: 0 | GWT1: 0 | GWU1: 0 | GWV1: 0 | GWW1: 0 | GWX1: 0 | GWY1: 0 | GWZ1: 0 | GXA1: 0 | GXB1: 0 | GXC1: 0 | GXD1: 0 | GXE1: 0 | GXF1: 0 | GXG1: 0 | GXH1: 0 | GXI1: 0 | GXJ1: 0 | GXK1: 0 | GXL1: 0 | GXM1: 0 | GXN1: 0 | GXO1: 0 | GXP1: 0 | GXQ1: 0 | GXR1: 0 | GXS1: 0 | GXT1: 0 | GXU1: 0 | GXV1: 0 | GXW1: 0 | GXX1: 0 | GXY1: 0 | GXZ1: 0 | GYA1: 0 | GYB1: 0 | GYC1: 0 | GYD1: 0 | GYE1: 0 | GYF1: 0 | GYG1: 0 | GYH1: 0 | GYI1: 0 | GYJ1: 0 | GYK1: 0 | GYL1: 0 | GYM1: 0 | GYN1: 0 | GYO1: 0 | GYP1: 0 | GYQ1: 0 | GYR1: 0 | GYS1: 0 | GYT1: 0 | GYU1: 0 | GYV1: 0 | GYW1: 0 | GYX1: 0 | GYY1: 0 | GYZ1: 0 | GZA1: 0 | GZB1: 0 | GZC1: 0 | GZD1: 0 | GZE1: 0 | GZF1: 0 | GZG1: 0 | GZH1: 0 | GZI1: 0 | GZJ1: 0 | GZK1: 0 | GZL1: 0 | GZM1: 0 | GZN1: 0 | GZO1: 0 | GZP1: 0 | GZQ1: 0 | GZR1: 0 | GZS1: 0 | GZT1: 0 | GZU1: 0 | GZV1: 0 | GZW1: 0 | GZX1: 0 | GZY1: 0 | GZZ1: 0 | HAA1: 0 | HAB1: 0 | HAC1: 0 | HAD1: 0 | HAE1: 0 | HAF1: 0 | HAG1: 0 | HAH1: 0 | HAI1: 0 | HAJ1: 0 | HAK1: 0 | HAL1: 0 | HAM1: 0 | HAN1: 0 | HAO1: 0 | HAP1: 0 | HAQ1: 0 | HAR1: 0 | HAS1: 0 | HAT1: 0 | HAU1: 0 | HAV1: 0 | HAW1: 0 | HAX1: 0 | HAY1: 0 | HAZ1: 0 | HBA1: 0 | HBB1: 0 | HBC1: 0 | HBD1: 0 | HBE1: 0 | HBF1: 0 | HBG1: 0 | HBH1: 0 | HBI1: 0 | HBJ1: 0 | HBK1: 0 | HBL1: 0 | HBM1: 0 | HBN1: 0 | HBO1: 0 | HBP1: 0 | HBQ1: 0 | HBR1: 0 | HBS1: 0 | HBT1: 0 | HBU1: 0 | HBV1: 0 | HBW1: 0 | HBX1: 0 | HBY1: 0 | HBZ1: 0 | HCA1: 0 | HCB1: 0 | HCC1: 0 | HCD1: 0 | HCE1: 0 | HCF1: 0 | HCG1: 0 | HCH1: 0 | HCI1: 0 | HCJ1: 0 | HCK1: 0 | HCL1: 0 | HCM1: 0 | HCN1: 0 | HCO1: 0 | HCP1: 0 | HCQ1: 0 | HCR1: 0 | HCS1: 0 | HCT1: 0 | HCU1: 0 | HCV1: 0 | HCW1: 0 | HCX1: 0 | HCY1: 0 | HCZ1: 0 | HDA1: 0 | HDB1: 0 | HDC1: 0 | HDD1: 0 | HDE1: 0 | HDF1: 0 | HDG1: 0 | HDH1: 0 | HDI1: 0 | HDJ1: 0 | HDK1: 0 | HDL1: 0 | HDM1: 0 | HDN1: 0 | HDO1: 0 | HDP1: 0 | HDQ1: 0 | HDR1: 0 | HDS1: 0 | HDT1: 0 | HDU1: 0 | HDV1: 0 | HDW1: 0 | HDX1: 0 | HDY1: 0 | HDZ1: 0 | HEA1: 0 | HEB1: 0 | HEC1: 0 | HED1: 0 | HEE1: 0 | HEF1: 0 | HEG1: 0 | HEH1: 0 | HEI1: 0 | HEJ1: 0 | HEK1: 0 | HEL1: 0 | HEM1: 0 | HEN1: 0 | HEO1: 0 | HEP1: 0 | HEQ1: 0 | HER1: 0 | HES1: 0 | HET1: 0 | HEU1: 0 | HEV1: 0 | HEW1: 0 | HEX1: 0 | HEY1: 0 | HEZ1: 0 | HFA1: 0 | HFB1: 0 | HFC1: 0 | HFD1: 0 | HFE1: 0 | HFF1: 0 | HFG1: 0 | HFH1: 0 | HFI1: 0 | HFJ1: 0 | HFK1: 0 | HFL1: 0 | HFM1: 0 | HFN1: 0 | HFO1: 0 | HFP1: 0 | HFQ1: 0 | HFR1: 0 | HFS1: 0 | HFT1: 0 | HFU1: 0 | HFV1: 0 | HFW1: 0 | HFX1: 0 | HFY1: 0 | HFZ1: 0 | HGA1: 0 | HGB1: 0 | HGC1: 0 | HGD1: 0 | HGE1: 0 | HGF1: 0 | HGG1: 0 | HGH1: 0 | HGI1: 0 | HGJ1: 0 | HGK1: 0 | HGL1: 0 | HGM1: 0 | HGN1: 0 | HGO1: 0 | HGP1: 0 | HGQ1: 0 | HGR1: 0 | HGS1: 0 | HGT1: 0 | HGU1: 0 | HGV1: 0 | HGW1: 0 | HGX1: 0 | HGY1: 0 | HGZ1: 0 | HHA1: 0 | HHB1: 0 | HHC1: 0 | HHD1: 0 | HHE1: 0 | HHF1: 0 | HHG1: 0 | HHH1: 0 | HHI1: 0 | HHJ1: 0 | HHK1: 0 | HHL1: 0 | HHM1: 0 | HHN1: 0 | HHO1: 0 | HHP1: 0 | HHQ1: 0 | HHR1: 0 | HHS1: 0 | HHT1: 0 | HHU1: 0 | HHV1: 0 | HHW1: 0 | HHX1: 0 | HHY1: 0 | HHZ1: 0 | HIA1: 0 | HIB1: 0 | HIC1: 0 | HID1: 0 | HIE1: 0 | HIF1: 0 | HIG1: 0 | HIH1: 0 | HII1: 0 | HIJ1: 0 | HIK1: 0 | HIL1: 0 | HIM1: 0 | HIN1: 0 | HIO1: 0 | HIP1: 0 | HIQ1: 0 | HIR1: 0 | HIS1: 0 | HIT1: 0 | HIU1: 0 | HIV1: 0 | HIW1: 0 | HIX1: 0 | HIY1: 0 | HIZ1: 0 | HJA1: 0 | HJB1: 0 | HJC1: 0 | HJD1: 0 | HJE1: 0 | HJF1: 0 | HJG1: 0 | HJH1: 0 | HJI1: 0 | HJJ1: 0 | HJK1: 0 | HJL1: 0 | HJM1: 0 | HJN1: 0 | HJO1: 0 | HJP1: 0 | HJQ1: 0 | HJR1: 0 | HJS1: 0 | HJT1: 0 | HJU1: 0 | HJV1: 0 | HJW1: 0 | HJX1: 0 | HJY1: 0 | HJZ1: 0 | HKA1: 0 | HKB1: 0 | HKC1: 0 | HKD1: 0 | HKE1: 0 | HKF1: 0 | HKG1: 0 | HKH1: 0 | HKI1: 0 | HKJ1: 0 | HKK1: 0 | HKL1: 0 | HKM1: 0 | HKN1: 0 | HKO1: 0 | HKP1: 0 | HKQ1: 0 | HKR1: 0 | HKS1: 0 | HKT1: 0 | HKU1: 0 | HKV1: 0 | HKW1: 0 | HKX1: 0 | HKY1: 0 | HKZ1: 0 | HLA1: 0 | HLB1: 0 | HLC1: 0 | HLD1: 0 | HLE1: 0 | HLF1: 0 | HLG1: 0 | HLH1: 0 | HLI1: 0 | HLJ1: 0 | HLK1: 0 | HLL1: 0 | HLM1: 0 | HLN1: 0 | HLO1: 0 | HLP1: 0 | HLQ1: 0 | HLR1: 0 | HLS1: 0 | HLT1: 0 | HLU1: 0 | HLV1: 0 | HLW1: 0 | HLX1: 0 | HLY1: 0 | HLZ1: 0 | HMA1: 0 | HMB1: 0 | HMC1: 0 | HMD1: 0 | HME1: 0 | HMF1: 0 | HMG1: 0 | HMH1: 0 | HMI1: 0 | HMJ1: 0 | HMK1: 0 | HML1: 0 | HMM1: 0 | HMN1: 0 | HMO1: 0 | HMP1: 0 | HMQ1: 0 | HMR1: 0 | HMS1: 0 | HMT1: 0 | HMU1: 0 | HMV1: 0 | HMW1: 0 | HMX1: 0 | HMY1: 0 | HMZ1: 0 | HNA1: 0 | HNB1: 0 | HNC1: 0 | HND1: 0 | HNE1: 0 | HNF1: 0 | HNG1: 0 | HNH1: 0 | HNI1: 0 | HNJ1: 0 | HNK1: 0 | HNL1: 0 | HNM1: 0 | HNN1: 0 | HNO1: 0 | HNP1: 0 | HNQ1: 0 | HNR1: 0 | HNS1: 0 | HNT1: 0 | HNU1: 0 | HNV1: 0 | HNW1: 0 | HNX1: 0 | HNY1: 0 | HNZ1: 0 | HOA1: 0 | HOB1: 0 | HOC1: 0 | HOD1: 0 | HOE1: 0 | HOF1: 0 | HOG1: 0 | HOH1: 0 | HOI1: 0 | HOJ1: 0 | HOK1: 0 | HOL1: 0 | HOM1: 0 | HON1: 0 | HOO1: 0 | HOP1: 0 | HOQ1: 0 | HOR1: 0 | HOS1: 0 | HOT1: 0 | HOU1: 0 | HOV1: 0 | HOW1: 0 | HOX1: 0 | HOY1: 0 | HOZ1: 0 | HPA1: 0 | HPB1: 0 | HPC1: 0 | HPD1: 0 | HPE1: 0 | HPF1: 0 | HPG1: 0 | HPH1: 0 | HPI1: 0 | HPJ1: 0 | HPK1: 0 | HPL1: 0 | HPM1: 0 | HPN1: 0 | HPO1: 0 | HPP1: 0 | HPQ1: 0 | HPR1: 0 | HPS1: 0 | HPT1: 0 | HPU1: 0 | HPV1: 0 | HPW1: 0 | HPX1: 0 | HPY1: 0 | HPZ1: 0 | HQA1: 0 | HQB1: 0 | HQC1: 0 | HQD1: 0 | HQE1: 0 | HQF1: 0 | HQG1: 0 | HQH1: 0 | HQI1: 0 | HQJ1: 0 | HQK1: 0 | HQL1: 0 | HQM1: 0 | HQN1: 0 | HQO1: 0 | HQP1: 0 | HQQ1: 0 | HQR1: 0 | HQS1: 0 | HQT1: 0 | HQU1: 0 | HQV1: 0 | HQW1: 0 | HQX1: 0 | HQY1: 0 | HQZ1: 0 | HRA1: 0 | HRB1: 0 | HRC1: 0 | HRD1: 0 | HRE1: 0 | HRF1: 0 | HRG1: 0 | HRH1: 0 | HRI1: 0 | HRJ1: 0 | HRK1: 0 | HRL1: 0 | HRM1: 0 | HRN1: 0 | HRO1: 0 | HRP1: 0 | HRQ1: 0 | HRR1: 0 | HRS1: 0 | HRT1: 0 | HRU1: 0 | HRV1: 0 | HRW1: 0 | HRX1: 0 | HRY1: 0 | HRZ1: 0 | HSA1: 0 | HSB1: 0 | HSC1: 0 | HSD1: 0 | HSE1: 0 | HSF1: 0 | HSG1: 0 | HSH1: 0 | HSI1: 0 | HSJ1: 0 | HSK1: 0 | HSL1: 0 | HSM1: 0 | HSN1: 0 | HSO1: 0 | HSP1: 0 | HSQ1: 0 | HSR1: 0 | HSS1: 0 | HST1: 0 | HSU1: 0 | HSV1: 0 | HSW1: 0 | HSX1: 0 | HSY1: 0 | HSZ1: 0 | HTA1: 0 | HTB1: 0 | HTC1: 0 | HTD1: 0 | HTE1: 0 | HTF1: 0 | HTG1: 0 | HTH1: 0 | HTI1: 0 | HTJ1: 0 | HTK1: 0 | HTL1: 0 | HTM1: 0 | HTN1: 0 | HTO1: 0 | HTP1: 0 | HTQ1: 0 | HTR1: 0 | HTS1: 0 | HTT1: 0 | HTU1: 0 | HTV1: 0 | HTW1: 0 | HTX1: 0 | HTY1: 0 | HTZ1: 0 | HUA1: 0 | HUB1: 0 | HUC1: 0 | HUD1: 0 | HUE1: 0 | HUF1: 0 | HUG1: 0 | HUH1: 0 | HUI1: 0 | HUJ1: 0 | HUK1: 0 | HUL1: 0 | HUM1: 0 | HUN1: 0 | HUO1: 0 | HUP1: 0 | HUQ1: 0 | HUR1: 0 | HUS1: 0 | HUT1: 0 | HUU1: 0 | HUV1: 0 | HUW1: 0 | HUX1: 0 | HUY1: 0 | HUZ1: 0 | HVA1: 0 | HVB1: 0 | HVC1: 0 | HVD1: 0 | HVE1: 0 | HVF1: 0 | HVG1: 0 | HVH1: 0 | HVI1: 0 | HVJ1: 0 | HVK1: 0 | HVL1: 0 | HVM1: 0 | HVN1: 0 | HVO1: 0 | HVP1: 0 | HVQ1: 0 | HVR1: 0 | HVS1: 0 | HVT1: 0 | HVU1: 0 | HVV1: 0 | HVW1: 0 | HVX1: 0 | HVY1: 0 | HVZ1: 0 | HWA1: 0 | HWB1: 0 | HWC1: 0 | HWD1: 0 | HWE1: 0 | HWF1: 0 | HWG1: 0 | HWH1: 0 | HWI1: 0 | HWJ1: 0 | HWK1: 0 | HWL1: 0 | HWM1: 0 | HWN1: 0 | HWO1: 0 | HWP1: 0 | HWQ1: 0 | HWR1: 0 | HWS1: 0 | HWT1: 0 | HWU1: 0 | HWV1: 0 | HWW1: 0 | HWX1: 0 | HWY1: 0 | HWZ1: 0 | HXA1: 0 | HXB1: 0 | HXC1: 0 | HXD1: 0 | HXE1: 0 | HXF1: 0 | HXG1: 0 | HXH1: 0 | HXI1: 0 | HXJ1: 0 | HXK1: 0 | HXL1: 0 | HXM1: 0 | HXN1: 0 | HXO1: 0 | HXP1: 0 | HXQ1: 0 | HXR1: 0 | HXS1: 0 | HXT1: 0 | HXU1: 0 | HXV1: 0 | HXW1: 0 | HXX1: 0 | HXY1: 0 | HXZ1: 0 | HYA1: 0 | HYB1: 0 | HYC1: 0 | HYD1: 0 | HYE1: 0 | HYF1: 0 | HYG1: 0 | HYH1: 0 | HYI1: 0 | HYJ1: 0 | HYK1: 0 | HYL1: 0 | HYM1: 0 | HYN1: 0 | HYO1: 0 | HYP1: 0 | HYQ1: 0 | HYR1: 0 | HYS1: 0 | HYT1: 0 | HYU1: 0 | HYV1: 0 | HYW1: 0 | HYX1: 0 | HYY1: 0 | HYZ1: 0 | HZA1: 0 | HZB1: 0 | HZC1: 0 | HZD1: 0 | HZE1: 0 | HZF1: 0 | HZG1: 0 | HZH1: 0 | HZI1: 0 | HZJ1: 0 | HZK1: 0 | HZL1: 0 | HZM1: 0 | HZN1: 0 | HZO1: 0 | HZP1: 0 | HZQ1: 0 | HZR1: 0 | HZS1: 0 | HZT1: 0 | HZU1: 0 | HZV1: 0 | HZW1: 0 | HZX1: 0 | HZY1: 0 | HZZ1: 0 | IAA1: 0 | IAB1: 0 | IAC1: 0 | IAD1: 0 | IAE1: 0 | IAF1: 0 | IAG1: 0 | IAH1: 0 | IAI1: 0 | IAJ1: 0 | IAK1: 0 | IAL1: 0 | IAM1: 0 | IAN1: 0 | IAO1: 0 | IAP1: 0 | IAQ1: 0 | IAR1: 0 | IAS1: 0 | IAT1: 0 | IAU1: 0 | IAV1: 0 | IAW1: 0 | IAX1: 0 | IAY1: 0 | IAZ1: 0 | IBA1: 0 | IBB1: 0 | IBC1: 0 | IBD1: 0 | IBE1: 0 | IBF1: 0 | IBG1: 0 | IBH1: 0 | IBI1: 0 | IBJ1: 0 | IBK1: 0 | IBL1: 0 | IBM1: 0 | IBN1: 0 | IBO1: 0 | IBP1: 0 | IBQ1: 0 | IBR1: 0 | IBS1: 0 | IBT1: 0 | IBU1: 0 | IBV1: 0 | IBW1: 0 | IBX1: 0 | IBY1: 0 | IBZ1: 0 | ICA1: 0 | ICB1: 0 | ICC1: 0 | ICD1: 0 | ICE1: 0 | ICF1: 0 | ICG1: 0 | ICH1: 0 | ICI1: 0 | ICJ1: 0 | ICK1: 0 | ICL1: 0 | ICM1: 0 | ICN1: 0 | ICO1: 0 | ICP1: 0 | ICQ1: 0 | ICR1: 0 | ICS1: 0 | ICT1: 0 | ICU1: 0 | ICV1: 0 | ICW1: 0 | ICX1: 0 | ICY1: 0 | ICZ1: 0 | IDA1: 0 | IDB1: 0 | IDC1: 0 | IDD1: 0 | IDE1: 0 | IDF1: 0 | IDG1: 0 | IDH1: 0 | IDI1: 0 | IDJ1: 0 | IDK1: 0 | IDL1: 0 | IDM1: 0 | IDN1: 0 | IDO1: 0 | IDP1: 0 | IDQ1: 0 | IDR1: 0 | IDS1: 0 | IDT1: 0 | IDU1: 0 | IDV1: 0 | IDW1: 0 | IDX1: 0 | IDY1: 0 | IDZ1: 0 | IEA1: 0 | IEB1: 0 | IEC1: 0 | IED1: 0 | IEE1: 0 | IEF1: 0 | IEG1: 0 | IEH1: 0 | IEI1: 0 | IEJ1: 0 | IEK1: 0 | IEL1: 0 | IEM1: 0 | IEN1: 0 | IEO1: 0 | IEP1: 0 | IEQ1: 0 | IER1: 0 | IES1: 0 | IET1: 0 | IEU1: 0 | IEV1: 0 | IEW1: 0 | IEX1: 0 | IEY1: 0 | IEZ1: 0 | IFA1: 0 | IFB1: 0 | IFC1: 0 | IFD1: 0 | IFE1: 0 | IFF1: 0 | IFG1: 0 | IFH1: 0 | IFI1: 0 | IFJ1: 0 | IFK1: 0 | IFL1: 0 | IFM1: 0 | IFN1: 0 | IFO1: 0 | IFP1: 0 | IFQ1: 0 | IFR1: 0 | IFS1: 0 | IFT1: 0 | IFU1: 0 | IFV1: 0 | IFW1: 0 | IFX1: 0 | IFY1: 0 | IFZ1: 0 | IGA1: 0 | IGB1: 0 | IGC1: 0 | IGD1: 0 | IGE1: 0 | IGF1: 0 | IGG1: 0 | IGH1: 0 | IGI1: 0 | IGJ1: 0 | IGK1: 0 | IGL1: 0 | IGM1: 0 | IGN1: 0 | IGO1: 0 | IGP1: 0 | IGQ1: 0 | IGR1: 0 | IGS1: 0 | IGT1: 0 | IGU1: 0 | IGV1: 0 | IGW1: 0 | IGX1: 0 | IGY1: 0 | IGZ1: 0 | IHA1: 0 | IHB1: 0 | IHC1: 0 | IHD1: 0 | IHE1: 0 | IHF1: 0 | IHG1: 0 | IHH1: 0 | IHI1: 0 | IHJ1: 0 | IHK1: 0 | IHL1: 0 | IHM1: 0 | IHN1: 0 | IHO1: 0 | IHP1: 0 | IHQ1: 0 | IHR1: 0 | IHS1: 0 | IHT1: 0 | IHU1: 0 | IHV1: 0 | IHW1: 0 | IHX1: 0 | IHY1: 0 | IHZ1: 0 | IIA1: 0 | IIB1: 0 | IIC1: 0 | IID1: 0 | IIE1: 0 | IIF1: 0 | IIG1: 0 | IIH1: 0 | III1: 0 | IIJ1: 0 | IIK1: 0 | IIL1: 0 | IIM1: 0 | IIN1: 0 | IIO1: 0 | IIP1: 0 | IIQ1: 0 | IIR1: 0 | IIS1: 0 | IIT1: 0 | IIU1: 0 | IIV1: 0 | IIW1: 0 | IIX1: 0 | IIY1: 0 | IIZ1: 0 | IJA1: 0 | IJB1: 0 | IJC1: 0 | IJD1: 0 | IJE1: 0 | IJF1: 0 | IJG1: 0 | IJH1: 0 | IJI1: 0 | IJJ1: 0 | IJK1: 0 | IJL1: 0 | IJM1: 0 | IJN1: 0 | IJO1: 0 | IJP1: 0 | IJQ1: 0 | IJR1: 0 | IJS1: 0 | IJT1: 0 | IJU1: 0 | IJV1: 0 | IJW1: 0 | IJX1: 0 | IJY1: 0 | IJZ1: 0 | IKA1: 0 | IKB1: 0 | IKC1: 0 | IKD1: 0 | IKE1: 0 | IKF1: 0 | IKG1: 0 | IKH1: 0 | IKI1: 0 | IKJ1: 0 | IKK1: 0 | IKL1: 0 | IKM1: 0 | IKN1: 0 | IKO1: 0 | IKP1: 0 | IKQ1: 0 | IKR1: 0 | IKS1: 0 | IKT1: 0 | IKU1: 0 | IKV1: 0 | IKW1: 0 | IKX1: 0 | IKY1: 0 | IKZ1: 0 | ILA1: 0 | ILB1: 0 | ILC1: 0 | ILD1: 0 | ILE1: 0 | ILF1: 0 | ILG1: 0 | ILH1: 0 | ILI1: 0 | ILJ1: 0 | ILK1: 0 | ILL1: 0 | ILM1: 0 | ILN1: 0 | ILO1: 0 | ILP1: 0 | ILQ1: 0 | ILR1: 0 | ILS1: 0 | ILT1: 0 | ILU1: 0 | ILV1: 0 | ILW1: 0 | ILX1: 0 | ILY1: 0 | ILZ1: 0 | IMA1: 0 | IMB1: 0 | IMC1: 0 | IMD1: 0 | IME1: 0 | IMF1: 0 | IMG1: 0 | IMH1: 0 | IMI1: 0 | IMJ1: 0 | IMK1: 0 | IML1: 0 | IMM1: 0 | IMN1: 0 | IMO1: 0 | IMP1: 0 | IMQ1: 0 | IMR1: 0 | IMS1: 0 | IMT1: 0 | IMU1: 0 | IMV1: 0 | IMW1: 0 | IMX1: 0 | IMY1: 0 | IMZ1: 0 | INA1: 0 | INB1: 0 | INC1: 0 | IND1: 0 | INE1: 0 | INF1: 0 | ING1: 0 | INH1: 0 | INI1: 0 | INJ1: 0 | INK1: 0 | INL1: 0 | INM1: 0 | INN1: 0 | INO1: 0 | INP1: 0 | INQ1: 0 | INR1: 0 | INS1: 0 | INT1: 0 | INU1: 0 | INV1: 0 | INW1: 0 | INX1: 0 | INY1: 0 | INZ1: 0 | IOA1: 0 | IOB1: 0 | IOC1: 0 | IOD1: 0 | IOE1: 0 | IOF1: 0 | IOG1: 0 | IOH1: 0 | IOI1: 0 | IOJ1: 0 | IOK1: 0 | IOL1: 0 | IOM1: 0 | ION1: 0 | IOO1: 0 | IOP1: 0 | IOQ1: 0 | IOR1: 0 | IOS1: 0 | IOT1: 0 | IOU1: 0 | IOV1: 0 | IOW1: 0 | IOX1: 0 | IOY1: 0 | IOZ1: 0 | IPA1: 0 | IPB1: 0 | IPC1: 0 | IPD1: 0 | IPE1: 0 | IPF1: 0 | IPG1: 0 | IPH1: 0 | IPI1: 0 | IPJ1: 0 | IPK1: 0 | IPL1: 0 | IPM1: 0 | IPN1: 0 | IPO1: 0 | IPP1: 0 | IPQ1: 0 | IPR1: 0 | IPS1: 0 | IPT1: 0 | IPU1: 0 | IPV1: 0 | IPW1: 0 | IPX1: 0 | IPY1: 0 | IPZ1: 0 | IQA1: 0 | IQB1: 0 | IQC1: 0 | IQD1: 0 | IQE1: 0 | IQF1: 0 | IQG1: 0 | IQH1: 0 | IQI1: 0 | IQJ1: 0 | IQK1: 0 | IQL1: 0 | IQM1: 0 | IQN1: 0 | IQO1: 0 | IQP1: 0 | IQQ1: 0 | IQR1: 0 | IQS1: 0 | IQT1: 0 | IQU1: 0 | IQV1: 0 | IQW1: 0 | IQX1: 0 | IQY1: 0 | IQZ1: 0 | IRA1: 0 | IRB1: 0 | IRC1: 0 | IRD1: 0 | IRE1: 0 | IRF1: 0 | IRG1: 0 | IRH1: 0 | IRI1: 0 | IRJ1: 0 | IRK1: 0 | IRL1: 0 | IRM1: 0 | IRN1: 0 | IRO1: 0 | IRP1: 0 | IRQ1: 0 | IRR1: 0 | IRS1: 0 | IRT1: 0 | IRU1: 0 | IRV1: 0 | IRW1: 0 | IRX1: 0 | IRY1: 0 | IRZ1: 0 | ISA1: 0 | ISB1: 0 | ISC1: 0 | ISD1: 0 | ISE1: 0 | ISF1: 0 | ISG1: 0 | ISH1: 0 | ISI1: 0 | ISJ1: 0 | ISK1: 0 | ISL1: 0 | ISM1: 0 | ISN1: 0 | ISO1: 0 | ISP1: 0 | ISQ1: 0 | ISR1: 0 | ISS1: 0 | IST1: 0 | ISU1: 0 | ISV1: 0 | ISW1: 0 | ISX1: 0 | ISY1: 0 | ISZ1: 0 | ITA1: 0 | ITB1: 0 | ITC1: 0 | ITD1: 0 | ITE1: 0 | ITF1: 0 | ITG1: 0 | ITH1: 0 | ITI1: 0 | ITJ1: 0 | ITK1: 0 | ITL1: 0 | ITM1: 0 | ITN1: 0 | ITO1: 0 | ITP1: 0 | ITQ1: 0 | ITR1: 0 | ITS1: 0 | ITT1: 0 | ITU1: 0 | ITV1: 0 | ITW1: 0 | ITX1: 0 | ITY1: 0 | ITZ1: 0 | IUA1: 0 | IUB1: 0 | IUC1: 0 | IUD1: 0 | IUE1: 0 | IUF1: 0 | IUG1: 0 | IUH1: 0 | IUI1: 0 | IUJ1: 0 | IUK1: 0 | IUL1: 0 | IUM1: 0 | IUN1: 0 | IUO1: 0 | IUP1: 0 | IUQ1: 0 | IUR1: 0 | IUS1: 0 | IUT1: 0 | IUU1: 0 | IUV1: 0 | IUW1: 0 | IUX1: 0 | IUY1: 0 | IUZ1: 0 | IVA1: 0 | IVB1: 0 | IVC1: 0 | IVD1: 0 | IVE1: 0 | IVF1: 0 | IVG1: 0 | IVH1: 0 | IVI1: 0 | IVJ1: 0 | IVK1: 0 | IVL1: 0 | IVM1: 0 | IVN1: 0 | IVO1: 0 | IVP1: 0 | IVQ1: 0 | IVR1: 0 | IVS1: 0 | IVT1: 0 | IVU1: 0 | IVV1: 0 | IVW1: 0 | IVX1: 0 | IVY1: 0 | IVZ1: 0 | IWA1: 0 | IWB1: 0 | IWC1: 0 | IWD1: 0 | IWE1: 0 | IWF1: 0 | IWG1: 0 | IWH1: 0 | IWI1: 0 | IWJ1: 0 | IWK1: 0 | IWL1: 0 | IWM1: 0 | IWN1: 0 | IWO1: 0 | IWP1: 0 | IWQ1: 0 | IWR1: 0 | IWS1: 0 | IWT1: 0 | IWU1: 0 | IWV1: 0 | IWW1: 0 | IWX1: 0 | IWY1: 0 | IWZ1: 0 | IXA1: 0 | IXB1: 0 | IXC1: 0 | IXD1: 0 | IXE1: 0 | IXF1: 0 | IXG1: 0 | IXH1: 0 | IXI1: 0 | IXJ1: 0 | IXK1: 0 | IXL1: 0 | IXM1: 0 | IXN1: 0 | IXO1: 0 | IXP1: 0 | IXQ1: 0 | IXR1: 0 | IXS1: 0 | IXT1: 0 | IXU1: 0 | IXV1: 0 | IXW1: 0 | IXX1: 0 | IXY1: 0 | IXZ1: 0 | IYA1: 0 | IYB1: 0 | IYC1: 0 | IYD1: 0 | IYE1: 0 | IYF1: 0 | IYG1: 0 | IYH1: 0 | IYI1: 0 | IYJ1: 0 | IYK1: 0 | IYL1: 0 | IYM1: 0 | IYN1: 0 | IYO1: 0 | IYP1: 0 | IYQ1: 0 | IYR1: 0 | IYS1: 0 | IYT1: 0 | IYU1: 0 | IYV1: 0 | IYW1: 0 | IYX1: 0 | IYY1: 0 | IYZ1: 0 | IZA1: 0 | IZB1: 0 | IZC1: 0 | IZD1: 0 | IZE1: 0 | IZF1: 0 | IZG1: 0 | IZH1: 0 | IZI1: 0 | IZJ1: 0 | IZK1: 0 | IZL1: 0 | IZM1: 0 | IZN1: 0 | IZO1: 0 | IZP1: 0 | IZQ1: 0 | IZR1: 0 | IZS1: 0 | IZT1: 0 | IZU1: 0 | IZV1: 0 | IZW1: 0 | IZX1: 0 | IZY1: 0 | IZZ1: 0 | JAA1: 0 | JAB1: 0 | JAC1: 0 | JAD1: 0 | JAE1: 0 | JAF1: 0 | JAG1: 0 | JAH1: 0 | JAI1: 0 | JAJ1: 0 | JAK1: 0 | JAL1: 0 | JAM1: 0 | JAN1: 0 | JAO1: 0 | JAP1: 0 | JAQ1: 0 | JAR1: 0 | JAS1: 0 | JAT1: 0 | JAU1: 0 | JAV1: 0 | JAW1: 0 | JAX1: 0 | JAY1: 0 | JAZ1: 0 | JBA1: 0 | JBB1: 0 | JBC1: 0 | JBD1: 0 | JBE1: 0 | JBF1: 0 | JBG1: 0 | JBH1: 0 | JBI1: 0 | JBJ1: 0 | JBK1: 0 | JBL1: 0 | JBM1: 0 | JBN1: 0 | JBO1: 0 | JBP1: 0 | JBQ1: 0 | JBR1: 0 | JBS1: 0 | JBT1: 0 | JBU1: 0 | JBV1: 0 | JBW1: 0 | JBX1: 0 | JBY1: 0 | JBZ1: 0 | JCA1: 0 | JCB1: 0 | JCC1: 0 | JCD1: 0 | JCE1: 0 | JCF1: 0 | JCG1: 0 | JCH1: 0 | JCI1: 0 | JCJ1: 0 | JCK1: 0 | JCL1: 0 | JCM1: 0 | JCN1: 0 | JCO1: 0 | JCP1: 0 | JCQ1: 0 | JCR1: 0 | JCS1: 0 | JCT1: 0 | JCU1: 0 | JCV1: 0 | JCW1: 0 | JCX1: 0 | JCY1: 0 | JCZ1: 0 | JDA1: 0 | JDB1: 0 | JDC1: 0 | JDD1: 0 | JDE1: 0 | JDF1: 0 | JDG1: 0 | JDH1: 0 | JDI1: 0 | JDJ1: 0 | JDK1: 0 | JDL1: 0 | JDM1: 0 | JDN1: 0 | JDO1: 0 | JDP1: 0 | JDQ1: 0 | JDR1: 0 | JDS1: 0 | JDT1: 0 | JDU1: 0 | JDV1: 0 | JDW1: 0 | JDX1: 0 | JDY1: 0 | JDZ1: 0 | JEA1: 0 | JEB1: 0 | JEC1: 0 | JED1: 0 | JEE1: 0 | JEF1: 0 | JEG1: 0 | JEH1: 0 | JEI1: 0 | JEJ1: 0 | JEK1: 0 | JEL1: 0 | JEM1: 0 | JEN1: 0 | JEO1: 0 | JEP1: 0 | JEQ1: 0 | JER1: 0 | JES1: 0 | JET1: 0 | JEU1: 0 | JEV1: 0 | JEW1: 0 | JEX1: 0 | JEY1: 0 | JEZ1: 0 | JFA1: 0 | JFB1: 0 | JFC1: 0 | JFD1: 0 | JFE1: 0 | JFF1: 0 | JFG1: 0 | JFH1: 0 | JFI1: 0 | JFJ1: 0 | JFK1: 0 | JFL1: 0 | JFM1: 0 | JFN1: 0 | JFO1: 0 | JFP1: 0 | JFQ1: 0 | JFR1: 0 | JFS1: 0 | JFT1: 0 | JFU1: 0 | JFV1: 0 | JFW1: 0 | JFX1: 0 | JFY1: 0 | JFZ1: 0 | JGA1: 0 | JGB1: 0 | JGC1: 0 | JGD1: 0 | JGE1: 0 | JGF1: 0 | JGG1: 0 | JGH1: 0 | JGI1: 0 | JGJ1: 0 | JGK1: 0 | JGL1: 0 | JGM1: 0 | JGN1: 0 | JGO1: 0 | JGP1: 0 | JGQ1: 0 | JGR1: 0 | JGS1: 0 | JGT1: 0 | JGU1: 0 | JGV1: 0 | JGW1: 0 | JGX1: 0 | JGY1: 0 | JGZ1: 0 | JHA1: 0 | JHB1: 0 | JHC1: 0 | JHD1: 0 | JHE1: 0 | JHF1: 0 | JHG1: 0 | JHH1: 0 | JHI1: 0 | JHJ1: 0 | JHK1: 0 | JHL1: 0 | JHM1: 0 | JHN1: 0 | JHO1: 0 | JHP1: 0 | JHQ1: 0 | JHR1: 0 | JHS1: 0 | JHT1: 0 | JHU1: 0 | JHV1: 0 | JHW1: 0 | JHX1: 0 | JHY1: 0 | JHZ1: 0 | JIA1: 0 | JIB1: 0 | JIC1: 0 | JID1: 0 | JIE1: 0 | JIF1: 0 | JIG1: 0 | JIH1: 0 | JII1: 0 | JIJ1: 0 | JIK1: 0 | JIL1: 0 | JIM1: 0 | JIN1: 0 | JIO1: 0 | JIP1: 0 | JIQ1: 0 | JIR1: 0 | JIS1: 0 | JIT1: 0 | JIU1: 0 | JIV1: 0 | JIW1: 0 | JIX1: 0 | JIY1: 0 | JIZ1: 0 | JJA1: 0 | JJB1: 0 | JJC1: 0 | JJD1: 0 | JJE1: 0 | JJF1: 0 | JJG1: 0 | JJH1: 0 | JJI1: 0 | JJJ1: 0 | JJK1: 0 | JJL1: 0 | JJM1: 0 | JJN1: 0 | JJO1: 0 | JJP1: 0 | JJQ1: 0 | JJR1: 0 | JJS1: 0 | JJT1: 0 | JJU1: 0 | JJV1: 0 | JJW1: 0 | JJX1: 0 | JJY1: 0 | JJZ1: 0 | JKA1: 0 | JKB1: 0 | JKC1: 0 | JKD1: 0 | JKE1: 0 | JKF1: 0 | JKG1: 0 | JKH1: 0 | JKI1: 0 | JKJ1: 0 | JKK1: 0 | JKL1: 0 | JKM1: 0 | JKN1: 0 | JKO1: 0 | JKP1: 0 | JKQ1: 0 | JKR1: 0 | JKS1: 0 | JKT1: 0 | JKU1: 0 | JKV1: 0 | JKW1: 0 | JKX1: 0 | JKY1: 0 | JKZ1: 0 | JLA1: 0 | JLB1: 0 | JLC1: 0 | JLD1: 0 | JLE1: 0 | JLF1: 0 | JLG1: 0 | JLH1: 0 | JLI1: 0 | JLJ1: 0 | JLK1: 0 | JLL1: 0 | JLM1: 0 | JLN1: 0 | JLO1: 0 | JLP1: 0 | JLQ1: 0 | JLR1: 0 | JLS1: 0 | JLT1: 0 | JLU1: 0 | JLV1: 0 | JLW1: 0 | JLX1: 0 | JLY1: 0 | JLZ1: 0 | JMA1: 0 | JMB1: 0 | JMC1: 0 | JMD1: 0 | JME1: 0 | JMF1: 0 | JMG1: 0 | JMH1: 0 | JMI1: 0 | JMJ1: 0 | JMK1: 0 | JML1: 0 | JMM1: 0 | JMN1: 0 | JMO1: 0 | JMP1: 0 | JMQ1: 0 | JMR1: 0 | JMS1: 0 | JMT1: 0 | JMU1: 0 | JMV1: 0 | JMW1: 0 | JMX1: 0 | JMY1: 0 | JMZ1: 0 | JNA1: 0 | JNB1: 0 | JNC1: 0 | JND1: 0 | JNE1: 0 | JNF1: 0 | JNG1: 0 | JNH1: 0 | JNI1: 0 | JNJ1: 0 | JNK1: 0 | JNL1: 0 | JNM1: 0 | JNN1: 0 | JNO1: 0 | JNP1: 0 | JNQ1: 0 | JNR1: 0 | JNS1: 0 | JNT1: 0 | JNU1: 0 | JNV1: 0 | JNW1: 0 | JNX1: 0 | JNY1: 0 | JNZ1: 0 | JOA1: 0 | JOB1: 0 | JOC1: 0 | JOD1: 0 | JOE1: 0 | JOF1: 0 | JOG1: 0 | JOH1: 0 | JOI1: 0 | JOJ1: 0 | JOK1: 0 | JOL1: 0 | JOM1: 0 | JON1: 0 | JOO1: 0 | JOP1: 0 | JOQ1: 0 | JOR1: 0 | JOS1: 0 | JOT1: 0 | JOU1: 0 | JOV1: 0 | JOW1: 0 | JOX1: 0 | JOY1: 0 | JOZ1: 0 | JPA1: 0 | JPB1: 0 | JPC1: 0 | JPD1: 0 | JPE1: 0 | JPF1: 0 | JPG1: 0 | JPH1: 0 | JPI1: 0 | JPJ1: 0 | JPK1: 0 | JPL1: 0 | JPM1: 0 | JPN1: 0 | JPO1: 0 | JPP1: 0 | JPQ1: 0 | JPR1: 0 | JPS1: 0 | JPT1: 0 | JPU1: 0 | JPV1: 0 | JPW1: 0 | JPX1: 0 | JPY1: 0 | JPZ1: 0 | JQA1: 0 | JQB1: 0 | JQC1: 0 | JQD1: 0 | JQE1: 0 | JQF1: 0 | JQG1: 0 | JQH1: 0 | JQI1: 0 | JQJ1: 0 | JQK1: 0 | JQL1: 0 | JQM1: 0 | JQN1: 0 | JQO1: 0 | JQP1: 0 | JQQ1: 0 | JQR1: 0 | JQS1: 0 | JQT1: 0 | JQU1: 0 | JQV1: 0 | JQW1: 0 | JQX1: 0 | JQY1: 0 | JQZ1: 0 | JRA1: 0 | JRB1: 0 | JRC1: 0 | JRD1: 0 | JRE1: 0 | JRF1: 0 | JRG1: 0 | JRH1: 0 | JRI1: 0 | JRJ1: 0 | JRK1: 0 | JRL1: 0 | JRM1: 0 | JRN1: 0 | JRO1: 0 | JRP1: 0 | JRQ1: 0 | JRR1: 0 | JRS1: 0 | JRT1: 0 | JRU1: 0 | JRV1: 0 | JRW1: 0 | JRX1: 0 | JRY1: 0 | JRZ1: 0 | JSA1: 0 | JSB1: 0 | JSC1: 0 | JSD1: 0 | JSE1: 0 | JSF1: 0 | JSG1: 0 | JSH1: 0 | JSI1: 0 | JSJ1: 0 | JSK1: 0 | JSL1: 0 | JSM1: 0 | JSN1: 0 | JSO1: 0 | JSP1: 0 | JSQ1: 0 | JSR1: 0 | JSS1: 0 | JST1: 0 | JSU1: 0 | JSV1: 0 | JSW1: 0 | JSX1: 0 | JSY1: 0 | JSZ1: 0 | JTA1: 0 | JTB1: 0 | JTC1: 0 | JTD1: 0 | JTE1: 0 | JTF1: 0 | JTG1: 0 | JTH1: 0 | JTI1: 0 | JTJ1: 0 | JTK1: 0 | JTL1: 0 | JTM1: 0 | JTN1: 0 | JTO1: 0 | JTP1: 0 | JTQ1: 0 | JTR1: 0 | JTS1: 0 | JTT1: 0 | JTU1: 0 | JTV1: 0 | JTW1: 0 | JTX1: 0 | JTY1: 0 | JTZ1: 0 | JUA1: 0 | JUB1: 0 | JUC1: 0 | JUD1: 0 | JUE1: 0 | JUF1: 0 | JUG1: 0 | JUH1: 0 | JUI1: 0 | JUJ1: 0 | JUK1: 0 | JUL1: 0 | JUM1: 0 | JUN1: 0 | JUO1: 0 | JUP1: 0 | JUQ1: 0 | JUR1: 0 | JUS1: 0 | JUT1: 0 | JUU1: 0 | JUV1: 0 | JUW1: 0 | JUX1: 0 | JUY1: 0 | JUZ1: 0 | JVA1: 0 | JVB1: 0 | JVC1: 0 | JVD1: 0 | JVE1: 0 | JVF1: 0 | JVG1: 0 | JVH1: 0 | JVI1: 0 | JVJ1: 0 | JVK1: 0 | JVL1: 0 | JVM1: 0 | JVN1: 0 | JVO1: 0 | JVP1: 0 | JVQ1: 0 | JVR1: 0 | JVS1: 0 | JVT1: 0 | JVU1: 0 | JVV1: 0 | JVW1: 0 | JVX1: 0 | JVY1: 0 | JVZ1: 0 | JWA1: 0 | JWB1: 0 | JWC1: 0 | JWD1: 0 | JWE1: 0 | JWF1: 0 | JWG1: 0 | JWH1: 0 | JWI1: 0 | JWJ1: 0 | JWK1: 0 | JWL1: 0 | JWM1: 0 | JWN1: 0 | JWO1: 0 | JWP1: 0 | JWQ1: 0 | JWR1: 0 | JWS1: 0 | JWT1: 0 | JWU1: 0 | JWV1: 0 | JWW1: 0 | JWX1: 0 | JWY1: 0 | JWZ1: 0 | JXA1: 0 | JXB1: 0 | JXC1: 0 | JXD1: 0 | JXE1: 0 | JXF1: 0 | JXG1: 0 | JXH1: 0 | JXI1: 0 | JXJ1: 0 | JXK1: 0 | JXL1: 0 | JXM1: 0 | JXN1: 0 | JXO1: 0 | JXP1: 0 | JXQ1: 0 | JXR1: 0 | JXS1: 0 | JXT1: 0 | JXU1: 0 | JXV1: 0 | JXW1: 0 | JXX1: 0 | JXY1: 0 | JXZ1: 0 | JYA1: 0 | JYB1: 0 | JYC1: 0 | JYD1: 0 | JYE1: 0 | JYF1: 0 | JYG1: 0 | JYH1: 0 | JYI1: 0 | JYJ1: 0 | JYK1: 0 | JYL1: 0 | JYM1: 0 | JYN1: 0 | JYO1: 0 | JYP1: 0 | JYQ1: 0 | JYR1: 0 | JYS1: 0 | JYT1: 0 | JYU1: 0 | JYV1: 0 | JYW1: 0 | JYX1: 0 | JYY1: 0 | JYZ1: 0 | JZA1: 0 | JZB1: 0 | JZC1: 0 | JZD1: 0 | JZE1: 0 | JZF1: 0 | JZG1: 0 | JZH1: 0 | JZI1: 0 | JZJ1: 0 | JZK1: 0 | JZL1: 0 | JZM1: 0 | JZN1: 0 | JZO1: 0 | JZP1: 0 | JZQ1: 0 | JZR1: 0 | JZS1: 0 | JZT1: 0 | JZU1: 0 | JZV1: 0 | JZW1: 0 | JZX1: 0 | JZY1: 0 | JZZ1: 0 | KAA1: 0 | KAB1: 0 | KAC1: 0 | KAD1: 0 | KAE1: 0 | KAF1: 0 | KAG1: 0 | KAH1: 0 | KAI1: 0 | KAJ1: 0 | KAK1: 0 | KAL1: 0 | KAM1: 0 | KAN1: 0 | KAO1: 0 | KAP1: 0 | KAQ1: 0 | KAR1: 0 | KAS1: 0 | KAT1: 0 | KAU1: 0 | KAV1: 0 | KAW1: 0 | KAX1: 0 | KAY1: 0 | KAZ1: 0 | KBA1: 0 | KBB1: 0 | KBC1: 0 | KBD1: 0 | KBE1: 0 | KBF1: 0 | KBG1: 0 | KBH1: 0 | KBI1: 0 | KBJ1: 0 | KBK1: 0 | KBL1: 0 | KBM1: 0 | KBN1: 0 | KBO1: 0 | KBP1: 0 | KBQ1: 0 | KBR1: 0 | KBS1: 0 | KBT1: 0 | KBU1: 0 | KBV1: 0 | KBW1: 0 | KBX1: 0 | KBY1: 0 | KBZ1: 0 | KCA1: 0 | KCB1: 0 | KCC1: 0 | KCD1: 0 | KCE1: 0 | KCF1: 0 | KCG1: 0 | KCH1: 0 | KCI1: 0 | KCJ1: 0 | KCK1: 0 | KCL1: 0 | KCM1: 0 | KCN1: 0 | KCO1: 0 | KCP1: 0 | KCQ1: 0 | KCR1: 0 | KCS1: 0 | KCT1: 0 | KCU1: 0 | KCV1: 0 | KCW1: 0 | KCX1: 0 | KCY1: 0 | KCZ1: 0 | KDA1: 0 | KDB1: 0 | KDC1: 0 | KDD1: 0 | KDE1: 0 | KDF1: 0 | KDG1: 0 | KDH1: 0 | KDI1: 0 | KDJ1: 0 | KDK1: 0 | KDL1: 0 | KDM1: 0 | KDN1: 0 | KDO1: 0 | KDP1: 0 | KDQ1: 0 | KDR1: 0 | KDS1: 0 | KDT1: 0 | KDU1: 0 | KDV1: 0 | KDW1: 0 | KDX1: 0 | KDY1: 0 | KDZ1: 0 | KEA1: 0 | KEB1: 0 | KEC1: 0 | KED1: 0 | KEE1: 0 | KEF1: 0 | KEG1: 0 | KEH1: 0 | KEI1: 0 | KEJ1: 0 | KEK1: 0 | KEL1: 0 | KEM1: 0 | KEN1: 0 | KEO1: 0 | KEP1: 0 | KEQ1: 0 | KER1: 0 | KES1: 0 | KET1: 0 | KEU1: 0 | KEV1: 0 | KEW1: 0 | KEX1: 0 | KEY1: 0 | KEZ1: 0 | KFA1: 0 | KFB1: 0 | KFC1: 0 | KFD1: 0 | KFE1: 0 | KFF1: 0 | KFG1: 0 | KFH1: 0 | KFI1: 0 | KFJ1: 0 | KFK1: 0 | KFL1: 0 | KFM1: 0 | KFN1: 0 | KFO1: 0 | KFP1: 0 | KFQ1: 0 | KFR1: 0 | KFS1: 0 | KFT1: 0 | KFU1: 0 | KFV1: 0 | KFW1: 0 | KFX1: 0 | KFY1: 0 | KFZ1: 0 | KGA1: 0 | KGB1: 0 | KGC1: 0 | KGD1: 0 | KGE1: 0 | KGF1: 0 | KGG1: 0 | KGH1: 0 | KGI1: 0 | KGJ1: 0 | KGK1: 0 | KGL1: 0 | KGM1: 0 | KGN1: 0 | KGO1: 0 | KGP1: 0 | KGQ1: 0 | KGR1: 0 | KGS1: 0 | KGT1: 0 | KGU1: 0 | KGV1: 0 | KGW1: 0 | KGX1: 0 | KGY1: 0 | KGZ1: 0 | KHA1: 0 | KHB1: 0 | KHC1: 0 | KHD1: 0 | KHE1: 0 | KHF1: 0 | KHG1: 0 | KHH1: 0 | KHI1: 0 | KHJ1: 0 | KHK1: 0 | KHL1: 0 | KHM1: 0 | KHN1: 0 | KHO1: 0 | KHP1: 0 | KHQ1: 0 | KHR1: 0 | KHS1: 0 | KHT1: 0 | KHU1: 0 | KHV1: 0 | KHW1: 0 | KHX1: 0 | KHY1: 0 | KHZ1: 0 | KIA1: 0 | KIB1: 0 | KIC1: 0 | KID1: 0 | KIE1: 0 | KIF1: 0 | KIG1: 0 | KIH1: 0 | KII1: 0 | KIJ1: 0 | KIK1: 0 | KIL1: 0 | KIM1: 0 | KIN1: 0 | KIO1: 0 | KIP1: 0 | KIQ1: 0 | KIR1: 0 | KIS1: 0 | KIT1: 0 | KIU1: 0 | KIV1: 0 | KIW1: 0 | KIX1: 0 | KIY1: 0 | KIZ1: 0 | KJA1: 0 | KJB1: 0 | KJC1: 0 | KJD1: 0 | KJE1: 0 | KJF1: 0 | KJG1: 0 | KJH1: 0 | KJI1: 0 | KJJ1: 0 | KJK1: 0 | KJL1: 0 | KJM1: 0 | KJN1: 0 | KJO1: 0 | KJP1: 0 | KJQ1: 0 | KJR1: 0 | KJS1: 0 | KJT1: 0 | KJU1: 0 | KJV1: 0 | KJW1: 0 | KJX1: 0 | KJY1: 0 | KJZ1: 0 | KKA1: 0 | KKB1: 0 | KKC1: 0 | KKD1: 0 | KKE1: 0 | KKF1: 0 | KKG1: 0 | KKH1: 0 | KKI1: 0 | KKJ1: 0 | KKK1: 0 | KKL1: 0 | KKM1: 0 | KKN1: 0 | KKO1: 0 | KKP1: 0 | KKQ1: 0 | KKR1: 0 | KKS1: 0 | KKT1: 0 | KKU1: 0 | KKV1: 0 | KKW1: 0 | KKX1: 0 | KKY1: 0 | KKZ1: 0 | KLA1: 0 | KLB1: 0 | KLC1: 0 | KLD1: 0 | KLE1: 0 | KLF1: 0 | KLG1: 0 | KLH1: 0 | KLI1: 0 | KLJ1: 0 | KLK1: 0 | KLL1: 0 | KLM1: 0 | KLN1: 0 | KLO1: 0 | KLP1: 0 | KLQ1: 0 | KLR1: 0 | KLS1: 0 | KLT1: 0 | KLU1: 0 | KLV1: 0 | KLW1: 0 | KLX1: 0 | KLY1: 0 | KLZ1: 0 | KMA1: 0 | KMB1: 0 | KMC1: 0 | KMD1: 0 | KME1: 0 | KMF1: 0 | KMG1: 0 | KMH1: 0 | KMI1: 0 | KMJ1: 0 | KMK1: 0 | KML1: 0 | KMM1: 0 | KMN1: 0 | KMO1: 0 | KMP1: 0 | KMQ1: 0 | KMR1: 0 | KMS1: 0 | KMT1: 0 | KMU1: 0 | KMV1: 0 | KMW1: 0 | KMX1: 0 | KMY1: 0 | KMZ1: 0 | KNA1: 0 | KNB1: 0 | KNC1: 0 | KND1: 0 | KNE1: 0 | KNF1: 0 | KNG1: 0 | KNH1: 0 | KNI1: 0 | KNJ1: 0 | KNK1: 0 | KNL1: 0 | KNM1: 0 | KNN1: 0 | KNO1: 0 | KNP1: 0 | KNQ1: 0 | KNR1: 0 | KNS1: 0 | KNT1: 0 | KNU1: 0 | KNV1: 0 | KNW1: 0 | KNX1: 0 | KNY1: 0 | KNZ1: 0 | KOA1: 0 | KOB1: 0 | KOC1: 0 | KOD1: 0 | KOE1: 0 | KOF1: 0 | KOG1: 0 | KOH1: 0 | KOI1: 0 | KOJ1: 0 | KOK1: 0 | KOL1: 0 | KOM1: 0 | KON1: 0 | KOO1: 0 | KOP1: 0 | KOQ1: 0 | KOR1: 0 | KOS1: 0 | KOT1: 0 | KOU1: 0 | KOV1: 0 | KOW1: 0 | KOX1: 0 | KOY1: 0 | KOZ1: 0 | KPA1: 0 | KPB1: 0 | KPC1: 0 | KPD1: 0 | KPE1: 0 | KPF1: 0 | KPG1: 0 | KPH1: 0 | KPI1: 0 | KPJ1: 0 | KPK1: 0 | KPL1: 0 | KPM1: 0 | KPN1: 0 | KPO1: 0 | KPP1: 0 | KPQ1: 0 | KPR1: 0 | KPS1: 0 | KPT1: 0 | KPU1: 0 | KPV1: 0 | KPW1: 0 | KPX1: 0 | KPY1: 0 | KPZ1: 0 | KQA1: 0 | KQB1: 0 | KQC1: 0 | KQD1: 0 | KQE1: 0 | KQF1: 0 | KQG1: 0 | KQH1: 0 | KQI1: 0 | KQJ1: 0 | KQK1: 0 | KQL1: 0 | KQM1: 0 | KQN1: 0 | KQO1: 0 | KQP1: 0 | KQQ1: 0 | KQR1: 0 | KQS1: 0 | KQT1: 0 | KQU1: 0 | KQV1: 0 | KQW1: 0 | KQX1: 0 | KQY1: 0 | KQZ1: 0 | KRA1: 0 | KRB1: 0 | KRC1: 0 | KRD1: 0 | KRE1: 0 | KRF1: 0 | KRG1: 0 | KRH1: 0 | KRI1: 0 | KRJ1: 0 | KRK1: 0 | KRL1: 0 | KRM1: 0 | KRN1: 0 | KRO1: 0 | KRP1: 0 | KRQ1: 0 | KRR1: 0 | KRS1: 0 | KRT1: 0 | KRU1: 0 | KRV1: 0 | KRW1: 0 | KRX1: 0 | KRY1: 0 | KRZ1: 0 | KSA1: 0 | KSB1: 0 | KSC1: 0 | KSD1: 0 | KSE1: 0 | KSF1: 0 | KSG1: 0 | KSH1: 0 | KSI1: 0 | KSJ1: 0 | KSK1: 0 | KSL1: 0 | KSM1: 0 | KSN1: 0 | KSO1: 0 | KSP1: 0 | KSQ1: 0 | KSR1: 0 | KSS1: 0 | KST1: 0 | KSU1: 0 | KSV1: 0 | KSW1: 0 | KSX1: 0 | KSY1: 0 | KSZ1: 0 | KTA1: 0 | KTB1: 0 | KTC1: 0 | KTD1: 0 | KTE1: 0 | KTF1: 0 | KTG1: 0 | KTH1: 0 | KTI1: 0 | KTJ1: 0 | KTK1: 0 | KTL1: 0 | KTM1: 0 | KTN1: 0 | KTO1: 0 | KTP1: 0 | KTQ1: 0 | KTR1: 0 | KTS1: 0 | KTT1: 0 | KTU1: 0 | KTV1: 0 | KTW1: 0 | KTX1: 0 | KTY1: 0 | KTZ1: 0 | KUA1: 0 | KUB1: 0 | KUC1: 0 | KUD1: 0 | KUE1: 0 | KUF1: 0 | KUG1: 0 | KUH1: 0 | KUI1: 0 | KUJ1: 0 | KUK1: 0 | KUL1: 0 | KUM1: 0 | KUN1: 0 | KUO1: 0 | KUP1: 0 | KUQ1: 0 | KUR1: 0 | KUS1: 0 | KUT1: 0 | KUU1: 0 | KUV1: 0 | KUW1: 0 | KUX1: 0 | KUY1: 0 | KUZ1: 0 | KVA1: 0 | KVB1: 0 | KVC1: 0 | KVD1: 0 | KVE1: 0 | KVF1: 0 | KVG1: 0 | KVH1: 0 | KVI1: 0 | KVJ1: 0 | KVK1: 0 | KVL1: 0 | KVM1: 0 | KVN1: 0 | KVO1: 0 | KVP1: 0 | KVQ1: 0 | KVR1: 0 | KVS1: 0 | KVT1: 0 | KVU1: 0 | KVV1: 0 | KVW1: 0 | KVX1: 0 | KVY1: 0 | KVZ1: 0 | KWA1: 0 | KWB1: 0 | KWC1: 0 | KWD1: 0 | KWE1: 0 | KWF1: 0 | KWG1: 0 | KWH1: 0 | KWI1: 0 | KWJ1: 0 | KWK1: 0 | KWL1: 0 | KWM1: 0 | KWN1: 0 | KWO1: 0 | KWP1: 0 | KWQ1: 0 | KWR1: 0 | KWS1: 0 | KWT1: 0 | KWU1: 0 | KWV1: 0 | KWW1: 0 | KWX1: 0 | KWY1: 0 | KWZ1: 0 | KXA1: 0 | KXB1: 0 | KXC1: 0 | KXD1: 0 | KXE1: 0 | KXF1: 0 | KXG1: 0 | KXH1: 0 | KXI1: 0 | KXJ1: 0 | KXK1: 0 | KXL1: 0 | KXM1: 0 | KXN1: 0 | KXO1: 0 | KXP1: 0 | KXQ1: 0 | KXR1: 0 | KXS1: 0 | KXT1: 0 | KXU1: 0 | KXV1: 0 | KXW1: 0 | KXX1: 0 | KXY1: 0 | KXZ1: 0 | KYA1: 0 | KYB1: 0 | KYC1: 0 | KYD1: 0 | KYE1: 0 | KYF1: 0 | KYG1: 0 | KYH1: 0 | KYI1: 0 | KYJ1: 0 | KYK1: 0 | KYL1: 0 | KYM1: 0 | KYN1: 0 | KYO1: 0 | KYP1: 0 | KYQ1: 0 | KYR1: 0 | KYS1: 0 | KYT1: 0 | KYU1: 0 | KYV1: 0 | KYW1: 0 | KYX1: 0 | KYY1: 0 | KYZ1: 0 | KZA1: 0 | KZB1: 0 | KZC1: 0 | KZD1: 0 | KZE1: 0 | KZF1: 0 | KZG1: 0 | KZH1: 0 | KZI1: 0 | KZJ1: 0 | KZK1: 0 | KZL1: 0 | KZM1: 0 | KZN1: 0 | KZO1: 0 | KZP1: 0 | KZQ1: 0 | KZR1: 0 | KZS1: 0 | KZT1: 0 | KZU1: 0 | KZV1: 0 | KZW1: 0 | KZX1: 0 | KZY1: 0 | KZZ1: 0 | LAA1: 0 | LAB1: 0 | LAC1: 0 | LAD1: 0 | LAE1: 0 | LAF1: 0 | LAG1: 0 | LAH1: 0 | LAI1: 0 | LAJ1: 0 | LAK1: 0 | LAL1: 0 | LAM1: 0 | LAN1: 0 | LAO1: 0 | LAP1: 0 | LAQ1: 0 | LAR1: 0 | LAS1: 0 | LAT1: 0 | LAU1: 0 | LAV1: 0 | LAW1: 0 | LAX1: 0 | LAY1: 0 | LAZ1: 0 | LBA1: 0 | LBB1: 0 | LBC1: 0 | LBD1: 0 | LBE1: 0 | LBF1: 0 | LBG1: 0 | LBH1: 0 | LBI1: 0 | LBJ1: 0 | LBK1: 0 | LBL1: 0 | LBM1: 0 | LBN1: 0 | LBO1: 0 | LBP1: 0 | LBQ1: 0 | LBR1: 0 | LBS1: 0 | LBT1: 0 | LBU1: 0 | LBV1: 0 | LBW1: 0 | LBX1: 0 | LBY1: 0 | LBZ1: 0 | LCA1: 0 | LCB1: 0 | LCC1: 0 | LCD1: 0 | LCE1: 0 | LCF1: 0 | LCG1: 0 | LCH1: 0 | LCI1: 0 | LCJ1: 0 | LCK1: 0 | LCL1: 0 | LCM1: 0 | LCN1: 0 | LCO1: 0 | LCP1: 0 | LCQ1: 0 | LCR1: 0 | LCS1: 0 | LCT1: 0 | LCU1: 0 | LCV1: 0 | LCW1: 0 | LCX1: 0 | LCY1: 0 | LCZ1: 0 | LDA1: 0 | LDB1: 0 | LDC1: 0 | LDD1: 0 | LDE1: 0 | LDF1: 0 | LDG1: 0 | LDH1: 0 | LDI1: 0 | LDJ1: 0 | LDK1: 0 | LDL1: 0 | LDM1: 0 | LDN1: 0 | LDO1: 0 | LDP1: 0 | LDQ1: 0 | LDR1: 0 | LDS1: 0 | LDT1: 0 | LDU1: 0 | LDV1: 0 | LDW1: 0 | LDX1: 0 | LDY1: 0 | LDZ1: 0 | LEA1: 0 | LEB1: 0 | LEC1: 0 | LED1: 0 | LEE1: 0 | LEF1: 0 | LEG1: 0 | LEH1: 0 | LEI1: 0 | LEJ1: 0 | LEK1: 0 | LEL1: 0 | LEM1: 0 | LEN1: 0 | LEO1: 0 | LEP1: 0 | LEQ1: 0 | LER1: 0 | LES1: 0 | LET1: 0 | LEU1: 0 | LEV1: 0 | LEW1: 0 | LEX1: 0 | LEY1: 0 | LEZ1: 0 | LFA1: 0 | LFB1: 0 | LFC1: 0 | LFD1: 0 | LFE1: 0 | LFF1: 0 | LFG1: 0 | LFH1: 0 | LFI1: 0 | LFJ1: 0 | LFK1: 0 | LFL1: 0 | LFM1: 0 | LFN1: 0 | LFO1: 0 | LFP1: 0 | LFQ1: 0 | LFR1: 0 | LFS1: 0 | LFT1: 0 | LFU1: 0 | LFV1: 0 | LFW1: 0 | LFX1: 0 | LFY1: 0 | LFZ1: 0 | LGA1: 0 | LGB1: 0 | LGC1: 0 | LGD1: 0 | LGE1: 0 | LGF1: 0 | LGG1: 0 | LGH1: 0 | LGI1: 0 | LGJ1: 0 | LGK1: 0 | LGL1: 0 | LGM1: 0 | LGN1: 0 | LGO1: 0 | LGP1: 0 | LGQ1: 0 | LGR1: 0 | LGS1: 0 | LGT1: 0 | LGU1: 0 | LGV1: 0 | LGW1: 0 | LGX1: 0 | LGY1: 0 | LGZ1: 0 | LHA1: 0 | LHB1: 0 | LHC1: 0 | LHD1: 0 | LHE1: 0 | LHF1: 0 | LHG1: 0 | LHH1: 0 | LHI1: 0 | LHJ1: 0 | LHK1: 0 | LHL1: 0 | LHM1: 0 | LHN1: 0 | LHO1: 0 | LHP1: 0 | LHQ1: 0 | LHR1: 0 | LHS1: 0 | LHT1: 0 | LHU1: 0 | LHV1: 0 | LHW1: 0 | LHX1: 0 | LHY1: 0 | LHZ1: 0 | LIA1: 0 | LIB1: 0 | LIC1: 0 | LID1: 0 | LIE1: 0 | LIF1: 0 | LIG1: 0 | LIH1: 0 | LII1: 0 | LIJ1: 0 | LIK1: 0 | LIL1: 0 | LIM1: 0 | LIN1: 0 | LIO1: 0 | LIP1: 0 | LIQ1: 0 | LIR1: 0 | LIS1: 0 | LIT1: 0 | LIU1: 0 | LIV1: 0 | LIW1: 0 | LIX1: 0 | LIY1: 0 | LIZ1: 0 | LJA1: 0 | LJB1: 0 | LJC1: 0 | LJD1: 0 | LJE1: 0 | LJF1: 0 | LJG1: 0 | LJH1: 0 | LJI1: 0 | LJJ1: 0 | LJK1: 0 | LJL1: 0 | LJM1: 0 | LJN1: 0 | LJO1: 0 | LJP1: 0 | LJQ1: 0 | LJR1: 0 | LJS1: 0 | LJT1: 0 | LJU1: 0 | LJV1: 0 | LJW1: 0 | LJX1: 0 | LJY1: 0 | LJZ1: 0 | LKA1: 0 | LKB1: 0 | LKC1: 0 | LKD1: 0 | LKE1: 0 | LKF1: 0 | LKG1: 0 | LKH1: 0 | LKI1: 0 | LKJ1: 0 | LKK1: 0 | LKL1: 0 | LKM1: 0 | LKN1: 0 | LKO1: 0 | LKP1: 0 | LKQ1: 0 | LKR1: 0 | LKS1: 0 | LKT1: 0 | LKU1: 0 | LKV1: 0 | LKW1: 0 | LKX1: 0 | LKY1: 0 | LKZ1: 0 | LLA1: 0 | LLB1: 0 | LLC1: 0 | LLD1: 0 | LLE1: 0 | LLF1: 0 | LLG1: 0 | LLH1: 0 | LLI1: 0 | LLJ1: 0 | LLK1: 0 | LLL1: 0 | LLM1: 0 | LLN1: 0 | LLO1: 0 | LLP1: 0 | LLQ1: 0 | LLR1: 0 | LLS1: 0 | LLT1: 0 | LLU1: 0 | LLV1: 0 | LLW1: 0 | LLX1: 0 | LLY1: 0 | LLZ1: 0 | LMA1: 0 | LMB1: 0 | LMC1: 0 | LMD1: 0 | LME1: 0 | LMF1: 0 | LMG1: 0 | LMH1: 0 | LMI1: 0 | LMJ1: 0 | LMK1: 0 | LML1: 0 | LMM1: 0 | LMN1: 0 | LMO1: 0 | LMP1: 0 | LMQ1: 0 | LMR1: 0 | LMS1: 0 | LMT1: 0 | LMU1: 0 | LMV1: 0 | LMW1: 0 | LMX1: 0 | LMY1: 0 | LMZ1: 0 | LNA1: 0 | LNB1: 0 | LNC1: 0 | LND1: 0 | LNE1: 0 | LNF1: 0 | LNG1: 0 | LNH1: 0 | LNI1: 0 | LNJ1: 0 | LNK1: 0 | LNL1: 0 | LNM1: 0 | LNN1: 0 | LNO1: 0 | LNP1: 0 | LNQ1: 0 | LNR1: 0 | LNS1: 0 | LNT1: 0 | LNU1: 0 | LNV1: 0 | LNW1: 0 | LNX1: 0 | LNY1: 0 | LNZ1: 0 | LOA1: 0 | LOB1: 0 | LOC1: 0 | LOD1: 0 | LOE1: 0 | LOF1: 0 | LOG1: 0 | LOH1: 0 | LOI1: 0 | LOJ1: 0 | LOK1: 0 | LOL1: 0 | LOM1: 0 | LON1: 0 | LOO1: 0 | LOP1: 0 | LOQ1: 0 | LOR1: 0 | LOS1: 0 | LOT1: 0 | LOU1: 0 | LOV1: 0 | LOW1: 0 | LOX1: 0 | LOY1: 0 | LOZ1: 0 | LPA1: 0 | LPB1: 0 | LPC1: 0 | LPD1: 0 | LPE1: 0 | LPF1: 0 | LPG1: 0 | LPH1: 0 | LPI1: 0 | LPJ1: 0 | LPK1: 0 | LPL1: 0 | LPM1: 0 | LPN1: 0 | LPO1: 0 | LPP1: 0 | LPQ1: 0 | LPR1: 0 | LPS1: 0 | LPT1: 0 | LPU1: 0 | LPV1: 0 | LPW1: 0 | LPX1: 0 | LPY1: 0 | LPZ1: 0 | LQA1: 0 | LQB1: 0 | LQC1: 0 | LQD1: 0 | LQE1: 0 | LQF1: 0 | LQG1: 0 | LQH1: 0 | LQI1: 0 | LQJ1: 0 | LQK1: 0 | LQL1: 0 | LQM1: 0 | LQN1: 0 | LQO1: 0 | LQP1: 0 | LQQ1: 0 | LQR1: 0 | LQS1: 0 | LQT1: 0 | LQU1: 0 | LQV1: 0 | LQW1: 0 | LQX1: 0 | LQY1: 0 | LQZ1: 0 | LRA1: 0 | LRB1: 0 | LRC1: 0 | LRD1: 0 | LRE1: 0 | LRF1: 0 | LRG1: 0 | LRH1: 0 | LRI1: 0 | LRJ1: 0 | LRK1: 0 | LRL1: 0 | LRM1: 0 | LRN1: 0 | LRO1: 0 | LRP1: 0 | LRQ1: 0 | LRR1: 0 | LRS1: 0 | LRT1: 0 | LRU1: 0 | LRV1: 0 | LRW1: 0 | LRX1: 0 | LRY1: 0 | LRZ1: 0 | LSA1: 0 | LSB1: 0 | LSC1: 0 | LSD1: 0 | LSE1: 0 | LSF1: 0 | LSG1: 0 | LSH1: 0 | LSI1: 0 | LSJ1: 0 | LSK1: 0 | LSL1: 0 | LSM1: 0 | LSN1: 0 | LSO1: 0 | LSP1: 0 | LSQ1: 0 | LSR1: 0 | LSS1: 0 | LST1: 0 | LSU1: 0 | LSV1: 0 | LSW1: 0 | LSX1: 0 | LSY1: 0 | LSZ1: 0 | LTA1: 0 | LTB1: 0 | LTC1: 0 | LTD1: 0 | LTE1: 0 | LTF1: 0 | LTG1: 0 | LTH1: 0 | LTI1: 0 | LTJ1: 0 | LTK1: 0 | LTL1: 0 | LTM1: 0 | LTN1: 0 | LTO1: 0 | LTP1: 0 | LTQ1: 0 | LTR1: 0 | LTS1: 0 | LTT1: 0 | LTU1: 0 | LTV1: 0 | LTW1: 0 | LTX1: 0 | LTY1: 0 | LTZ1: 0 | LUA1: 0 | LUB1: 0 | LUC1: 0 | LUD1: 0 | LUE1: 0 | LUF1: 0 | LUG1: 0 | LUH1: 0 | LUI1: 0 | LUJ1: 0 | LUK1: 0 | LUL1: 0 | LUM1: 0 | LUN1: 0 | LUO1: 0 | LUP1: 0 | LUQ1: 0 | LUR1: 0 | LUS1: 0 | LUT1: 0 | LUU1: 0 | LUV1: 0 | LUW1: 0 | LUX1: 0 | LUY1: 0 | LUZ1: 0 | LVA1: 0 | LVB1: 0 | LVC1: 0 | LVD1: 0 | LVE1: 0 | LVF1: 0 | LVG1: 0 | LVH1: 0 | LVI1: 0 | LVJ1: 0 | LVK1: 0 | LVL1: 0 | LVM1: 0 | LVN1: 0 | LVO1: 0 | LVP1: 0 | LVQ1: 0 | LVR1: 0 | LVS1: 0 | LVT1: 0 | LVU1: 0 | LVV1: 0 | LVW1: 0 | LVX1: 0 | LVY1: 0 | LVZ1: 0 | LWA1: 0 | LWB1: 0 | LWC1: 0 | LWD1: 0 | LWE1: 0 | LWF1: 0 | LWG1: 0 | LWH1: 0 | LWI1: 0 | LWJ1: 0 | LWK1: 0 | LWL1: 0 | LWM1: 0 | LWN1: 0 | LWO1: 0 | LWP1: 0 | LWQ1: 0 | LWR1: 0 | LWS1: 0 | LWT1: 0 | LWU1: 0 | LWV1: 0 | LWW1: 0 | LWX1: 0 | LWY1: 0 | LWZ1: 0 | LXA1: 0 | LXB1: 0 | LXC1: 0 | LXD1: 0 | LXE1: 0 | LXF1: 0 | LXG1: 0 | LXH1: 0 | LXI1: 0 | LXJ1: 0 | LXK1: 0 | LXL1: 0 | LXM1: 0 | LXN1: 0 | LXO1: 0 | LXP1: 0 | LXQ1: 0 | LXR1: 0 | LXS1: 0 | LXT1: 0 | LXU1: 0 | LXV1: 0 | LXW1: 0 | LXX1: 0 | LXY1: 0 | LXZ1: 0 | LYA1: 0 | LYB1: 0 | LYC1: 0 | LYD1: 0 | LYE1: 0 | LYF1: 0 | LYG1: 0 | LYH1: 0 | LYI1: 0 | LYJ1: 0 | LYK1: 0 | LYL1: 0 | LYM1: 0 | LYN1: 0 | LYO1: 0 | LYP1: 0 | LYQ1: 0 | LYR1: 0 | LYS1: 0 | LYT1: 0 | LYU1: 0 | LYV1: 0 | LYW1: 0 | LYX1: 0 | LYY1: 0 | LYZ1: 0 | LZA1: 0 | LZB1: 0 | LZC1: 0 | LZD1: 0 | LZE1: 0 | LZF1: 0 | LZG1: 0 | LZH1: 0 | LZI1: 0 | LZJ1: 0 | LZK1: 0 | LZL1: 0 | LZM1: 0 | LZN1: 0 | LZO1: 0 | LZP1: 0 | LZQ1: 0 | LZR1: 0 | LZS1: 0 | LZT1: 0 | LZU1: 0 | LZV1: 0 | LZW1: 0 | LZX1: 0 | LZY1: 0 | LZZ1: 0 | MAA1: 0 | MAB1: 0 | MAC1: 0 | MAD1: 0 | MAE1: 0 | MAF1: 0 | MAG1: 0 | MAH1: 0 | MAI1: 0 | MAJ1: 0 | MAK1: 0 | MAL1: 0 | MAM1: 0 | MAN1: 0 | MAO1: 0 | MAP1: 0 | MAQ1: 0 | MAR1: 0 | MAS1: 0 | MAT1: 0 | MAU1: 0 | MAV1: 0 | MAW1: 0 | MAX1: 0 | MAY1: 0 | MAZ1: 0 | MBA1: 0 | MBB1: 0 | MBC1: 0 | MBD1: 0 | MBE1: 0 | MBF1: 0 | MBG1: 0 | MBH1: 0 | MBI1: 0 | MBJ1: 0 | MBK1: 0 | MBL1: 0 | MBM1: 0 | MBN1: 0 | MBO1: 0 | MBP1: 0 | MBQ1: 0 | MBR1: 0 | MBS1: 0 | MBT1: 0 | MBU1: 0 | MBV1: 0 | MBW1: 0 | MBX1: 0 | MBY1: 0 | MBZ1: 0 | MCA1: 0 | MCB1: 0 | MCC1: 0 | MCD1: 0 | MCE1: 0 | MCF1: 0 | MCG1: 0 | MCH1: 0 | MCI1: 0 | MCJ1: 0 | MCK1: 0 | MCL1: 0 | MCM1: 0 | MCN1: 0 | MCO1: 0 | MCP1: 0 | MCQ1: 0 | MCR1: 0 | MCS1: 0 | MCT1: 0 | MCU1: 0 | MCV1: 0 | MCW1: 0 | MCX1: 0 | MCY1: 0 | MCZ1: 0 | MDA1: 0 | MDB1: 0 | MDC1: 0 | MDD1: 0 | MDE1: 0 | MDF1: 0 | MDG1: 0 | MDH1: 0 | MDI1: 0 | MDJ1: 0 | MDK1: 0 | MDL1: 0 | MDM1: 0 | MDN1: 0 | MDO1: 0 | MDP1: 0 | MDQ1: 0 | MDR1: 0 | MDS1: 0 | MDT1: 0 | MDU1: 0 | MDV1: 0 | MDW1: 0 | MDX1: 0 | MDY1: 0 | MDZ1: 0 | MEA1: 0 | MEB1: 0 | MEC1: 0 | MED1: 0 | MEE1: 0 | MEF1: 0 | MEG1: 0 | MEH1: 0 | MEI1: 0 | MEJ1: 0 | MEK1: 0 | MEL1: 0 | MEM1: 0 | MEN1: 0 | MEO1: 0 | MEP1: 0 | MEQ1: 0 | MER1: 0 | MES1: 0 | MET1: 0 | MEU1: 0 | MEV1: 0 | MEW1: 0 | MEX1: 0 | MEY1: 0 | MEZ1: 0 | MFA1: 0 | MFB1: 0 | MFC1: 0 | MFD1: 0 | MFE1: 0 | MFF1: 0 | MFG1: 0 | MFH1: 0 | MFI1: 0 | MFJ1: 0 | MFK1: 0 | MFL1: 0 | MFM1: 0 | MFN1: 0 | MFO1: 0 | MFP1: 0 | MFQ1: 0 | MFR1: 0 | MFS1: 0 | MFT1: 0 | MFU1: 0 | MFV1: 0 | MFW1: 0 | MFX1: 0 | MFY1: 0 | MFZ1: 0 | MGA1: 0 | MGB1: 0 | MGC1: 0 | MGD1: 0 | MGE1: 0 | MGF1: 0 | MGG1: 0 | MGH1: 0 | MGI1: 0 | MGJ1: 0 | MGK1: 0 | MGL1: 0 | MGM1: 0 | MGN1: 0 | MGO1: 0 | MGP1: 0 | MGQ1: 0 | MGR1: 0 | MGS1: 0 | MGT1: 0 | MGU1: 0 | MGV1: 0 | MGW1: 0 | MGX1: 0 | MGY1: 0 | MGZ1: 0 | MHA1: 0 | MHB1: 0 | MHC1: 0 | MHD1: 0 | MHE1: 0 | MHF1: 0 | MHG1: 0 | MHH1: 0 | MHI1: 0 | MHJ1: 0 | MHK1: 0 | MHL1: 0 | MHM1: 0 | MHN1: 0 | MHO1: 0 | MHP1: 0 | MHQ1: 0 | MHR1: 0 | MHS1: 0 | MHT1: 0 | MHU1: 0 | MHV1: 0 | MHW1: 0 | MHX1: 0 | MHY1: 0 | MHZ1: 0 | MIA1: 0 | MIB1: 0 | MIC1: 0 | MID1: 0 | MIE1: 0 | MIF1: 0 | MIG1: 0 | MIH1: 0 | MII1: 0 | MIJ1: 0 | MIK1: 0 | MIL1: 0 | MIM1: 0 | MIN1: 0 | MIO1: 0 | MIP1: 0 | MIQ1: 0 | MIR1: 0 | MIS1: 0 | MIT1: 0 | MIU1: 0 | MIV1: 0 | MIW1: 0 | MIX1: 0 | MIY1: 0 | MIZ1: 0 | MJA1: 0 | MJB1: 0 | MJC1: 0 | MJD1: 0 | MJE1: 0 | MJF1: 0 | MJG1: 0 | MJH1: 0 | MJI1: 0 | MJJ1: 0 | MJK1: 0 | MJL1: 0 | MJM1: 0 | MJN1: 0 | MJO1: 0 | MJP1: 0 | MJQ1: 0 | MJR1: 0 | MJS1: 0 | MJT1: 0 | MJU1: 0 | MJV1: 0 | MJW1: 0 | MJX1: 0 | MJY1: 0 | MJZ1: 0 | MKA1: 0 | MKB1: 0 | MKC1: 0 | MKD1: 0 | MKE1: 0 | MKF1: 0 | MKG1: 0 | MKH1: 0 | MKI1: 0 | MKJ1: 0 | MKK1: 0 | MKL1: 0 | MKM1: 0 | MKN1: 0 | MKO1: 0 | MKP1: 0 | MKQ1: 0 | MKR1: 0 | MKS1: 0 | MKT1: 0 | MKU1: 0 | MKV1: 0 | MKW1: 0 | MKX1: 0 | MKY1: 0 | MKZ1: 0 | MLA1: 0 | MLB1: 0 | MLC1: 0 | MLD1: 0 | MLE1: 0 | MLF1: 0 | MLG1: 0 | MLH1: 0 | MLI1: 0 | MLJ1: 0 | MLK1: 0 | MLL1: 0 | MLM1: 0 | MLN1: 0 | MLO1: 0 | MLP1: 0 | MLQ1: 0 | MLR1: 0 | MLS1: 0 | MLT1: 0 | MLU1: 0 | MLV1: 0 | MLW1: 0 | MLX1: 0 | MLY1: 0 | MLZ1: 0 | MMA1: 0 | MMB1: 0 | MMC1: 0 | MMD1: 0 | MME1: 0 | MMF1: 0 | MMG1: 0 | MMH1: 0 | MMI1: 0 | MMJ1: 0 | MMK1: 0 | MML1: 0 | MMM1: 0 | MMN1: 0 | MMO1: 0 | MMP1: 0 | MMQ1: 0 | MMR1: 0 | MMS1: 0 | MMT1: 0 | MMU1: 0 | MMV1: 0 | MMW1: 0 | MMX1: 0 | MMY1: 0 | MMZ1: 0 | MNA1: 0 | MNB1: 0 | MNC1: 0 | MND1: 0 | MNE1: 0 | MNF1: 0 | MNG1: 0 | MNH1: 0 | MNI1: 0 | MNJ1: 0 | MNK1: 0 | MNL1: 0 | MNM1: 0 | MNN1: 0 | MNO1: 0 | MNP1: 0 | MNQ1: 0 | MNR1: 0 | MNS1: 0 | MNT1: 0 | MNU1: 0 | MNV1: 0 | MNW1: 0 | MNX1: 0 | MNY1: 0 | MNZ1: 0 | MOA1: 0 | MOB1: 0 | MOC1: 0 | MOD1: 0 | MOE1: 0 | MOF1: 0 | MOG1: 0 | MOH1: 0 | MOI1: 0 | MOJ1: 0 | MOK1: 0 | MOL1: 0 | MOM1: 0 | MON1: 0 | MOO1: 0 | MOP1: 0 | MOQ1: 0 | MOR1: 0 | MOS1: 0 | MOT1: 0 | MOU1: 0 | MOV1: 0 | MOW1: 0 | MOX1: 0 | MOY1: 0 | MOZ1: 0 | MPA1: 0 | MPB1: 0 | MPC1: 0 | MPD1: 0 | MPE1: 0 | MPF1: 0 | MPG1: 0 | MPH1: 0 | MPI1: 0 | MPJ1: 0 | MPK1: 0 | MPL1: 0 | MPM1: 0 | MPN1: 0 | MPO1: 0 | MPP1: 0 | MPQ1: 0 | MPR1: 0 | MPS1: 0 | MPT1: 0 | MPU1: 0 | MPV1: 0 | MPW1: 0 | MPX1: 0 | MPY1: 0 | MPZ1: 0 | MQA1: 0 | MQB1: 0 | MQC1: 0 | MQD1: 0 | MQE1: 0 | MQF1: 0 | MQG1: 0 | MQH1: 0 | MQI1: 0 | MQJ1: 0 | MQK1: 0 | MQL1: 0 | MQM1: 0 | MQN1: 0 | MQO1: 0 | MQP1: 0 | MQQ1: 0 | MQR1: 0 | MQS1: 0 | MQT1: 0 | MQU1: 0 | MQV1: 0 | MQW1: 0 | MQX1: 0 | MQY1: 0 | MQZ1: 0 | MRA1: 0 | MRB1: 0 | MRC1: 0 | MRD1: 0 | MRE1: 0 | MRF1: 0 | MRG1: 0 | MRH1: 0 | MRI1: 0 | MRJ1: 0 | MRK1: 0 | MRL1: 0 | MRM1: 0 | MRN1: 0 | MRO1: 0 | MRP1: 0 | MRQ1: 0 | MRR1: 0 | MRS1: 0 | MRT1: 0 | MRU1: 0 | MRV1: 0 | MRW1: 0 | MRX1: 0 | MRY1: 0 | MRZ1: 0 | MSA1: 0 | MSB1: 0 | MSC1: 0 | MSD1: 0 | MSE1: 0 | MSF1: 0 | MSG1: 0 | MSH1: 0 | MSI1: 0 | MSJ1: 0 | MSK1: 0 | MSL1: 0 | MSM1: 0 | MSN1: 0 | MSO1: 0 | MSP1: 0 | MSQ1: 0 | MSR1: 0 | MSS1: 0 | MST1: 0 | MSU1: 0 | MSV1: 0 | MSW1: 0 | MSX1: 0 | MSY1: 0 | MSZ1: 0 | MTA1: 0 | MTB1: 0 | MTC1: 0 | MTD1: 0 | MTE1: 0 | MTF1: 0 | MTG1: 0 | MTH1: 0 | MTI1: 0 | MTJ1: 0 | MTK1: 0 | MTL1: 0 | MTM1: 0 | MTN1: 0 | MTO1: 0 | MTP1: 0 | MTQ1: 0 | MTR1: 0 | MTS1: 0 | MTT1: 0 | MTU1: 0 | MTV1: 0 | MTW1: 0 | MTX1: 0 | MTY1: 0 | MTZ1: 0 | MUA1: 0 | MUB1: 0 | MUC1: 0 | MUD1: 0 | MUE1: 0 | MUF1: 0 | MUG1: 0 | MUH1: 0 | MUI1: 0 | MUJ1: 0 | MUK1: 0 | MUL1: 0 | MUM1: 0 | MUN1: 0 | MUO1: 0 | MUP1: 0 | MUQ1: 0 | MUR1: 0 | MUS1: 0 | MUT1: 0 | MUU1: 0 | MUV1: 0 | MUW1: 0 | MUX1: 0 | MUY1: 0 | MUZ1: 0 | MVA1: 0 | MVB1: 0 | MVC1: 0 | MVD1: 0 | MVE1: 0 | MVF1: 0 | MVG1: 0 | MVH1: 0 | MVI1: 0 | MVJ1: 0 | MVK1: 0 | MVL1: 0 | MVM1: 0 | MVN1: 0 | MVO1: 0 | MVP1: 0 | MVQ1: 0 | MVR1: 0 | MVS1: 0 | MVT1: 0 | MVU1: 0 | MVV1: 0 | MVW1: 0 | MVX1: 0 | MVY1: 0 | MVZ1: 0 | MWA1: 0 | MWB1: 0 | MWC1: 0 | MWD1: 0 | MWE1: 0 | MWF1: 0 | MWG1: 0 | MWH1: 0 | MWI1: 0 | MWJ1: 0 | MWK1: 0 | MWL1: 0 | MWM1: 0 | MWN1: 0 | MWO1: 0 | MWP1: 0 | MWQ1: 0 | MWR1: 0 | MWS1: 0 | MWT1: 0 | MWU1: 0 | MWV1: 0 | MWW1: 0 | MWX1: 0 | MWY1: 0 | MWZ1: 0 | MXA1: 0 | MXB1: 0 | MXC1: 0 | MXD1: 0 | MXE1: 0 | MXF1: 0 | MXG1: 0 | MXH1: 0 | MXI1: 0 | MXJ1: 0 | MXK1: 0 | MXL1: 0 | MXM1: 0 | MXN1: 0 | MXO1: 0 | MXP1: 0 | MXQ1: 0 | MXR1: 0 | MXS1: 0 | MXT1: 0 | MXU1: 0 | MXV1: 0 | MXW1: 0 | MXX1: 0 | MXY1: 0 | MXZ1: 0 | MYA1: 0 | MYB1: 0 | MYC1: 0 | MYD1: 0 | MYE1: 0 | MYF1: 0 | MYG1: 0 | MYH1: 0 | MYI1: 0 | MYJ1: 0 | MYK1: 0 | MYL1: 0 | MYM1: 0 | MYN1: 0 | MYO1: 0 | MYP1: 0 | MYQ1: 0 | MYR1: 0 | MYS1: 0 | MYT1: 0 | MYU1: 0 | MYV1: 0 | MYW1: 0 | MYX1: 0 | MYY1: 0 | MYZ1: 0 | MZA1: 0 | MZB1: 0 | MZC1: 0 | MZD1: 0 | MZE1: 0 | MZF1: 0 | MZG1: 0 | MZH1: 0 | MZI1: 0 | MZJ1: 0 | MZK1: 0 | MZL1: 0 | MZM1: 0 | MZN1: 0 | MZO1: 0 | MZP1: 0 | MZQ1: 0 | MZR1: 0 | MZS1: 0 | MZT1: 0 | MZU1: 0 | MZV1: 0 | MZW1: 0 | MZX1: 0 | MZY1: 0 | MZZ1: 0 | NAA1: 0 | NAB1: 0 | NAC1: 0 | NAD1: 0 | NAE1: 0 | NAF1: 0 | NAG1: 0 | NAH1: 0 | NAI1: 0 | NAJ1: 0 | NAK1: 0 | NAL1: 0 | NAM1: 0 | NAN1: 0 | NAO1: 0 | NAP1: 0 | NAQ1: 0 | NAR1: 0 | NAS1: 0 | NAT1: 0 | NAU1: 0 | NAV1: 0 | NAW1: 0 | NAX1: 0 | NAY1: 0 | NAZ1: 0 | NBA1: 0 | NBB1: 0 | NBC1: 0 | NBD1: 0 | NBE1: 0 | NBF1: 0 | NBG1: 0 | NBH1: 0 | NBI1: 0 | NBJ1: 0 | NBK1: 0 | NBL1: 0 | NBM1: 0 | NBN1: 0 | NBO1: 0 | NBP1: 0 | NBQ1: 0 | NBR1: 0 | NBS1: 0 | NBT1: 0 | NBU1: 0 | NBV1: 0 | NBW1: 0 | NBX1: 0 | NBY1: 0 | NBZ1: 0 | NCA1: 0 | NCB1: 0 | NCC1: 0 | NCD1: 0 | NCE1: 0 | NCF1: 0 | NCG1: 0 | NCH1: 0 | NCI1: 0 | NCJ1: 0 | NCK1: 0 | NCL1: 0 | NCM1: 0 | NCN1: 0 | NCO1: 0 | NCP1: 0 | NCQ1: 0 | NCR1: 0 | NCS1: 0 | NCT1: 0 | NCU1: 0 | NCV1: 0 | NCW1: 0 | NCX1: 0 | NCY1: 0 | NCZ1: 0 | NDA1: 0 | NDB1: 0 | NDC1: 0 | NDD1: 0 | NDE1: 0 | NDF1: 0 | NDG1: 0 | NDH1: 0 | NDI1: 0 | NDJ1: 0 | NDK1: 0 | NDL1: 0 | NDM1: 0 | NDN1: 0 | NDO1: 0 | NDP1: 0 | NDQ1: 0 | NDR1: 0 | NDS1: 0 | NDT1: 0 | NDU1: 0 | NDV1: 0 | NDW1: 0 | NDX1: 0 | NDY1: 0 | NDZ1: 0 | NEA1: 0 | NEB1: 0 | NEC1: 0 | NED1: 0 | NEE1: 0 | NEF1: 0 | NEG1: 0 | NEH1: 0 | NEI1: 0 | NEJ1: 0 | NEK1: 0 | NEL1: 0 | NEM1: 0 | NEN1: 0 | NEO1: 0 | NEP1: 0 | NEQ1: 0 | NER1: 0 | NES1: 0 | NET1: 0 | NEU1: 0 | NEV1: 0 | NEW1: 0 | NEX1: 0 | NEY1: 0 | NEZ1: 0 | NFA1: 0 | NFB1: 0 | NFC1: 0 | NFD1: 0 | NFE1: 0 | NFF1: 0 | NFG1: 0 | NFH1: 0 | NFI1: 0 | NFJ1: 0 | NFK1: 0 | NFL1: 0 | NFM1: 0 | NFN1: 0 | NFO1: 0 | NFP1: 0 | NFQ1: 0 | NFR1: 0 | NFS1: 0 | NFT1: 0 | NFU1: 0 | NFV1: 0 | NFW1: 0 | NFX1: 0 | NFY1: 0 | NFZ1: 0 | NGA1: 0 | NGB1: 0 | NGC1: 0 | NGD1: 0 | NGE1: 0 | NGF1: 0 | NGG1: 0 | NGH1: 0 | NGI1: 0 | NGJ1: 0 | NGK1: 0 | NGL1: 0 | NGM1: 0 | NGN1: 0 | NGO1: 0 | NGP1: 0 | NGQ1: 0 | NGR1: 0 | NGS1: 0 | NGT1: 0 | NGU1: 0 | NGV1: 0 | NGW1: 0 | NGX1: 0 | NGY1: 0 | NGZ1: 0 | NHA1: 0 | NHB1: 0 | NHC1: 0 | NHD1: 0 | NHE1: 0 | NHF1: 0 | NHG1: 0 | NHH1: 0 | NHI1: 0 | NHJ1: 0 | NHK1: 0 | NHL1: 0 | NHM1: 0 | NHN1: 0 | NHO1: 0 | NHP1: 0 | NHQ1: 0 | NHR1: 0 | NHS1: 0 | NHT1: 0 | NHU1: 0 | NHV1: 0 | NHW1: 0 | NHX1: 0 | NHY1: 0 | NHZ1: 0 | NIA1: 0 | NIB1: 0 | NIC1: 0 | NID1: 0 | NIE1: 0 | NIF1: 0 | NIG1: 0 | NIH1: 0 | NII1: 0 | NIJ1: 0 | NIK1: 0 | NIL1: 0 | NIM1: 0 | NIN1: 0 | NIO1: 0 | NIP1: 0 | NIQ1: 0 | NIR1: 0 | NIS1: 0 | NIT1: 0 | NIU1: 0 | NIV1: 0 | NIW1: 0 | NIX1: 0 | NIY1: 0 | NIZ1: 0 | NJA1: 0 | NJB1: 0 | NJC1: 0 | NJD1: 0 | NJE1: 0 | NJF1: 0 | NJG1: 0 | NJH1: 0 | NJI1: 0 | NJJ1: 0 | NJK1: 0 | NJL1: 0 | NJM1: 0 | NJN1: 0 | NJO1: 0 | NJP1: 0 | NJQ1: 0 | NJR1: 0 | NJS1: 0 | NJT1: 0 | NJU1: 0 | NJV1: 0 | NJW1: 0 | NJX1: 0 | NJY1: 0 | NJZ1: 0 | NKA1: 0 | NKB1: 0 | NKC1: 0 | NKD1: 0 | NKE1: 0 | NKF1: 0 | NKG1: 0 | NKH1: 0 | NKI1: 0 | NKJ1: 0 | NKK1: 0 | NKL1: 0 | NKM1: 0 | NKN1: 0 | NKO1: 0 | NKP1: 0 | NKQ1: 0 | NKR1: 0 | NKS1: 0 | NKT1: 0 | NKU1: 0 | NKV1: 0 | NKW1: 0 | NKX1: 0 | NKY1: 0 | NKZ1: 0 | NLA1: 0 | NLB1: 0 | NLC1: 0 | NLD1: 0 | NLE1: 0 | NLF1: 0 | NLG1: 0 | NLH1: 0 | NLI1: 0 | NLJ1: 0 | NLK1: 0 | NLL1: 0 | NLM1: 0 | NLN1: 0 | NLO1: 0 | NLP1: 0 | NLQ1: 0 | NLR1: 0 | NLS1: 0 | NLT1: 0 | NLU1: 0 | NLV1: 0 | NLW1: 0 | NLX1: 0 | NLY1: 0 | NLZ1: 0 | NMA1: 0 | NMB1: 0 | NMC1: 0 | NMD1: 0 | NME1: 0 | NMF1: 0 | NMG1: 0 | NMH1: 0 | NMI1: 0 | NMJ1: 0 | NMK1: 0 | NML1: 0 | NMM1: 0 | NMN1: 0 | NMO1: 0 | NMP1: 0 | NMQ1: 0 | NMR1: 0 | NMS1: 0 | NMT1: 0 | NMU1: 0 | NMV1: 0 | NMW1: 0 | NMX1: 0 | NMY1: 0 | NMZ1: 0 | NNA1: 0 | NNB1: 0 | NNC1: 0 | NND1: 0 | NNE1: 0 | NNF1: 0 | NNG1: 0 | NNH1: 0 | NNI1: 0 | NNJ1: 0 | NNK1: 0 | NNL1: 0 | NNM1: 0 | NNN1: 0 | NNO1: 0 | NNP1: 0 | NNQ1: 0 | NNR1: 0 | NNS1: 0 | NNT1: 0 | NNU1: 0 | NNV1: 0 | NNW1: 0 | NNX1: 0 | NNY1: 0 | NNZ1: 0 | NOA1: 0 | NOB1: 0 | NOC1: 0 | NOD1: 0 | NOE1: 0 | NOF1: 0 | NOG1: 0 | NOH1: 0 | NOI1: 0 | NOJ1: 0 | NOK1: 0 | NOL1: 0 | NOM1: 0 | NON1: 0 | NOO1: 0 | NOP1: 0 | NOQ1: 0 | NOR1: 0 | NOS1: 0 | NOT1: 0 | NOU1: 0 | NOV1: 0 | NOW1: 0 | NOX1: 0 | NOY1: 0 | NOZ1: 0 | NPA1: 0 | NPB1: 0 | NPC1: 0 | NPD1: 0 | NPE1: 0 | NPF1: 0 | NPG1: 0 | NPH1: 0 | NPI1: 0 | NPJ1: 0 | NPK1: 0 | NPL1: 0 | NPM1: 0 | NPN1: 0 | NPO1: 0 | NPP1: 0 | NPQ1: 0 | NPR1: 0 | NPS1: 0 | NPT1: 0 | NPU1: 0 | NPV1: 0 | NPW1: 0 | NPX1: 0 | NPY1: 0 | NPZ1: 0 | NQA1: 0 | NQB1: 0 | NQC1: 0 | NQD1: 0 | NQE1: 0 | NQF1: 0 | NQG1: 0 | NQH1: 0 | NQI1: 0 | NQJ1: 0 | NQK1: 0 | NQL1: 0 | NQM1: 0 | NQN1: 0 | NQO1: 0 | NQP1: 0 | NQQ1: 0 | NQR1: 0 | NQS1: 0 | NQT1: 0 | NQU1: 0 | NQV1: 0 | NQW1: 0 | NQX1: 0 | NQY1: 0 | NQZ1: 0 | NRA1: 0 | NRB1: 0 | NRC1: 0 | NRD1: 0 | NRE1: 0 | NRF1: 0 | NRG1: 0 | NRH1: 0 | NRI1: 0 | NRJ1: 0 | NRK1: 0 | NRL1: 0 | NRM1: 0 | NRN1: 0 | NRO1: 0 | NRP1: 0 | NRQ1: 0 | NRR1: 0 | NRS1: 0 | NRT1: 0 | NRU1: 0 | NRV1: 0 | NRW1: 0 | NRX1: 0 | NRY1: 0 | NRZ1: 0 | NSA1: 0 | NSB1: 0 | NSC1: 0 | NSD1: 0 | NSE1: 0 | NSF1: 0 | NSG1: 0 | NSH1: 0 | NSI1: 0 | NSJ1: 0 | NSK1: 0 | NSL1: 0 | NSM1: 0 | NSN1: 0 | NSO1: 0 | NSP1: 0 | NSQ1: 0 | NSR1: 0 | NSS1: 0 | NST1: 0 | NSU1: 0 | NSV1: 0 | NSW1: 0 | NSX1: 0 | NSY1: 0 | NSZ1: 0 | NTA1: 0 | NTB1: 0 | NTC1: 0 | NTD1: 0 | NTE1: 0 | NTF1: 0 | NTG1: 0 | NTH1: 0 | NTI1: 0 | NTJ1: 0 | NTK1: 0 | NTL1: 0 | NTM1: 0 | NTN1: 0 | NTO1: 0 | NTP1: 0 | NTQ1: 0 | NTR1: 0 | NTS1: 0 | NTT1: 0 | NTU1: 0 | NTV1: 0 | NTW1: 0 | NTX1: 0 | NTY1: 0 | NTZ1: 0 | NUA1: 0 | NUB1: 0 | NUC1: 0 | NUD1: 0 | NUE1: 0 | NUF1: 0 | NUG1: 0 | NUH1: 0 | NUI1: 0 | NUJ1: 0 | NUK1: 0 | NUL1: 0 | NUM1: 0 | NUN1: 0 | NUO1: 0 | NUP1: 0 | NUQ1: 0 | NUR1: 0 | NUS1: 0 | NUT1: 0 | NUU1: 0 | NUV1: 0 | NUW1: 0 | NUX1: 0 | NUY1: 0 | NUZ1: 0 | NVA1: 0 | NVB1: 0 | NVC1: 0 | NVD1: 0 | NVE1: 0 | NVF1: 0 | NVG1: 0 | NVH1: 0 | NVI1: 0 | NVJ1: 0 | NVK1: 0 | NVL1: 0 | NVM1: 0 | NVN1: 0 | NVO1: 0 | NVP1: 0 | NVQ1: 0 | NVR1: 0 | NVS1: 0 | NVT1: 0 | NVU1: 0 | NVV1: 0 | NVW1: 0 | NVX1: 0 | NVY1: 0 | NVZ1: 0 | NWA1: 0 | NWB1: 0 | NWC1: 0 | NWD1: 0 | NWE1: 0 | NWF1: 0 | NWG1: 0 | NWH1: 0 | NWI1: 0 | NWJ1: 0 | NWK1: 0 | NWL1: 0 | NWM1: 0 | NWN1: 0 | NWO1: 0 | NWP1: 0 | NWQ1: 0 | NWR1: 0 | NWS1: 0 | NWT1: 0 | NWU1: 0 | NWV1: 0 | NWW1: 0 | NWX1: 0 | NWY1: 0 | NWZ1: 0 | NXA1: 0 | NXB1: 0 | NXC1: 0 | NXD1: 0 | NXE1: 0 | NXF1: 0 | NXG1: 0 | NXH1: 0 | NXI1: 0 | NXJ1: 0 | NXK1: 0 | NXL1: 0 | NXM1: 0 | NXN1: 0 | NXO1: 0 | NXP1: 0 | NXQ1: 0 | NXR1: 0 | NXS1: 0 | NXT1: 0 | NXU1: 0 | NXV1: 0 | NXW1: 0 | NXX1: 0 | NXY1: 0 | NXZ1: 0 | NYA1: 0 | NYB1: 0 | NYC1: 0 | NYD1: 0 | NYE1: 0 | NYF1: 0 | NYG1: 0 | NYH1: 0 | NYI1: 0 | NYJ1: 0 | NYK1: 0 | NYL1: 0 | NYM1: 0 | NYN1: 0 | NYO1: 0 | NYP1: 0 | NYQ1: 0 | NYR1: 0 | NYS1: 0 | NYT1: 0 | NYU1: 0 | NYV1: 0 | NYW1: 0 | NYX1: 0 | NYY1: 0 | NYZ1: 0 | NZA1: 0 | NZB1: 0 | NZC1: 0 | NZD1: 0 | NZE1: 0 | NZF1: 0 | NZG1: 0 | NZH1: 0 | NZI1: 0 | NZJ1: 0 | NZK1: 0 | NZL1: 0 | NZM1: 0 | NZN1: 0 | NZO1: 0 | NZP1: 0 | NZQ1: 0 | NZR1: 0 | NZS1: 0 | NZT1: 0 | NZU1: 0 | NZV1: 0 | NZW1: 0 | NZX1: 0 | NZY1: 0 | NZZ1: 0 | OAA1: 0 | OAB1: 0 | OAC1: 0 | OAD1: 0 | OAE1: 0 | OAF1: 0 | OAG1: 0 | OAH1: 0 | OAI1: 0 | OAJ1: 0 | OAK1: 0 | OAL1: 0 | OAM1: 0 | OAN1: 0 | OAO1: 0 | OAP1: 0 | OAQ1: 0 | OAR1: 0 | OAS1: 0 | OAT1: 0 | OAU1: 0 | OAV1: 0 | OAW1: 0 | OAX1: 0 | OAY1: 0 | OAZ1: 0 | OBA1: 0 | OBB1: 0 | OBC1: 0 | OBD1: 0 | OBE1: 0 | OBF1: 0 | OBG1: 0 | OBH1: 0 | OBI1: 0 | OBJ1: 0 | OBK1: 0 | OBL1: 0 | OBM1: 0 | OBN1: 0 | OBO1: 0 | OBP1: 0 | OBQ1: 0 | OBR1: 0 | OBS1: 0 | OBT1: 0 | OBU1: 0 | OBV1: 0 | OBW1: 0 | OBX1: 0 | OBY1: 0 | OBZ1: 0 | OCA1: 0 | OCB1: 0 | OCC1: 0 | OCD1: 0 | OCE1: 0 | OCF1: 0 | OCG1: 0 | OCH1: 0 | OCI1: 0 | OCJ1: 0 | OCK1: 0 | OCL1: 0 | OCM1: 0 | OCN1: 0 | OCO1: 0 | OCP1: 0 | OCQ1: 0 | OCR1: 0 | OCS1: 0 | OCT1: 0 | OCU1: 0 | OCV1: 0 | OCW1: 0 | OCX1: 0 | OCY1: 0 | OCZ1: 0 | ODA1: 0 | ODB1: 0 | ODC1: 0 | ODD1: 0 | ODE1: 0 | ODF1: 0 | ODG1: 0 | ODH1: 0 | ODI1: 0 | ODJ1: 0 | ODK1: 0 | ODL1: 0 | ODM1: 0 | ODN1: 0 | ODO1: 0 | ODP1: 0 | ODQ1: 0 | ODR1: 0 | ODS1: 0 | ODT1: 0 | ODU1: 0 | ODV1: 0 | ODW1: 0 | ODX1: 0 | ODY1: 0 | ODZ1: 0 | OEA1: 0 | OEB1: 0 | OEC1: 0 | OED1: 0 | OEE1: 0 | OEF1: 0 | OEG1: 0 | OEH1: 0 | OEI1: 0 | OEJ1: 0 | OEK1: 0 | OEL1: 0 | OEM1: 0 | OEN1: 0 | OEO1: 0 | OEP1: 0 | OEQ1: 0 | OER1: 0 | OES1: 0 | OET1: 0 | OEU1: 0 | OEV1: 0 | OEW1: 0 | OEX1: 0 | OEY1: 0 | OEZ1: 0 | OFA1: 0 | OFB1: 0 | OFC1: 0 | OFD1: 0 | OFE1: 0 | OFF1: 0 | OFG1: 0 | OFH1: 0 | OFI1: 0 | OFJ1: 0 | OFK1: 0 | OFL1: 0 | OFM1: 0 | OFN1: 0 | OFO1: 0 | OFP1: 0 | OFQ1: 0 | OFR1: 0 | OFS1: 0 | OFT1: 0 | OFU1: 0 | OFV1: 0 | OFW1: 0 | OFX1: 0 | OFY1: 0 | OFZ1: 0 | OGA1: 0 | OGB1: 0 | OGC1: 0 | OGD1: 0 | OGE1: 0 | OGF1: 0 | OGG1: 0 | OGH1: 0 | OGI1: 0 | OGJ1: 0 | OGK1: 0 | OGL1: 0 | OGM1: 0 | OGN1: 0 | OGO1: 0 | OGP1: 0 | OGQ1: 0 | OGR1: 0 | OGS1: 0 | OGT1: 0 | OGU1: 0 | OGV1: 0 | OGW1: 0 | OGX1: 0 | OGY1: 0 | OGZ1: 0 | OHA1: 0 | OHB1: 0 | OHC1: 0 | OHD1: 0 | OHE1: 0 | OHF1: 0 | OHG1: 0 | OHH1: 0 | OHI1: 0 | OHJ1: 0 | OHK1: 0 | OHL1: 0 | OHM1: 0 | OHN1: 0 | OHO1: 0 | OHP1: 0 | OHQ1: 0 | OHR1: 0 | OHS1: 0 | OHT1: 0 | OHU1: 0 | OHV1: 0 | OHW1: 0 | OHX1: 0 | OHY1: 0 | OHZ1: 0 | OIA1: 0 | OIB1: 0 | OIC1: 0 | OID1: 0 | OIE1: 0 | OIF1: 0 | OIG1: 0 | OIH1: 0 | OII1: 0 | OIJ1: 0 | OIK1: 0 | OIL1: 0 | OIM1: 0 | OIN1: 0 | OIO1: 0 | OIP1: 0 | OIQ1: 0 | OIR1: 0 | OIS1: 0 | OIT1: 0 | OIU1: 0 | OIV1: 0 | OIW1: 0 | OIX1: 0 | OIY1: 0 | OIZ1: 0 | OJA1: 0 | OJB1: 0 | OJC1: 0 | OJD1: 0 | OJE1: 0 | OJF1: 0 | OJG1: 0 | OJH1: 0 | OJI1: 0 | OJJ1: 0 | OJK1: 0 | OJL1: 0 | OJM1: 0 | OJN1: 0 | OJO1: 0 | OJP1: 0 | OJQ1: 0 | OJR1: 0 | OJS1: 0 | OJT1: 0 | OJU1: 0 | OJV1: 0 | OJW1: 0 | OJX1: 0 | OJY1: 0 | OJZ1: 0 | OKA1: 0 | OKB1: 0 | OKC1: 0 | OKD1: 0 | OKE1: 0 | OKF1: 0 | OKG1: 0 | OKH1: 0 | OKI1: 0 | OKJ1: 0 | OKK1: 0 | OKL1: 0 | OKM1: 0 | OKN1: 0 | OKO1: 0 | OKP1: 0 | OKQ1: 0 | OKR1: 0 | OKS1: 0 | OKT1: 0 | OKU1: 0 | OKV1: 0 | OKW1: 0 | OKX1: 0 | OKY1: 0 | OKZ1: 0 | OLA1: 0 | OLB1: 0 | OLC1: 0 | OLD1: 0 | OLE1: 0 | OLF1: 0 | OLG1: 0 | OLH1: 0 | OLI1: 0 | OLJ1: 0 | OLK1: 0 | OLL1: 0 | OLM1: 0 | OLN1: 0 | OLO1: 0 | OLP1: 0 | OLQ1: 0 | OLR1: 0 | OLS1: 0 | OLT1: 0 | OLU1: 0 | OLV1: 0 | OLW1: 0 | OLX1: 0 | OLY1: 0 | OLZ1: 0 | OMA1: 0 | OMB1: 0 | OMC1: 0 | OMD1: 0 | OME1: 0 | OMF1: 0 | OMG1: 0 | OMH1: 0 | OMI1: 0 | OMJ1: 0 | OMK1: 0 | OML1: 0 | OMM1: 0 | OMN1: 0 | OMO1: 0 | OMP1: 0 | OMQ1: 0 | OMR1: 0 | OMS1: 0 | OMT1: 0 | OMU1: 0 | OMV1: 0 | OMW1: 0 | OMX1: 0 | OMY1: 0 | OMZ1: 0 | ONA1: 0 | ONB1: 0 | ONC1: 0 | OND1: 0 | ONE1: 0 | ONF1: 0 | ONG1: 0 | ONH1: 0 | ONI1: 0 | ONJ1: 0 | ONK1: 0 | ONL1: 0 | ONM1: 0 | ONN1: 0 | ONO1: 0 | ONP1: 0 | ONQ1: 0 | ONR1: 0 | ONS1: 0 | ONT1: 0 | ONU1: 0 | ONV1: 0 | ONW1: 0 | ONX1: 0 | ONY1: 0 | ONZ1: 0 | OOA1: 0 | OOB1: 0 | OOC1: 0 | OOD1: 0 | OOE1: 0 | OOF1: 0 | OOG1: 0 | OOH1: 0 | OOI1: 0 | OOJ1: 0 | OOK1: 0 | OOL1: 0 | OOM1: 0 | OON1: 0 | OOO1: 0 | OOP1: 0 | OOQ1: 0 | OOR1: 0 | OOS1: 0 | OOT1: 0 | OOU1: 0 | OOV1: 0 | OOW1: 0 | OOX1: 0 | OOY1: 0 | OOZ1: 0 | OPA1: 0 | OPB1: 0 | OPC1: 0 | OPD1: 0 | OPE1: 0 | OPF1: 0 | OPG1: 0 | OPH1: 0 | OPI1: 0 | OPJ1: 0 | OPK1: 0 | OPL1: 0 | OPM1: 0 | OPN1: 0 | OPO1: 0 | OPP1: 0 | OPQ1: 0 | OPR1: 0 | OPS1: 0 | OPT1: 0 | OPU1: 0 | OPV1: 0 | OPW1: 0 | OPX1: 0 | OPY1: 0 | OPZ1: 0 | OQA1: 0 | OQB1: 0 | OQC1: 0 | OQD1: 0 | OQE1: 0 | OQF1: 0 | OQG1: 0 | OQH1: 0 | OQI1: 0 | OQJ1: 0 | OQK1: 0 | OQL1: 0 | OQM1: 0 | OQN1: 0 | OQO1: 0 | OQP1: 0 | OQQ1: 0 | OQR1: 0 | OQS1: 0 | OQT1: 0 | OQU1: 0 | OQV1: 0 | OQW1: 0 | OQX1: 0 | OQY1: 0 | OQZ1: 0 | ORA1: 0 | ORB1: 0 | ORC1: 0 | ORD1: 0 | ORE1: 0 | ORF1: 0 | ORG1: 0 | ORH1: 0 | ORI1: 0 | ORJ1: 0 | ORK1: 0 | ORL1: 0 | ORM1: 0 | ORN1: 0 | ORO1: 0 | ORP1: 0 | ORQ1: 0 | ORR1: 0 | ORS1: 0 | ORT1: 0 | ORU1: 0 | ORV1: 0 | ORW1: 0 | ORX1: 0 | ORY1: 0 | ORZ1: 0 | OSA1: 0 | OSB1: 0 | OSC1: 0 | OSD1: 0 | OSE1: 0 | OSF1: 0 | OSG1: 0 | OSH1: 0 | OSI1: 0 | OSJ1: 0 | OSK1: 0 | OSL1: 0 | OSM1: 0 | OSN1: 0 | OSO1: 0 | OSP1: 0 | OSQ1: 0 | OSR1: 0 | OSS1: 0 | OST1: 0 | OSU1: 0 | OSV1: 0 | OSW1: 0 | OSX1: 0 | OSY1: 0 | OSZ1: 0 | OTA1: 0 | OTB1: 0 | OTC1: 0 | OTD1: 0 | OTE1: 0 | OTF1: 0 | OTG1: 0 | OTH1: 0 | OTI1: 0 | OTJ1: 0 | OTK1: 0 | OTL1: 0 | OTM1: 0 | OTN1: 0 | OTO1: 0 | OTP1: 0 | OTQ1: 0 | OTR1: 0 | OTS1: 0 | OTT1: 0 | OTU1: 0 | OTV1: 0 | OTW1: 0 | OTX1: 0 | OTY1: 0 | OTZ1: 0 | OUA1: 0 | OUB1: 0 | OUC1: 0 | OUD1: 0 | OUE1: 0 | OUF1: 0 | OUG1: 0 | OUH1: 0 | OUI1: 0 | OUJ1: 0 | OUK1: 0 | OUL1: 0 | OUM1: 0 | OUN1: 0 | OUO1: 0 | OUP1: 0 | OUQ1: 0 | OUR1: 0 | OUS1: 0 | OUT1: 0 | OUU1: 0 | OUV1: 0 | OUW1: 0 | OUX1: 0 | OUY1: 0 | OUZ1: 0 | OVA1: 0 | OVB1: 0 | OVC1: 0 | OVD1: 0 | OVE1: 0 | OVF1: 0 | OVG1: 0 | OVH1: 0 | OVI1: 0 | OVJ1: 0 | OVK1: 0 | OVL1: 0 | OVM1: 0 | OVN1: 0 | OVO1: 0 | OVP1: 0 | OVQ1: 0 | OVR1: 0 | OVS1: 0 | OVT1: 0 | OVU1: 0 | OVV1: 0 | OVW1: 0 | OVX1: 0 | OVY1: 0 | OVZ1: 0 | OWA1: 0 | OWB1: 0 | OWC1: 0 | OWD1: 0 | OWE1: 0 | OWF1: 0 | OWG1: 0 | OWH1: 0 | OWI1: 0 | OWJ1: 0 | OWK1: 0 | OWL1: 0 | OWM1: 0 | OWN1: 0 | OWO1: 0 | OWP1: 0 | OWQ1: 0 | OWR1: 0 | OWS1: 0 | OWT1: 0 | OWU1: 0 | OWV1: 0 | OWW1: 0 | OWX1: 0 | OWY1: 0 | OWZ1: 0 | OXA1: 0 | OXB1: 0 | OXC1: 0 | OXD1: 0 | OXE1: 0 | OXF1: 0 | OXG1: 0 | OXH1: 0 | OXI1: 0 | OXJ1: 0 | OXK1: 0 | OXL1: 0 | OXM1: 0 | OXN1: 0 | OXO1: 0 | OXP1: 0 | OXQ1: 0 | OXR1: 0 | OXS1: 0 | OXT1: 0 | OXU1: 0 | OXV1: 0 | OXW1: 0 | OXX1: 0 | OXY1: 0 | OXZ1: 0 | OYA1: 0 | OYB1: 0 | OYC1: 0 | OYD1: 0 | OYE1: 0 | OYF1: 0 | OYG1: 0 | OYH1: 0 | OYI1: 0 | OYJ1: 0 | OYK1: 0 | OYL1: 0 | OYM1: 0 | OYN1: 0 | OYO1: 0 | OYP1: 0 | OYQ1: 0 | OYR1: 0 | OYS1: 0 | OYT1: 0 | OYU1: 0 | OYV1: 0 | OYW1: 0 | OYX1: 0 | OYY1: 0 | OYZ1: 0 | OZA1: 0 | OZB1: 0 | OZC1: 0 | OZD1: 0 | OZE1: 0 | OZF1: 0 | OZG1: 0 | OZH1: 0 | OZI1: 0 | OZJ1: 0 | OZK1: 0 | OZL1: 0 | OZM1: 0 | OZN1: 0 | OZO1: 0 | OZP1: 0 | OZQ1: 0 | OZR1: 0 | OZS1: 0 | OZT1: 0 | OZU1: 0 | OZV1: 0 | OZW1: 0 | OZX1: 0 | OZY1: 0 | OZZ1: 0 | PAA1: 0 | PAB1: 0 | PAC1: 0 | PAD1: 0 | PAE1: 0 | PAF1: 0 | PAG1: 0 | PAH1: 0 | PAI1: 0 | PAJ1: 0 | PAK1: 0 | PAL1: 0 | PAM1: 0 | PAN1: 0 | PAO1: 0 | PAP1: 0 | PAQ1: 0 | PAR1: 0 | PAS1: 0 | PAT1: 0 | PAU1: 0 | PAV1: 0 | PAW1: 0 | PAX1: 0 | PAY1: 0 | PAZ1: 0 | PBA1: 0 | PBB1: 0 | PBC1: 0 | PBD1: 0 | PBE1: 0 | PBF1: 0 | PBG1: 0 | PBH1: 0 | PBI1: 0 | PBJ1: 0 | PBK1: 0 | PBL1: 0 | PBM1: 0 | PBN1: 0 | PBO1: 0 | PBP1: 0 | PBQ1: 0 | PBR1: 0 | PBS1: 0 | PBT1: 0 | PBU1: 0 | PBV1: 0 | PBW1: 0 | PBX1: 0 | PBY1: 0 | PBZ1: 0 | PCA1: 0 | PCB1: 0 | PCC1: 0 | PCD1: 0 | PCE1: 0 | PCF1: 0 | PCG1: 0 | PCH1: 0 | PCI1: 0 | PCJ1: 0 | PCK1: 0 | PCL1: 0 | PCM1: 0 | PCN1: 0 | PCO1: 0 | PCP1: 0 | PCQ1: 0 | PCR1: 0 | PCS1: 0 | PCT1: 0 | PCU1: 0 | PCV1: 0 | PCW1: 0 | PCX1: 0 | PCY1: 0 | PCZ1: 0 | PDA1: 0 | PDB1: 0 | PDC1: 0 | PDD1: 0 | PDE1: 0 | PDF1: 0 | PDG1: 0 | PDH1: 0 | PDI1: 0 | PDJ1: 0 | PDK1: 0 | PDL1: 0 | PDM1: 0 | PDN1: 0 | PDO1: 0 | PDP1: 0 | PDQ1: 0 | PDR1: 0 | PDS1: 0 | PDT1: 0 | PDU1: 0 | PDV1: 0 | PDW1: 0 | PDX1: 0 | PDY1: 0 | PDZ1: 0 | PEA1: 0 | PEB1: 0 | PEC1: 0 | PED1: 0 | PEE1: 0 | PEF1: 0 | PEG1: 0 | PEH1: 0 | PEI1: 0 | PEJ1: 0 | PEK1: 0 | PEL1: 0 | PEM1: 0 | PEN1: 0 | PEO1: 0 | PEP1: 0 | PEQ1: 0 | PER1: 0 | PES1: 0 | PET1: 0 | PEU1: 0 | PEV1: 0 | PEW1: 0 | PEX1: 0 | PEY1: 0 | PEZ1: 0 | PFA1: 0 | PFB1: 0 | PFC1: 0 | PFD1: 0 | PFE1: 0 | PFF1: 0 | PFG1: 0 | PFH1: 0 | PFI1: 0 | PFJ1: 0 | PFK1: 0 | PFL1: 0 | PFM1: 0 | PFN1: 0 | PFO1: 0 | PFP1: 0 | PFQ1: 0 | PFR1: 0 | PFS1: 0 | PFT1: 0 | PFU1: 0 | PFV1: 0 | PFW1: 0 | PFX1: 0 | PFY1: 0 | PFZ1: 0 | PGA1: 0 | PGB1: 0 | PGC1: 0 | PGD1: 0 | PGE1: 0 | PGF1: 0 | PGG1: 0 | PGH1: 0 | PGI1: 0 | PGJ1: 0 | PGK1: 0 | PGL1: 0 | PGM1: 0 | PGN1: 0 | PGO1: 0 | PGP1: 0 | PGQ1: 0 | PGR1: 0 | PGS1: 0 | PGT1: 0 | PGU1: 0 | PGV1: 0 | PGW1: 0 | PGX1: 0 | PGY1: 0 | PGZ1: 0 | PHA1: 0 | PHB1: 0 | PHC1: 0 | PHD1: 0 | PHE1: 0 | PHF1: 0 | PHG1: 0 | PHH1: 0 | PHI1: 0 | PHJ1: 0 | PHK1: 0 | PHL1: 0 | PHM1: 0 | PHN1: 0 | PHO1: 0 | PHP1: 0 | PHQ1: 0 | PHR1: 0 | PHS1: 0 | PHT1: 0 | PHU1: 0 | PHV1: 0 | PHW1: 0 | PHX1: 0 | PHY1: 0 | PHZ1: 0 | PIA1: 0 | PIB1: 0 | PIC1: 0 | PID1: 0 | PIE1: 0 | PIF1: 0 | PIG1: 0 | PIH1: 0 | PII1: 0 | PIJ1: 0 | PIK1: 0 | PIL1: 0 | PIM1: 0 | PIN1: 0 | PIO1: 0 | PIP1: 0 | PIQ1: 0 | PIR1: 0 | PIS1: 0 | PIT1: 0 | PIU1: 0 | PIV1: 0 | PIW1: 0 | PIX1: 0 | PIY1: 0 | PIZ1: 0 | PJA1: 0 | PJB1: 0 | PJC1: 0 | PJD1: 0 | PJE1: 0 | PJF1: 0 | PJG1: 0 | PJH1: 0 | PJI1: 0 | PJJ1: 0 | PJK1: 0 | PJL1: 0 | PJM1: 0 | PJN1: 0 | PJO1: 0 | PJP1: 0 | PJQ1: 0 | PJR1: 0 | PJS1: 0 | PJT1: 0 | PJU1: 0 | PJV1: 0 | PJW1: 0 | PJX1: 0 | PJY1: 0 | PJZ1: 0 | PKA1: 0 | PKB1: 0 | PKC1: 0 | PKD1: 0 | PKE1: 0 | PKF1: 0 | PKG1: 0 | PKH1: 0 | PKI1: 0 | PKJ1: 0 | PKK1: 0 | PKL1: 0 | PKM1: 0 | PKN1: 0 | PKO1: 0 | PKP1: 0 | PKQ1: 0 | PKR1: 0 | PKS1: 0 | PKT1: 0 | PKU1: 0 | PKV1: 0 | PKW1: 0 | PKX1: 0 | PKY1: 0 | PKZ1: 0 | PLA1: 0 | PLB1: 0 | PLC1: 0 | PLD1: 0 | PLE1: 0 | PLF1: 0 | PLG1: 0 | PLH1: 0 | PLI1: 0 | PLJ1: 0 | PLK1: 0 | PLL1: 0 | PLM1: 0 | PLN1: 0 | PLO1: 0 | PLP1: 0 | PLQ1: 0 | PLR1: 0 | PLS1: 0 | PLT1: 0 | PLU1: 0 | PLV1: 0 | PLW1: 0 | PLX1: 0 | PLY1: 0 | PLZ1: 0 | PMA1: 0 | PMB1: 0 | PMC1: 0 | PMD1: 0 | PME1: 0 | PMF1: 0 | PMG1: 0 | PMH1: 0 | PMI1: 0 | PMJ1: 0 | PMK1: 0 | PML1: 0 | PMM1: 0 | PMN1: 0 | PMO1: 0 | PMP1: 0 | PMQ1: 0 | PMR1: 0 | PMS1: 0 | PMT1: 0 | PMU1: 0 | PMV1: 0 | PMW1: 0 | PMX1: 0 | PMY1: 0 | PMZ1: 0 | PNA1: 0 | PNB1: 0 | PNC1: 0 | PND1: 0 | PNE1: 0 | PNF1: 0 | PNG1: 0 | PNH1: 0 | PNI1: 0 | PNJ1: 0 | PNK1: 0 | PNL1: 0 | PNM1: 0 | PNN1: 0 | PNO1: 0 | PNP1: 0 | PNQ1: 0 | PNR1: 0 | PNS1: 0 | PNT1: 0 | PNU1: 0 | PNV1: 0 | PNW1: 0 | PNX1: 0 | PNY1: 0 | PNZ1: 0 | POA1: 0 | POB1: 0 | POC1: 0 | POD1: 0 | POE1: 0 | POF1: 0 | POG1: 0 | POH1: 0 | POI1: 0 | POJ1: 0 | POK1: 0 | POL1: 0 | POM1: 0 | PON1: 0 | POO1: 0 | POP1: 0 | POQ1: 0 | POR1: 0 | POS1: 0 | POT1: 0 | POU1: 0 | POV1: 0 | POW1: 0 | POX1: 0 | POY1: 0 | POZ1: 0 | PPA1: 0 | PPB1: 0 | PPC1: 0 | PPD1: 0 | PPE1: 0 | PPF1: 0 | PPG1: 0 | PPH1: 0 | PPI1: 0 | PPJ1: 0 | PPK1: 0 | PPL1: 0 | PPM1: 0 | PPN1: 0 | PPO1: 0 | PPP1: 0 | PPQ1: 0 | PPR1: 0 | PPS1: 0 | PPT1: 0 | PPU1: 0 | PPV1: 0 | PPW1: 0 | PPX1: 0 | PPY1: 0 | PPZ1: 0 | PQA1: 0 | PQB1: 0 | PQC1: 0 | PQD1: 0 | PQE1: 0 | PQF1: 0 | PQG1: 0 | PQH1: 0 | PQI1: 0 | PQJ1: 0 | PQK1: 0 | PQL1: 0 | PQM1: 0 | PQN1: 0 | PQO1: 0 | PQP1: 0 | PQQ1: 0 | PQR1: 0 | PQS1: 0 | PQT1: 0 | PQU1: 0 | PQV1: 0 | PQW1: 0 | PQX1: 0 | PQY1: 0 | PQZ1: 0 | PRA1: 0 | PRB1: 0 | PRC1: 0 | PRD1: 0 | PRE1: 0 | PRF1: 0 | PRG1: 0 | PRH1: 0 | PRI1: 0 | PRJ1: 0 | PRK1: 0 | PRL1: 0 | PRM1: 0 | PRN1: 0 | PRO1: 0 | PRP1: 0 | PRQ1: 0 | PRR1: 0 | PRS1: 0 | PRT1: 0 | PRU1: 0 | PRV1: 0 | PRW1: 0 | PRX1: 0 | PRY1: 0 | PRZ1: 0 | PSA1: 0 | PSB1: 0 | PSC1: 0 | PSD1: 0 | PSE1: 0 | PSF1: 0 | PSG1: 0 | PSH1: 0 | PSI1: 0 | PSJ1: 0 | PSK1: 0 | PSL1: 0 | PSM1: 0 | PSN1: 0 | PSO1: 0 | PSP1: 0 | PSQ1: 0 | PSR1: 0 | PSS1: 0 | PST1: 0 | PSU1: 0 | PSV1: 0 | PSW1: 0 | PSX1: 0 | PSY1: 0 | PSZ1: 0 | PTA1: 0 | PTB1: 0 | PTC1: 0 | PTD1: 0 | PTE1: 0 | PTF1: 0 | PTG1: 0 | PTH1: 0 | PTI1: 0 | PTJ1: 0 | PTK1: 0 | PTL1: 0 | PTM1: 0 | PTN1: 0 | PTO1: 0 | PTP1: 0 | PTQ1: 0 | PTR1: 0 | PTS1: 0 | PTT1: 0 | PTU1: 0 | PTV1: 0 | PTW1: 0 | PTX1: 0 | PTY1: 0 | PTZ1: 0 | PUA1: 0 | PUB1: 0 | PUC1: 0 | PUD1: 0 | PUE1: 0 | PUF1: 0 | PUG1: 0 | PUH1: 0 | PUI1: 0 | PUJ1: 0 | PUK1: 0 | PUL1: 0 | PUM1: 0 | PUN1: 0 | PUO1: 0 | PUP1: 0 | PUQ1: 0 | PUR1: 0 | PUS1: 0 | PUT1: 0 | PUU1: 0 | PUV1: 0 | PUW1: 0 | PUX1: 0 | PUY1: 0 | PUZ1: 0 | PVA1: 0 | PVB1: 0 | PVC1: 0 | PVD1: 0 | PVE1: 0 | PVF1: 0 | PVG1: 0 | PVH1: 0 | PVI1: 0 | PVJ1: 0 | PVK1: 0 | PVL1: 0 | PVM1: 0 | PVN1: 0 | PVO1: 0 | PVP1: 0 | PVQ1: 0 | PVR1: 0 | PVS1: 0 | PVT1: 0 | PVU1: 0 | PVV1: 0 | PVW1: 0 | PVX1: 0 | PVY1: 0 | PVZ1: 0 | PWA1: 0 | PWB1: 0 | PWC1: 0 | PWD1: 0 | PWE1: 0 | PWF1: 0 | PWG1: 0 | PWH1: 0 | PWI1: 0 | PWJ1: 0 | PWK1: 0 | PWL1: 0 | PWM1: 0 | PWN1: 0 | PWO1: 0 | PWP1: 0 | PWQ1: 0 | PWR1: 0 | PWS1: 0 | PWT1: 0 | PWU1: 0 | PWV1: 0 | PWW1: 0 | PWX1: 0 | PWY1: 0 | PWZ1: 0 | PXA1: 0 | PXB1: 0 | PXC1: 0 | PXD1: 0 | PXE1: 0 | PXF1: 0 | PXG1: 0 | PXH1: 0 | PXI1: 0 | PXJ1: 0 | PXK1: 0 | PXL1: 0 | PXM1: 0 | PXN1: 0 | PXO1: 0 | PXP1: 0 | PXQ1: 0 | PXR1: 0 | PXS1: 0 | PXT1: 0 | PXU1: 0 | PXV1: 0 | PXW1: 0 | PXX1: 0 | PXY1: 0 | PXZ1: 0 | PYA1: 0 | PYB1: 0 | PYC1: 0 | PYD1: 0 | PYE1: 0 | PYF1: 0 | PYG1: 0 | PYH1: 0 | PYI1: 0 | PYJ1: 0 | PYK1: 0 | PYL1: 0 | PYM1: 0 | PYN1: 0 | PYO1: 0 | PYP1: 0 | PYQ1: 0 | PYR1: 0 | PYS1: 0 | PYT1: 0 | PYU1: 0 | PYV1: 0 | PYW1: 0 | PYX1: 0 | PYY1: 0 | PYZ1: 0 | PZA1: 0 | PZB1: 0 | PZC1: 0 | PZD1: 0 | PZE1: 0 | PZF1: 0 | PZG1: 0 | PZH1: 0 | PZI1: 0 | PZJ1: 0 | PZK1: 0 | PZL1: 0 | PZM1: 0 | PZN1: 0 | PZO1: 0 | PZP1: 0 | PZQ1: 0 | PZR1: 0 | PZS1: 0 | PZT1: 0 | PZU1: 0 | PZV1: 0 | PZW1: 0 | PZX1: 0 | PZY1: 0 | PZZ1: 0 | QAA1: 0 | QAB1: 0 | QAC1: 0 | QAD1: 0 | QAE1: 0 | QAF1: 0 | QAG1: 0 | QAH1: 0 | QAI1: 0 | QAJ1: 0 | QAK1: 0 | QAL1: 0 | QAM1: 0 | QAN1: 0 | QAO1: 0 | QAP1: 0 | QAQ1: 0 | QAR1: 0 | QAS1: 0 | QAT1: 0 | QAU1: 0 | QAV1: 0 | QAW1: 0 | QAX1: 0 | QAY1: 0 | QAZ1: 0 | QBA1: 0 | QBB1: 0 | QBC1: 0 | QBD1: 0 | QBE1: 0 | QBF1: 0 | QBG1: 0 | QBH1: 0 | QBI1: 0 | QBJ1: 0 | QBK1: 0 | QBL1: 0 | QBM1: 0 | QBN1: 0 | QBO1: 0 | QBP1: 0 | QBQ1: 0 | QBR1: 0 | QBS1: 0 | QBT1: 0 | QBU1: 0 | QBV1: 0 | QBW1: 0 | QBX1: 0 | QBY1: 0 | QBZ1: 0 | QCA1: 0 | QCB1: 0 | QCC1: 0 | QCD1: 0 | QCE1: 0 | QCF1: 0 | QCG1: 0 | QCH1: 0 | QCI1: 0 | QCJ1: 0 | QCK1: 0 | QCL1: 0 | QCM1: 0 | QCN1: 0 | QCO1: 0 | QCP1: 0 | QCQ1: 0 | QCR1: 0 | QCS1: 0 | QCT1: 0 | QCU1: 0 | QCV1: 0 | QCW1: 0 | QCX1: 0 | QCY1: 0 | QCZ1: 0 | QDA1: 0 | QDB1: 0 | QDC1: 0 | QDD1: 0 | QDE1: 0 | QDF1: 0 | QDG1: 0 | QDH1: 0 | QDI1: 0 | QDJ1: 0 | QDK1: 0 | QDL1: 0 | QDM1: 0 | QDN1: 0 | QDO1: 0 | QDP1: 0 | QDQ1: 0 | QDR1: 0 | QDS1: 0 | QDT1: 0 | QDU1: 0 | QDV1: 0 | QDW1: 0 | QDX1: 0 | QDY1: 0 | QDZ1: 0 | QEA1: 0 | QEB1: 0 | QEC1: 0 | QED1: 0 | QEE1: 0 | QEF1: 0 | QEG1: 0 | QEH1: 0 | QEI1: 0 | QEJ1: 0 | QEK1: 0 | QEL1: 0 | QEM1: 0 | QEN1: 0 | QEO1: 0 | QEP1: 0 | QEQ1: 0 | QER1: 0 | QES1: 0 | QET1: 0 | QEU1: 0 | QEV1: 0 | QEW1: 0 | QEX1: 0 | QEY1: 0 | QEZ1: 0 | QFA1: 0 | QFB1: 0 | QFC1: 0 | QFD1: 0 | QFE1: 0 | QFF1: 0 | QFG1: 0 | QFH1: 0 | QFI1: 0 | QFJ1: 0 | QFK1: 0 | QFL1: 0 | QFM1: 0 | QFN1: 0 | QFO1: 0 | QFP1: 0 | QFQ1: 0 | QFR1: 0 | QFS1: 0 | QFT1: 0 | QFU1: 0 | QFV1: 0 | QFW1: 0 | QFX1: 0 | QFY1: 0 | QFZ1: 0 | QGA1: 0 | QGB1: 0 | QGC1: 0 | QGD1: 0 | QGE1: 0 | QGF1: 0 | QGG1: 0 | QGH1: 0 | QGI1: 0 | QGJ1: 0 | QGK1: 0 | QGL1: 0 | QGM1: 0 | QGN1: 0 | QGO1: 0 | QGP1: 0 | QGQ1: 0 | QGR1: 0 | QGS1: 0 | QGT1: 0 | QGU1: 0 | QGV1: 0 | QGW1: 0 | QGX1: 0 | QGY1: 0 | QGZ1: 0 | QHA1: 0 | QHB1: 0 | QHC1: 0 | QHD1: 0 | QHE1: 0 | QHF1: 0 | QHG1: 0 | QHH1: 0 | QHI1: 0 | QHJ1: 0 | QHK1: 0 | QHL1: 0 | QHM1: 0 | QHN1: 0 | QHO1: 0 | QHP1: 0 | QHQ1: 0 | QHR1: 0 | QHS1: 0 | QHT1: 0 | QHU1: 0 | QHV1: 0 | QHW1: 0 | QHX1: 0 | QHY1: 0 | QHZ1: 0 | QIA1: 0 | QIB1: 0 | QIC1: 0 | QID1: 0 | QIE1: 0 | QIF1: 0 | QIG1: 0 | QIH1: 0 | QII1: 0 | QIJ1: 0 | QIK1: 0 | QIL1: 0 | QIM1: 0 | QIN1: 0 | QIO1: 0 | QIP1: 0 | QIQ1: 0 | QIR1: 0 | QIS1: 0 | QIT1: 0 | QIU1: 0 | QIV1: 0 | QIW1: 0 | QIX1: 0 | QIY1: 0 | QIZ1: 0 | QJA1: 0 | QJB1: 0 | QJC1: 0 | QJD1: 0 | QJE1: 0 | QJF1: 0 | QJG1: 0 | QJH1: 0 | QJI1: 0 | QJJ1: 0 | QJK1: 0 | QJL1: 0 | QJM1: 0 | QJN1: 0 | QJO1: 0 | QJP1: 0 | QJQ1: 0 | QJR1: 0 | QJS1: 0 | QJT1: 0 | QJU1: 0 | QJV1: 0 | QJW1: 0 | QJX1: 0 | QJY1: 0 | QJZ1: 0 | QKA1: 0 | QKB1: 0 | QKC1: 0 | QKD1: 0 | QKE1: 0 | QKF1: 0 | QKG1: 0 | QKH1: 0 | QKI1: 0 | QKJ1: 0 | QKK1: 0 | QKL1: 0 | QKM1: 0 | QKN1: 0 | QKO1: 0 | QKP1: 0 | QKQ1: 0 | QKR1: 0 | QKS1: 0 | QKT1: 0 | QKU1: 0 | QKV1: 0 | QKW1: 0 | QKX1: 0 | QKY1: 0 | QKZ1: 0 | QLA1: 0 | QLB1: 0 | QLC1: 0 | QLD1: 0 | QLE1: 0 | QLF1: 0 | QLG1: 0 | QLH1: 0 | QLI1: 0 | QLJ1: 0 | QLK1: 0 | QLL1: 0 | QLM1: 0 | QLN1: 0 | QLO1: 0 | QLP1: 0 | QLQ1: 0 | QLR1: 0 | QLS1: 0 | QLT1: 0 | QLU1: 0 | QLV1: 0 | QLW1: 0 | QLX1: 0 | QLY1: 0 | QLZ1: 0 | QMA1: 0 | QMB1: 0 | QMC1: 0 | QMD1: 0 | QME1: 0 | QMF1: 0 | QMG1: 0 | QMH1: 0 | QMI1: 0 | QMJ1: 0 | QMK1: 0 | QML1: 0 | QMM1: 0 | QMN1: 0 | QMO1: 0 | QMP1: 0 | QMQ1: 0 | QMR1: 0 | QMS1: 0 | QMT1: 0 | QMU1: 0 | QMV1: 0 | QMW1: 0 | QMX1: 0 | QMY1: 0 | QMZ1: 0 | QNA1: 0 | QNB1: 0 | QNC1: 0 | QND1: 0 | QNE1: 0 | QNF1: 0 | QNG1: 0 | QNH1: 0 | QNI1: 0 | QNJ1: 0 | QNK1: 0 | QNL1: 0 | QNM1: 0 | QNN1: 0 | QNO1: 0 | QNP1: 0 | QNQ1: 0 | QNR1: 0 | QNS1: 0 | QNT1: 0 | QNU1: 0 | QNV1: 0 | QNW1: 0 | QNX1: 0 | QNY1: 0 | QNZ1: 0 | QOA1: 0 | QOB1: 0 | QOC1: 0 | QOD1: 0 | QOE1: 0 | QOF1: 0 | QOG1: 0 | QOH1: 0 | QOI1: 0 | QOJ1: 0 | QOK1: 0 | QOL1: 0 | QOM1: 0 | QON1: 0 | QOO1: 0 | QOP1: 0 | QOQ1: 0 | QOR1: 0 | QOS1: 0 | QOT1: 0 | QOU1: 0 | QOV1: 0 | QOW1: 0 | QOX1: 0 | QOY1: 0 | QOZ1: 0 | QPA1: 0 | QPB1: 0 | QPC1: 0 | QPD1: 0 | QPE1: 0 | QPF1: 0 | QPG1: 0 | QPH1: 0 | QPI1: 0 | QPJ1: 0 | QPK1: 0 | QPL1: 0 | QPM1: 0 | QPN1: 0 | QPO1: 0 | QPP1: 0 | QPQ1: 0 | QPR1: 0 | QPS1: 0 | QPT1: 0 | QPU1: 0 | QPV1: 0 | QPW1: 0 | QPX1: 0 | QPY1: 0 | QPZ1: 0 | QQA1: 0 | QQB1: 0 | QQC1: 0 | QQD1: 0 | QQE1: 0 | QQF1: 0 | QQG1: 0 | QQH1: 0 | QQI1: 0 | QQJ1: 0 | QQK1: 0 | QQL1: 0 | QQM1: 0 | QQN1: 0 | QQO1: 0 | QQP1: 0 | QQQ1: 0 | QQR1: 0 | QQS1: 0 | QQT1: 0 | QQU1: 0 | QQV1: 0 | QQW1: 0 | QQX1: 0 | QQY1: 0 | QQZ1: 0 | QRA1: 0 | QRB1: 0 | QRC1: 0 | QRD1: 0 | QRE1: 0 | QRF1: 0 | QRG1: 0 | QRH1: 0 | QRI1: 0 | QRJ1: 0 | QRK1: 0 | QRL1: 0 | QRM1: 0 | QRN1: 0 | QRO1: 0 | QRP1: 0 | QRQ1: 0 | QRR1: 0 | QRS1: 0 | QRT1: 0 | QRU1: 0 | QRV1: 0 | QRW1: 0 | QRX1: 0 | QRY1: 0 | QRZ1: 0 | QSA1: 0 | QSB1: 0 | QSC1: 0 | QSD1: 0 | QSE1: 0 | QSF1: 0 | QSG1: 0 | QSH1: 0 | QSI1: 0 | QSJ1: 0 | QSK1: 0 | QSL1: 0 | QSM1: 0 | QSN1: 0 | QSO1: 0 | QSP1: 0 | QSQ1: 0 | QSR1: 0 | QSS1: 0 | QST1: 0 | QSU1: 0 | QSV1: 0 | QSW1: 0 | QSX1: 0 | QSY1: 0 | QSZ1: 0 | QTA1: 0 | QTB1: 0 | QTC1: 0 | QTD1: 0 | QTE1: 0 | QTF1: 0 | QTG1: 0 | QTH1: 0 | QTI1: 0 | QTJ1: 0 | QTK1: 0 | QTL1: 0 | QTM1: 0 | QTN1: 0 | QTO1: 0 | QTP1: 0 | QTQ1: 0 | QTR1: 0 | QTS1: 0 | QTT1: 0 | QTU1: 0 | QTV1: 0 | QTW1: 0 | QTX1: 0 | QTY1: 0 | QTZ1: 0 | QUA1: 0 | QUB1: 0 | QUC1: 0 | QUD1: 0 | QUE1: 0 | QUF1: 0 | QUG1: 0 | QUH1: 0 | QUI1: 0 | QUJ1: 0 | QUK1: 0 | QUL1: 0 | QUM1: 0 | QUN1: 0 | QUO1: 0 | QUP1: 0 | QUQ1: 0 | QUR1: 0 | QUS1: 0 | QUT1: 0 | QUU1: 0 | QUV1: 0 | QUW1: 0 | QUX1: 0 | QUY1: 0 | QUZ1: 0 | QVA1: 0 | QVB1: 0 | QVC1: 0 | QVD1: 0 | QVE1: 0 | QVF1: 0 | QVG1: 0 | QVH1: 0 | QVI1: 0 | QVJ1: 0 | QVK1: 0 | QVL1: 0 | QVM1: 0 | QVN1: 0 | QVO1: 0 | QVP1: 0 | QVQ1: 0 | QVR1: 0 | QVS1: 0 | QVT1: 0 | QVU1: 0 | QVV1: 0 | QVW1: 0 | QVX1: 0 | QVY1: 0 | QVZ1: 0 | QWA1: 0 | QWB1: 0 | QWC1: 0 | QWD1: 0 | QWE1: 0 | QWF1: 0 | QWG1: 0 | QWH1: 0 | QWI1: 0 | QWJ1: 0 | QWK1: 0 | QWL1: 0 | QWM1: 0 | QWN1: 0 | QWO1: 0 | QWP1: 0 | QWQ1: 0 | QWR1: 0 | QWS1: 0 | QWT1: 0 | QWU1: 0 | QWV1: 0 | QWW1: 0 | QWX1: 0 | QWY1: 0 | QWZ1: 0 | QXA1: 0 | QXB1: 0 | QXC1: 0 | QXD1: 0 | QXE1: 0 | QXF1: 0 | QXG1: 0 | QXH1: 0 | QXI1: 0 | QXJ1: 0 | QXK1: 0 | QXL1: 0 | QXM1: 0 | QXN1: 0 | QXO1: 0 | QXP1: 0 | QXQ1: 0 | QXR1: 0 | QXS1: 0 | QXT1: 0 | QXU1: 0 | QXV1: 0 | QXW1: 0 | QXX1: 0 | QXY1: 0 | QXZ1: 0 | QYA1: 0 | QYB1: 0 | QYC1: 0 | QYD1: 0 | QYE1: 0 | QYF1: 0 | QYG1: 0 | QYH1: 0 | QYI1: 0 | QYJ1: 0 | QYK1: 0 | QYL1: 0 | QYM1: 0 | QYN1: 0 | QYO1: 0 | QYP1: 0 | QYQ1: 0 | QYR1: 0 | QYS1: 0 | QYT1: 0 | QYU1: 0 | QYV1: 0 | QYW1: 0 | QYX1: 0 | QYY1: 0 | QYZ1: 0 | QZA1: 0 | QZB1: 0 | QZC1: 0 | QZD1: 0 | QZE1: 0 | QZF1: 0 | QZG1: 0 | QZH1: 0 | QZI1: 0 | QZJ1: 0 | QZK1: 0 | QZL1: 0 | QZM1: 0 | QZN1: 0 | QZO1: 0 | QZP1: 0 | QZQ1: 0 | QZR1: 0 | QZS1: 0 | QZT1: 0 | QZU1: 0 | QZV1: 0 | QZW1: 0 | QZX1: 0 | QZY1: 0 | QZZ1: 0 | RAA1: 0 | RAB1: 0 | RAC1: 0 | RAD1: 0 | RAE1: 0 | RAF1: 0 | RAG1: 0 | RAH1: 0 | RAI1: 0 | RAJ1: 0 | RAK1: 0 | RAL1: 0 | RAM1: 0 | RAN1: 0 | RAO1: 0 | RAP1: 0 | RAQ1: 0 | RAR1: 0 | RAS1: 0 | RAT1: 0 | RAU1: 0 | RAV1: 0 | RAW1: 0 | RAX1: 0 | RAY1: 0 | RAZ1: 0 | RBA1: 0 | RBB1: 0 | RBC1: 0 | RBD1: 0 | RBE1: 0 | RBF1: 0 | RBG1: 0 | RBH1: 0 | RBI1: 0 | RBJ1: 0 | RBK1: 0 | RBL1: 0 | RBM1: 0 | RBN1: 0 | RBO1: 0 | RBP1: 0 | RBQ1: 0 | RBR1: 0 | RBS1: 0 | RBT1: 0 | RBU1: 0 | RBV1: 0 | RBW1: 0 | RBX1: 0 | RBY1: 0 | RBZ1: 0 | RCA1: 0 | RCB1: 0 | RCC1: 0 | RCD1: 0 | RCE1: 0 | RCF1: 0 | RCG1: 0 | RCH1: 0 | RCI1: 0 | RCJ1: 0 | RCK1: 0 | RCL1: 0 | RCM1: 0 | RCN1: 0 | RCO1: 0 | RCP1: 0 | RCQ1: 0 | RCR1: 0 | RCS1: 0 | RCT1: 0 | RCU1: 0 | RCV1: 0 | RCW1: 0 | RCX1: 0 | RCY1: 0 | RCZ1: 0 | RDA1: 0 | RDB1: 0 | RDC1: 0 | RDD1: 0 | RDE1: 0 | RDF1: 0 | RDG1: 0 | RDH1: 0 | RDI1: 0 | RDJ1: 0 | RDK1: 0 | RDL1: 0 | RDM1: 0 | RDN1: 0 | RDO1: 0 | RDP1: 0 | RDQ1: 0 | RDR1: 0 | RDS1: 0 | RDT1: 0 | RDU1: 0 | RDV1: 0 | RDW1: 0 | RDX1: 0 | RDY1: 0 | RDZ1: 0 | REA1: 0 | REB1: 0 | REC1: 0 | RED1: 0 | REE1: 0 | REF1: 0 | REG1: 0 | REH1: 0 | REI1: 0 | REJ1: 0 | REK1: 0 | REL1: 0 | REM1: 0 | REN1: 0 | REO1: 0 | REP1: 0 | REQ1: 0 | RER1: 0 | RES1: 0 | RET1: 0 | REU1: 0 | REV1: 0 | REW1: 0 | REX1: 0 | REY1: 0 | REZ1: 0 | RFA1: 0 | RFB1: 0 | RFC1: 0 | RFD1: 0 | RFE1: 0 | RFF1: 0 | RFG1: 0 | RFH1: 0 | RFI1: 0 | RFJ1: 0 | RFK1: 0 | RFL1: 0 | RFM1: 0 | RFN1: 0 | RFO1: 0 | RFP1: 0 | RFQ1: 0 | RFR1: 0 | RFS1: 0 | RFT1: 0 | RFU1: 0 | RFV1: 0 | RFW1: 0 | RFX1: 0 | RFY1: 0 | RFZ1: 0 | RGA1: 0 | RGB1: 0 | RGC1: 0 | RGD1: 0 | RGE1: 0 | RGF1: 0 | RGG1: 0 | RGH1: 0 | RGI1: 0 | RGJ1: 0 | RGK1: 0 | RGL1: 0 | RGM1: 0 | RGN1: 0 | RGO1: 0 | RGP1: 0 | RGQ1: 0 | RGR1: 0 | RGS1: 0 | RGT1: 0 | RGU1: 0 | RGV1: 0 | RGW1: 0 | RGX1: 0 | RGY1: 0 | RGZ1: 0 | RHA1: 0 | RHB1: 0 | RHC1: 0 | RHD1: 0 | RHE1: 0 | RHF1: 0 | RHG1: 0 | RHH1: 0 | RHI1: 0 | RHJ1: 0 | RHK1: 0 | RHL1: 0 | RHM1: 0 | RHN1: 0 | RHO1: 0 | RHP1: 0 | RHQ1: 0 | RHR1: 0 | RHS1: 0 | RHT1: 0 | RHU1: 0 | RHV1: 0 | RHW1: 0 | RHX1: 0 | RHY1: 0 | RHZ1: 0 | RIA1: 0 | RIB1: 0 | RIC1: 0 | RID1: 0 | RIE1: 0 | RIF1: 0 | RIG1: 0 | RIH1: 0 | RII1: 0 | RIJ1: 0 | RIK1: 0 | RIL1: 0 | RIM1: 0 | RIN1: 0 | RIO1: 0 | RIP1: 0 | RIQ1: 0 | RIR1: 0 | RIS1: 0 | RIT1: 0 | RIU1: 0 | RIV1: 0 | RIW1: 0 | RIX1: 0 | RIY1: 0 | RIZ1: 0 | RJA1: 0 | RJB1: 0 | RJC1: 0 | RJD1: 0 | RJE1: 0 | RJF1: 0 | RJG1: 0 | RJH1: 0 | RJI1: 0 | RJJ1: 0 | RJK1: 0 | RJL1: 0 | RJM1: 0 | RJN1: 0 | RJO1: 0 | RJP1: 0 | RJQ1: 0 | RJR1: 0 | RJS1: 0 | RJT1: 0 | RJU1: 0 | RJV1: 0 | RJW1: 0 | RJX1: 0 | RJY1: 0 | RJZ1: 0 | RKA1: 0 | RKB1: 0 | RKC1: 0 | RKD1: 0 | RKE1: 0 | RKF1: 0 | RKG1: 0 | RKH1: 0 | RKI1: 0 | RKJ1: 0 | RKK1: 0 | RKL1: 0 | RKM1: 0 | RKN1: 0 | RKO1: 0 | RKP1: 0 | RKQ1: 0 | RKR1: 0 | RKS1: 0 | RKT1: 0 | RKU1: 0 | RKV1: 0 | RKW1: 0 | RKX1: 0 | RKY1: 0 | RKZ1: 0 | RLA1: 0 | RLB1: 0 | RLC1: 0 | RLD1: 0 | RLE1: 0 | RLF1: 0 | RLG1: 0 | RLH1: 0 | RLI1: 0 | RLJ1: 0 | RLK1: 0 | RLL1: 0 | RLM1: 0 | RLN1: 0 | RLO1: 0 | RLP1: 0 | RLQ1: 0 | RLR1: 0 | RLS1: 0 | RLT1: 0 | RLU1: 0 | RLV1: 0 | RLW1: 0 | RLX1: 0 | RLY1: 0 | RLZ1: 0 | RMA1: 0 | RMB1: 0 | RMC1: 0 | RMD1: 0 | RME1: 0 | RMF1: 0 | RMG1: 0 | RMH1: 0 | RMI1: 0 | RMJ1: 0 | RMK1: 0 | RML1: 0 | RMM1: 0 | RMN1: 0 | RMO1: 0 | RMP1: 0 | RMQ1: 0 | RMR1: 0 | RMS1: 0 | RMT1: 0 | RMU1: 0 | RMV1: 0 | RMW1: 0 | RMX1: 0 | RMY1: 0 | RMZ1: 0 | RNA1: 0 | RNB1: 0 | RNC1: 0 | RND1: 0 | RNE1: 0 | RNF1: 0 | RNG1: 0 | RNH1: 0 | RNI1: 0 | RNJ1: 0 | RNK1: 0 | RNL1: 0 | RNM1: 0 | RNN1: 0 | RNO1: 0 | RNP1: 0 | RNQ1: 0 | RNR1: 0 | RNS1: 0 | RNT1: 0 | RNU1: 0 | RNV1: 0 | RNW1: 0 | RNX1: 0 | RNY1: 0 | RNZ1: 0 | ROA1: 0 | ROB1: 0 | ROC1: 0 | ROD1: 0 | ROE1: 0 | ROF1: 0 | ROG1: 0 | ROH1: 0 | ROI1: 0 | ROJ1: 0 | ROK1: 0 | ROL1: 0 | ROM1: 0 | RON1: 0 | ROO1: 0 | ROP1: 0 | ROQ1: 0 | ROR1: 0 | ROS1: 0 | ROT1: 0 | ROU1: 0 | ROV1: 0 | ROW1: 0 | ROX1: 0 | ROY1: 0 | ROZ1: 0 | RPA1: 0 | RPB1: 0 | RPC1: 0 | RPD1: 0 | RPE1: 0 | RPF1: 0 | RPG1: 0 | RPH1: 0 | RPI1: 0 | RPJ1: 0 | RPK1: 0 | RPL1: 0 | RPM1: 0 | RPN1: 0 | RPO1: 0 | RPP1: 0 | RPQ1: 0 | RPR1: 0 | RPS1: 0 | RPT1: 0 | RPU1: 0 | RPV1: 0 | RPW1: 0 | RPX1: 0 | RPY1: 0 | RPZ1: 0 | RQA1: 0 | RQB1: 0 | RQC1: 0 | RQD1: 0 | RQE1: 0 | RQF1: 0 | RQG1: 0 | RQH1: 0 | RQI1: 0 | RQJ1: 0 | RQK1: 0 | RQL1: 0 | RQM1: 0 | RQN1: 0 | RQO1: 0 | RQP1: 0 | RQQ1: 0 | RQR1: 0 | RQS1: 0 | RQT1: 0 | RQU1: 0 | RQV1: 0 | RQW1: 0 | RQX1: 0 | RQY1: 0 | RQZ1: 0 | RRA1: 0 | RRB1: 0 | RRC1: 0 | RRD1: 0 | RRE1: 0 | RRF1: 0 | RRG1: 0 | RRH1: 0 | RRI1: 0 | RRJ1: 0 | RRK1: 0 | RRL1: 0 | RRM1: 0 | RRN1: 0 | RRO1: 0 | RRP1: 0 | RRQ1: 0 | RRR1: 0 | RRS1: 0 | RRT1: 0 | RRU1: 0 | RRV1: 0 | RRW1: 0 | RRX1: 0 | RRY1: 0 | RRZ1: 0 | RSA1: 0 | RSB1: 0 | RSC1: 0 | RSD1: 0 | RSE1: 0 | RSF1: 0 | RSG1: 0 | RSH1: 0 | RSI1: 0 | RSJ1: 0 | RSK1: 0 | RSL1: 0 | RSM1: 0 | RSN1: 0 | RSO1: 0 | RSP1: 0 | RSQ1: 0 | RSR1: 0 | RSS1: 0 | RST1: 0 | RSU1: 0 | RSV1: 0 | RSW1: 0 | RSX1: 0 | RSY1: 0 | RSZ1: 0 | RTA1: 0 | RTB1: 0 | RTC1: 0 | RTD1: 0 | RTE1: 0 | RTF1: 0 | RTG1: 0 | RTH1: 0 | RTI1: 0 | RTJ1: 0 | RTK1: 0 | RTL1: 0 | RTM1: 0 | RTN1: 0 | RTO1: 0 | RTP1: 0 | RTQ1: 0 | RTR1: 0 | RTS1: 0 | RTT1: 0 | RTU1: 0 | RTV1: 0 | RTW1: 0 | RTX1: 0 | RTY1: 0 | RTZ1: 0 | RUA1: 0 | RUB1: 0 | RUC1: 0 | RUD1: 0 | RUE1: 0 | RUF1: 0 | RUG1: 0 | RUH1: 0 | RUI1: 0 | RUJ1: 0 | RUK1: 0 | RUL1: 0 | RUM1: 0 | RUN1: 0 | RUO1: 0 | RUP1: 0 | RUQ1: 0 | RUR1: 0 | RUS1: 0 | RUT1: 0 | RUU1: 0 | RUV1: 0 | RUW1: 0 | RUX1: 0 | RUY1: 0 | RUZ1: 0 | RVA1: 0 | RVB1: 0 | RVC1: 0 | RVD1: 0 | RVE1: 0 | RVF1: 0 | RVG1: 0 | RVH1: 0 | RVI1: 0 | RVJ1: 0 | RVK1: 0 | RVL1: 0 | RVM1: 0 | RVN1: 0 | RVO1: 0 | RVP1: 0 | RVQ1: 0 | RVR1: 0 | RVS1: 0 | RVT1: 0 | RVU1: 0 | RVV1: 0 | RVW1: 0 | RVX1: 0 | RVY1: 0 | RVZ1: 0 | RWA1: 0 | RWB1: 0 | RWC1: 0 | RWD1: 0 | RWE1: 0 | RWF1: 0 | RWG1: 0 | RWH1: 0 | RWI1: 0 | RWJ1: 0 | RWK1: 0 | RWL1: 0 | RWM1: 0 | RWN1: 0 | RWO1: 0 | RWP1: 0 | RWQ1: 0 | RWR1: 0 | RWS1: 0 | RWT1: 0 | RWU1: 0 | RWV1: 0 | RWW1: 0 | RWX1: 0 | RWY1: 0 | RWZ1: 0 | RXA1: 0 | RXB1: 0 | RXC1: 0 | RXD1: 0 | RXE1: 0 | RXF1: 0 | RXG1: 0 | RXH1: 0 | RXI1: 0 | RXJ1: 0 | RXK1: 0 | RXL1: 0 | RXM1: 0 | RXN1: 0 | RXO1: 0 | RXP1: 0 | RXQ1: 0 | RXR1: 0 | RXS1: 0 | RXT1: 0 | RXU1: 0 | RXV1: 0 | RXW1: 0 | RXX1: 0 | RXY1: 0 | RXZ1: 0 | RYA1: 0 | RYB1: 0 | RYC1: 0 | RYD1: 0 | RYE1: 0 | RYF1: 0 | RYG1: 0 | RYH1: 0 | RYI1: 0 | RYJ1: 0 | RYK1: 0 | RYL1: 0 | RYM1: 0 | RYN1: 0 | RYO1: 0 | RYP1: 0 | RYQ1: 0 | RYR1: 0 | RYS1: 0 | RYT1: 0 | RYU1: 0 | RYV1: 0 | RYW1: 0 | RYX1: 0 | RYY1: 0 | RYZ1: 0 | RZA1: 0 | RZB1: 0 | RZC1: 0 | RZD1: 0 | RZE1: 0 | RZF1: 0 | RZG1: 0 | RZH1: 0 | RZI1: 0 | RZJ1: 0 | RZK1: 0 | RZL1: 0 | RZM1: 0 | RZN1: 0 | RZO1: 0 | RZP1: 0 | RZQ1: 0 | RZR1: 0 | RZS1: 0 | RZT1: 0 | RZU1: 0 | RZV1: 0 | RZW1: 0 | RZX1: 0 | RZY1: 0 | RZZ1: 0 | SAA1: 0 | SAB1: 0 | SAC1: 0 | SAD1: 0 | SAE1: 0 | SAF1: 0 | SAG1: 0 | SAH1: 0 | SAI1: 0 | SAJ1: 0 | SAK1: 0 | SAL1: 0 | SAM1: 0 | SAN1: 0 | SAO1: 0 | SAP1: 0 | SAQ1: 0 | SAR1: 0 | SAS1: 0 | SAT1: 0 | SAU1: 0 | SAV1: 0 | SAW1: 0 | SAX1: 0 | SAY1: 0 | SAZ1: 0 | SBA1: 0 | SBB1: 0 | SBC1: 0 | SBD1: 0 | SBE1: 0 | SBF1: 0 | SBG1: 0 | SBH1: 0 | SBI1: 0 | SBJ1: 0 | SBK1: 0 | SBL1: 0 | SBM1: 0 | SBN1: 0 | SBO1: 0 | SBP1: 0 | SBQ1: 0 | SBR1: 0 | SBS1: 0 | SBT1: 0 | SBU1: 0 | SBV1: 0 | SBW1: 0 | SBX1: 0 | SBY1: 0 | SBZ1: 0 | SCA1: 0 | SCB1: 0 | SCC1: 0 | SCD1: 0 | SCE1: 0 | SCF1: 0 | SCG1: 0 | SCH1: 0 | SCI1: 0 | SCJ1: 0 | SCK1: 0 | SCL1: 0 | SCM1: 0 | SCN1: 0 | SCO1: 0 | SCP1: 0 | SCQ1: 0 | SCR1: 0 | SCS1: 0 | SCT1: 0 | SCU1: 0 | SCV1: 0 | SCW1: 0 | SCX1: 0 | SCY1: 0 | SCZ1: 0 | SDA1: 0 | SDB1: 0 | SDC1: 0 | SDD1: 0 | SDE1: 0 | SDF1: 0 | SDG1: 0 | SDH1: 0 | SDI1: 0 | SDJ1: 0 | SDK1: 0 | SDL1: 0 | SDM1: 0 | SDN1: 0 | SDO1: 0 | SDP1: 0 | SDQ1: 0 | SDR1: 0 | SDS1: 0 | SDT1: 0 | SDU1: 0 | SDV1: 0 | SDW1: 0 | SDX1: 0 | SDY1: 0 | SDZ1: 0 | SEA1: 0 | SEB1: 0 | SEC1: 0 | SED1: 0 | SEE1: 0 | SEF1: 0 | SEG1: 0 | SEH1: 0 | SEI1: 0 | SEJ1: 0 | SEK1: 0 | SEL1: 0 | SEM1: 0 | SEN1: 0 | SEO1: 0 | SEP1: 0 | SEQ1: 0 | SER1: 0 | SES1: 0 | SET1: 0 | SEU1: 0 | SEV1: 0 | SEW1: 0 | SEX1: 0 | SEY1: 0 | SEZ1: 0 | SFA1: 0 | SFB1: 0 | SFC1: 0 | SFD1: 0 | SFE1: 0 | SFF1: 0 | SFG1: 0 | SFH1: 0 | SFI1: 0 | SFJ1: 0 | SFK1: 0 | SFL1: 0 | SFM1: 0 | SFN1: 0 | SFO1: 0 | SFP1: 0 | SFQ1: 0 | SFR1: 0 | SFS1: 0 | SFT1: 0 | SFU1: 0 | SFV1: 0 | SFW1: 0 | SFX1: 0 | SFY1: 0 | SFZ1: 0 | SGA1: 0 | SGB1: 0 | SGC1: 0 | SGD1: 0 | SGE1: 0 | SGF1: 0 | SGG1: 0 | SGH1: 0 | SGI1: 0 | SGJ1: 0 | SGK1: 0 | SGL1: 0 | SGM1: 0 | SGN1: 0 | SGO1: 0 | SGP1: 0 | SGQ1: 0 | SGR1: 0 | SGS1: 0 | SGT1: 0 | SGU1: 0 | SGV1: 0 | SGW1: 0 | SGX1: 0 | SGY1: 0 | SGZ1: 0 | SHA1: 0 | SHB1: 0 | SHC1: 0 | SHD1: 0 | SHE1: 0 | SHF1: 0 | SHG1: 0 | SHH1: 0 | SHI1: 0 | SHJ1: 0 | SHK1: 0 | SHL1: 0 | SHM1: 0 | SHN1: 0 | SHO1: 0 | SHP1: 0 | SHQ1: 0 | SHR1: 0 | SHS1: 0 | SHT1: 0 | SHU1: 0 | SHV1: 0 | SHW1: 0 | SHX1: 0 | SHY1: 0 | SHZ1: 0 | SIA1: 0 | SIB1: 0 | SIC1: 0 | SID1: 0 | SIE1: 0 | SIF1: 0 | SIG1: 0 | SIH1: 0 | SII1: 0 | SIJ1: 0 | SIK1: 0 | SIL1: 0 | SIM1: 0 | SIN1: 0 | SIO1: 0 | SIP1: 0 | SIQ1: 0 | SIR1: 0 | SIS1: 0 | SIT1: 0 | SIU1: 0 | SIV1: 0 | SIW1: 0 | SIX1: 0 | SIY1: 0 | SIZ1: 0 | SJA1: 0 | SJB1: 0 | SJC1: 0 | SJD1: 0 | SJE1: 0 | SJF1: 0 | SJG1: 0 | SJH1: 0 | SJI1: 0 | SJJ1: 0 | SJK1: 0 | SJL1: 0 | SJM1: 0 | SJN1: 0 | SJO1: 0 | SJP1: 0 | SJQ1: 0 | SJR1: 0 | SJS1: 0 | SJT1: 0 | SJU1: 0 | SJV1: 0 | SJW1: 0 | SJX1: 0 | SJY1: 0 | SJZ1: 0 | SKA1: 0 | SKB1: 0 | SKC1: 0 | SKD1: 0 | SKE1: 0 | SKF1: 0 | SKG1: 0 | SKH1: 0 | SKI1: 0 | SKJ1: 0 | SKK1: 0 | SKL1: 0 | SKM1: 0 | SKN1: 0 | SKO1: 0 | SKP1: 0 | SKQ1: 0 | SKR1: 0 | SKS1: 0 | SKT1: 0 | SKU1: 0 | SKV1: 0 | SKW1: 0 | SKX1: 0 | SKY1: 0 | SKZ1: 0 | SLA1: 0 | SLB1: 0 | SLC1: 0 | SLD1: 0 | SLE1: 0 | SLF1: 0 | SLG1: 0 | SLH1: 0 | SLI1: 0 | SLJ1: 0 | SLK1: 0 | SLL1: 0 | SLM1: 0 | SLN1: 0 | SLO1: 0 | SLP1: 0 | SLQ1: 0 | SLR1: 0 | SLS1: 0 | SLT1: 0 | SLU1: 0 | SLV1: 0 | SLW1: 0 | SLX1: 0 | SLY1: 0 | SLZ1: 0 | SMA1: 0 | SMB1: 0 | SMC1: 0 | SMD1: 0 | SME1: 0 | SMF1: 0 | SMG1: 0 | SMH1: 0 | SMI1: 0 | SMJ1: 0 | SMK1: 0 | SML1: 0 | SMM1: 0 | SMN1: 0 | SMO1: 0 | SMP1: 0 | SMQ1: 0 | SMR1: 0 | SMS1: 0 | SMT1: 0 | SMU1: 0 | SMV1: 0 | SMW1: 0 | SMX1: 0 | SMY1: 0 | SMZ1: 0 | SNA1: 0 | SNB1: 0 | SNC1: 0 | SND1: 0 | SNE1: 0 | SNF1: 0 | SNG1: 0 | SNH1: 0 | SNI1: 0 | SNJ1: 0 | SNK1: 0 | SNL1: 0 | SNM1: 0 | SNN1: 0 | SNO1: 0 | SNP1: 0 | SNQ1: 0 | SNR1: 0 | SNS1: 0 | SNT1: 0 | SNU1: 0 | SNV1: 0 | SNW1: 0 | SNX1: 0 | SNY1: 0 | SNZ1: 0 | SOA1: 0 | SOB1: 0 | SOC1: 0 | SOD1: 0 | SOE1: 0 | SOF1: 0 | SOG1: 0 | SOH1: 0 | SOI1: 0 | SOJ1: 0 | SOK1: 0 | SOL1: 0 | SOM1: 0 | SON1: 0 | SOO1: 0 | SOP1: 0 | SOQ1: 0 | SOR1: 0 | SOS1: 0 | SOT1: 0 | SOU1: 0 | SOV1: 0 | SOW1: 0 | SOX1: 0 | SOY1: 0 | SOZ1: 0 | SPA1: 0 | SPB1: 0 | SPC1: 0 | SPD1: 0 | SPE1: 0 | SPF1: 0 | SPG1: 0 | SPH1: 0 | SPI1: 0 | SPJ1: 0 | SPK1: 0 | SPL1: 0 | SPM1: 0 | SPN1: 0 | SPO1: 0 | SPP1: 0 | SPQ1: 0 | SPR1: 0 | SPS1: 0 | SPT1: 0 | SPU1: 0 | SPV1: 0 | SPW1: 0 | SPX1: 0 | SPY1: 0 | SPZ1: 0 | SQA1: 0 | SQB1: 0 | SQC1: 0 | SQD1: 0 | SQE1: 0 | SQF1: 0 | SQG1: 0 | SQH1: 0 | SQI1: 0 | SQJ1: 0 | SQK1: 0 | SQL1: 0 | SQM1: 0 | SQN1: 0 | SQO1: 0 | SQP1: 0 | SQQ1: 0 | SQR1: 0 | SQS1: 0 | SQT1: 0 | SQU1: 0 | SQV1: 0 | SQW1: 0 | SQX1: 0 | SQY1: 0 | SQZ1: 0 | SRA1: 0 | SRB1: 0 | SRC1: 0 | SRD1: 0 | SRE1: 0 | SRF1: 0 | SRG1: 0 | SRH1: 0 | SRI1: 0 | SRJ1: 0 | SRK1: 0 | SRL1: 0 | SRM1: 0 | SRN1: 0 | SRO1: 0 | SRP1: 0 | SRQ1: 0 | SRR1: 0 | SRS1: 0 | SRT1: 0 | SRU1: 0 | SRV1: 0 | SRW1: 0 | SRX1: 0 | SRY1: 0 | SRZ1: 0 | SSA1: 0 | SSB1: 0 | SSC1: 0 | SSD1: 0 | SSE1: 0 | SSF1: 0 | SSG1: 0 | SSH1: 0 | SSI1: 0 | SSJ1: 0 | SSK1: 0 | SSL1: 0 | SSM1: 0 | SSN1: 0 | SSO1: 0 | SSP1: 0 | SSQ1: 0 | SSR1: 0 | SSS1: 0 | SST1: 0 | SSU1: 0 | SSV1: 0 | SSW1: 0 | SSX1: 0 | SSY1: 0 | SSZ1: 0 | STA1: 0 | STB1: 0 | STC1: 0 | STD1: 0 | STE1: 0 | STF1: 0 | STG1: 0 | STH1: 0 | STI1: 0 | STJ1: 0 | STK1: 0 | STL1: 0 | STM1: 0 | STN1: 0 | STO1: 0 | STP1: 0 | STQ1: 0 | STR1: 0 | STS1: 0 | STT1: 0 | STU1: 0 | STV1: 0 | STW1: 0 | STX1: 0 | STY1: 0 | STZ1: 0 | SUA1: 0 | SUB1: 0 | SUC1: 0 | SUD1: 0 | SUE1: 0 | SUF1: 0 | SUG1: 0 | SUH1: 0 | SUI1: 0 | SUJ1: 0 | SUK1: 0 | SUL1: 0 | SUM1: 0 | SUN1: 0 | SUO1: 0 | SUP1: 0 | SUQ1: 0 | SUR1: 0 | SUS1: 0 | SUT1: 0 | SUU1: 0 | SUV1: 0 | SUW1: 0 | SUX1: 0 | SUY1: 0 | SUZ1: 0 | SVA1: 0 | SVB1: 0 | SVC1: 0 | SVD1: 0 | SVE1: 0 | SVF1: 0 | SVG1: 0 | SVH1: 0 | SVI1: 0 | SVJ1: 0 | SVK1: 0 | SVL1: 0 | SVM1: 0 | SVN1: 0 | SVO1: 0 | SVP1: 0 | SVQ1: 0 | SVR1: 0 | SVS1: 0 | SVT1: 0 | SVU1: 0 | SVV1: 0 | SVW1: 0 | SVX1: 0 | SVY1: 0 | SVZ1: 0 | SWA1: 0 | SWB1: 0 | SWC1: 0 | SWD1: 0 | SWE1: 0 | SWF1: 0 | SWG1: 0 | SWH1: 0 | SWI1: 0 | SWJ1: 0 | SWK1: 0 | SWL1: 0 | SWM1: 0 | SWN1: 0 | SWO1: 0 | SWP1: 0 | SWQ1: 0 | SWR1: 0 | SWS1: 0 | SWT1: 0 | SWU1: 0 | SWV1: 0 | SWW1: 0 | SWX1: 0 | SWY1: 0 | SWZ1: 0 | SXA1: 0 | SXB1: 0 | SXC1: 0 | SXD1: 0 | SXE1: 0 | SXF1: 0 | SXG1: 0 | SXH1: 0 | SXI1: 0 | SXJ1: 0 | SXK1: 0 | SXL1: 0 | SXM1: 0 | SXN1: 0 | SXO1: 0 | SXP1: 0 | SXQ1: 0 | SXR1: 0 | SXS1: 0 | SXT1: 0 | SXU1: 0 | SXV1: 0 | SXW1: 0 | SXX1: 0 | SXY1: 0 | SXZ1: 0 | SYA1: 0 | SYB1: 0 | SYC1: 0 | SYD1: 0 | SYE1: 0 | SYF1: 0 | SYG1: 0 | SYH1: 0 | SYI1: 0 | SYJ1: 0 | SYK1: 0 | SYL1: 0 | SYM1: 0 | SYN1: 0 | SYO1: 0 | SYP1: 0 | SYQ1: 0 | SYR1: 0 | SYS1: 0 | SYT1: 0 | SYU1: 0 | SYV1: 0 | SYW1: 0 | SYX1: 0 | SYY1: 0 | SYZ1: 0 | SZA1: 0 | SZB1: 0 | SZC1: 0 | SZD1: 0 | SZE1: 0 | SZF1: 0 | SZG1: 0 | SZH1: 0 | SZI1: 0 | SZJ1: 0 | SZK1: 0 | SZL1: 0 | SZM1: 0 | SZN1: 0 | SZO1: 0 | SZP1: 0 | SZQ1: 0 | SZR1: 0 | SZS1: 0 | SZT1: 0 | SZU1: 0 | SZV1: 0 | SZW1: 0 | SZX1: 0 | SZY1: 0 | SZZ1: 0 | TAA1: 0 | TAB1: 0 | TAC1: 0 | TAD1: 0 | TAE1: 0 | TAF1: 0 | TAG1: 0 | TAH1: 0 | TAI1: 0 | TAJ1: 0 | TAK1: 0 | TAL1: 0 | TAM1: 0 | TAN1: 0 | TAO1: 0 | TAP1: 0 | TAQ1: 0 | TAR1: 0 | TAS1: 0 | TAT1: 0 | TAU1: 0 | TAV1: 0 | TAW1: 0 | TAX1: 0 | TAY1: 0 | TAZ1: 0 | TBA1: 0 | TBB1: 0 | TBC1: 0 | TBD1: 0 | TBE1: 0 | TBF1: 0 | TBG1: 0 | TBH1: 0 | TBI1: 0 | TBJ1: 0 | TBK1: 0 | TBL1: 0 | TBM1: 0 | TBN1: 0 | TBO1: 0 | TBP1: 0 | TBQ1: 0 | TBR1: 0 | TBS1: 0 | TBT1: 0 | TBU1: 0 | TBV1: 0 | TBW1: 0 | TBX1: 0 | TBY1: 0 | TBZ1: 0 | TCA1: 0 | TCB1: 0 | TCC1: 0 | TCD1: 0 | TCE1: 0 | TCF1: 0 | TCG1: 0 | TCH1: 0 | TCI1: 0 | TCJ1: 0 | TCK1: 0 | TCL1: 0 | TCM1: 0 | TCN1: 0 | TCO1: 0 | TCP1: 0 | TCQ1: 0 | TCR1: 0 | TCS1: 0 | TCT1: 0 | TCU1: 0 | TCV1: 0 | TCW1: 0 | TCX1: 0 | TCY1: 0 | TCZ1: 0 | TDA1: 0 | TDB1: 0 | TDC1: 0 | TDD1: 0 | TDE1: 0 | TDF1: 0 | TDG1: 0 | TDH1: 0 | TDI1: 0 | TDJ1: 0 | TDK1: 0 | TDL1: 0 | TDM1: 0 | TDN1: 0 | TDO1: 0 | TDP1: 0 | TDQ1: 0 | TDR1: 0 | TDS1: 0 | TDT1: 0 | TDU1: 0 | TDV1: 0 | TDW1: 0 | TDX1: 0 | TDY1: 0 | TDZ1: 0 | TEA1: 0 | TEB1: 0 | TEC1: 0 | TED1: 0 | TEE1: 0 | TEF1: 0 | TEG1: 0 | TEH1: 0 | TEI1: 0 | TEJ1: 0 | TEK1: 0 | TEL1: 0 | TEM1: 0 | TEN1: 0 | TEO1: 0 | TEP1: 0 | TEQ1: 0 | TER1: 0 | TES1: 0 | TET1: 0 | TEU1: 0 | TEV1: 0 | TEW1: 0 | TEX1: 0 | TEY1: 0 | TEZ1: 0 | TFA1: 0 | TFB1: 0 | TFC1: 0 | TFD1: 0 | TFE1: 0 | TFF1: 0 | TFG1: 0 | TFH1: 0 | TFI1: 0 | TFJ1: 0 | TFK1: 0 | TFL1: 0 | TFM1: 0 | TFN1: 0 | TFO1: 0 | TFP1: 0 | TFQ1: 0 | TFR1: 0 | TFS1: 0 | TFT1: 0 | TFU1: 0 | TFV1: 0 | TFW1: 0 | TFX1: 0 | TFY1: 0 | TFZ1: 0 | TGA1: 0 | TGB1: 0 | TGC1: 0 | TGD1: 0 | TGE1: 0 | TGF1: 0 | TGG1: 0 | TGH1: 0 | TGI1: 0 | TGJ1: 0 | TGK1: 0 | TGL1: 0 | TGM1: 0 | TGN1: 0 | TGO1: 0 | TGP1: 0 | TGQ1: 0 | TGR1: 0 | TGS1: 0 | TGT1: 0 | TGU1: 0 | TGV1: 0 | TGW1: 0 | TGX1: 0 | TGY1: 0 | TGZ1: 0 | THA1: 0 | THB1: 0 | THC1: 0 | THD1: 0 | THE1: 0 | THF1: 0 | THG1: 0 | THH1: 0 | THI1: 0 | THJ1: 0 | THK1: 0 | THL1: 0 | THM1: 0 | THN1: 0 | THO1: 0 | THP1: 0 | THQ1: 0 | THR1: 0 | THS1: 0 | THT1: 0 | THU1: 0 | THV1: 0 | THW1: 0 | THX1: 0 | THY1: 0 | THZ1: 0 | TIA1: 0 | TIB1: 0 | TIC1: 0 | TID1: 0 | TIE1: 0 | TIF1: 0 | TIG1: 0 | TIH1: 0 | TII1: 0 | TIJ1: 0 | TIK1: 0 | TIL1: 0 | TIM1: 0 | TIN1: 0 | TIO1: 0 | TIP1: 0 | TIQ1: 0 | TIR1: 0 | TIS1: 0 | TIT1: 0 | TIU1: 0 | TIV1: 0 | TIW1: 0 | TIX1: 0 | TIY1: 0 | TIZ1: 0 | TJA1: 0 | TJB1: 0 | TJC1: 0 | TJD1: 0 | TJE1: 0 | TJF1: 0 | TJG1: 0 | TJH1: 0 | TJI1: 0 | TJJ1: 0 | TJK1: 0 | TJL1: 0 | TJM1: 0 | TJN1: 0 | TJO1: 0 | TJP1: 0 | TJQ1: 0 | TJR1: 0 | TJS1: 0 | TJT1: 0 | TJU1: 0 | TJV1: 0 | TJW1: 0 | TJX1: 0 | TJY1: 0 | TJZ1: 0 | TKA1: 0 | TKB1: 0 | TKC1: 0 | TKD1: 0 | TKE1: 0 | TKF1: 0 | TKG1: 0 | TKH1: 0 | TKI1: 0 | TKJ1: 0 | TKK1: 0 | TKL1: 0 | TKM1: 0 | TKN1: 0 | TKO1: 0 | TKP1: 0 | TKQ1: 0 | TKR1: 0 | TKS1: 0 | TKT1: 0 | TKU1: 0 | TKV1: 0 | TKW1: 0 | TKX1: 0 | TKY1: 0 | TKZ1: 0 | TLA1: 0 | TLB1: 0 | TLC1: 0 | TLD1: 0 | TLE1: 0 | TLF1: 0 | TLG1: 0 | TLH1: 0 | TLI1: 0 | TLJ1: 0 | TLK1: 0 | TLL1: 0 | TLM1: 0 | TLN1: 0 | TLO1: 0 | TLP1: 0 | TLQ1: 0 | TLR1: 0 | TLS1: 0 | TLT1: 0 | TLU1: 0 | TLV1: 0 | TLW1: 0 | TLX1: 0 | TLY1: 0 | TLZ1: 0 | TMA1: 0 | TMB1: 0 | TMC1: 0 | TMD1: 0 | TME1: 0 | TMF1: 0 | TMG1: 0 | TMH1: 0 | TMI1: 0 | TMJ1: 0 | TMK1: 0 | TML1: 0 | TMM1: 0 | TMN1: 0 | TMO1: 0 | TMP1: 0 | TMQ1: 0 | TMR1: 0 | TMS1: 0 | TMT1: 0 | TMU1: 0 | TMV1: 0 | TMW1: 0 | TMX1: 0 | TMY1: 0 | TMZ1: 0 | TNA1: 0 | TNB1: 0 | TNC1: 0 | TND1: 0 | TNE1: 0 | TNF1: 0 | TNG1: 0 | TNH1: 0 | TNI1: 0 | TNJ1: 0 | TNK1: 0 | TNL1: 0 | TNM1: 0 | TNN1: 0 | TNO1: 0 | TNP1: 0 | TNQ1: 0 | TNR1: 0 | TNS1: 0 | TNT1: 0 | TNU1: 0 | TNV1: 0 | TNW1: 0 | TNX1: 0 | TNY1: 0 | TNZ1: 0 | TOA1: 0 | TOB1: 0 | TOC1: 0 | TOD1: 0 | TOE1: 0 | TOF1: 0 | TOG1: 0 | TOH1: 0 | TOI1: 0 | TOJ1: 0 | TOK1: 0 | TOL1: 0 | TOM1: 0 | TON1: 0 | TOO1: 0 | TOP1: 0 | TOQ1: 0 | TOR1: 0 | TOS1: 0 | TOT1: 0 | TOU1: 0 | TOV1: 0 | TOW1: 0 | TOX1: 0 | TOY1: 0 | TOZ1: 0 | TPA1: 0 | TPB1: 0 | TPC1: 0 | TPD1: 0 | TPE1: 0 | TPF1: 0 | TPG1: 0 | TPH1: 0 | TPI1: 0 | TPJ1: 0 | TPK1: 0 | TPL1: 0 | TPM1: 0 | TPN1: 0 | TPO1: 0 | TPP1: 0 | TPQ1: 0 | TPR1: 0 | TPS1: 0 | TPT1: 0 | TPU1: 0 | TPV1: 0 | TPW1: 0 | TPX1: 0 | TPY1: 0 | TPZ1: 0 | TQA1: 0 | TQB1: 0 | TQC1: 0 | TQD1: 0 | TQE1: 0 | TQF1: 0 | TQG1: 0 | TQH1: 0 | TQI1: 0 | TQJ1: 0 | TQK1: 0 | TQL1: 0 | TQM1: 0 | TQN1: 0 | TQO1: 0 | TQP1: 0 | TQQ1: 0 | TQR1: 0 | TQS1: 0 | TQT1: 0 | TQU1: 0 | TQV1: 0 | TQW1: 0 | TQX1: 0 | TQY1: 0 | TQZ1: 0 | TRA1: 0 | TRB1: 0 | TRC1: 0 | TRD1: 0 | TRE1: 0 | TRF1: 0 | TRG1: 0 | TRH1: 0 | TRI1: 0 | TRJ1: 0 | TRK1: 0 | TRL1: 0 | TRM1: 0 | TRN1: 0 | TRO1: 0 | TRP1: 0 | TRQ1: 0 | TRR1: 0 | TRS1: 0 | TRT1: 0 | TRU1: 0 | TRV1: 0 | TRW1: 0 | TRX1: 0 | TRY1: 0 | TRZ1: 0 | TSA1: 0 | TSB1: 0 | TSC1: 0 | TSD1: 0 | TSE1: 0 | TSF1: 0 | TSG1: 0 | TSH1: 0 | TSI1: 0 | TSJ1: 0 | TSK1: 0 | TSL1: 0 | TSM1: 0 | TSN1: 0 | TSO1: 0 | TSP1: 0 | TSQ1: 0 | TSR1: 0 | TSS1: 0 | TST1: 0 | TSU1: 0 | TSV1: 0 | TSW1: 0 | TSX1: 0 | TSY1: 0 | TSZ1: 0 | TTA1: 0 | TTB1: 0 | TTC1: 0 | TTD1: 0 | TTE1: 0 | TTF1: 0 | TTG1: 0 | TTH1: 0 | TTI1: 0 | TTJ1: 0 | TTK1: 0 | TTL1: 0 | TTM1: 0 | TTN1: 0 | TTO1: 0 | TTP1: 0 | TTQ1: 0 | TTR1: 0 | TTS1: 0 | TTT1: 0 | TTU1: 0 | TTV1: 0 | TTW1: 0 | TTX1: 0 | TTY1: 0 | TTZ1: 0 | TUA1: 0 | TUB1: 0 | TUC1: 0 | TUD1: 0 | TUE1: 0 | TUF1: 0 | TUG1: 0 | TUH1: 0 | TUI1: 0 | TUJ1: 0 | TUK1: 0 | TUL1: 0 | TUM1: 0 | TUN1: 0 | TUO1: 0 | TUP1: 0 | TUQ1: 0 | TUR1: 0 | TUS1: 0 | TUT1: 0 | TUU1: 0 | TUV1: 0 | TUW1: 0 | TUX1: 0 | TUY1: 0 | TUZ1: 0 | TVA1: 0 | TVB1: 0 | TVC1: 0 | TVD1: 0 | TVE1: 0 | TVF1: 0 | TVG1: 0 | TVH1: 0 | TVI1: 0 | TVJ1: 0 | TVK1: 0 | TVL1: 0 | TVM1: 0 | TVN1: 0 | TVO1: 0 | TVP1: 0 | TVQ1: 0 | TVR1: 0 | TVS1: 0 | TVT1: 0 | TVU1: 0 | TVV1: 0 | TVW1: 0 | TVX1: 0 | TVY1: 0 | TVZ1: 0 | TWA1: 0 | TWB1: 0 | TWC1: 0 | TWD1: 0 | TWE1: 0 | TWF1: 0 | TWG1: 0 | TWH1: 0 | TWI1: 0 | TWJ1: 0 | TWK1: 0 | TWL1: 0 | TWM1: 0 | TWN1: 0 | TWO1: 0 | TWP1: 0 | TWQ1: 0 | TWR1: 0 | TWS1: 0 | TWT1: 0 | TWU1: 0 | TWV1: 0 | TWW1: 0 | TWX1: 0 | TWY1: 0 | TWZ1: 0 | TXA1: 0 | TXB1: 0 | TXC1: 0 | TXD1: 0 | TXE1: 0 | TXF1: 0 | TXG1: 0 | TXH1: 0 | TXI1: 0 | TXJ1: 0 | TXK1: 0 | TXL1: 0 | TXM1: 0 | TXN1: 0 | TXO1: 0 | TXP1: 0 | TXQ1: 0 | TXR1: 0 | TXS1: 0 | TXT1: 0 | TXU1: 0 | TXV1: 0 | TXW1: 0 | TXX1: 0 | TXY1: 0 | TXZ1: 0 | TYA1: 0 | TYB1: 0 | TYC1: 0 | TYD1: 0 | TYE1: 0 | TYF1: 0 | TYG1: 0 | TYH1: 0 | TYI1: 0 | TYJ1: 0 | TYK1: 0 | TYL1: 0 | TYM1: 0 | TYN1: 0 | TYO1: 0 | TYP1: 0 | TYQ1: 0 | TYR1: 0 | TYS1: 0 | TYT1: 0 | TYU1: 0 | TYV1: 0 | TYW1: 0 | TYX1: 0 | TYY1: 0 | TYZ1: 0 | TZA1: 0 | TZB1: 0 | TZC1: 0 | TZD1: 0 | TZE1: 0 | TZF1: 0 | TZG1: 0 | TZH1: 0 | TZI1: 0 | TZJ1: 0 | TZK1: 0 | TZL1: 0 | TZM1: 0 | TZN1: 0 | TZO1: 0 | TZP1: 0 | TZQ1: 0 | TZR1: 0 | TZS1: 0 | TZT1: 0 | TZU1: 0 | TZV1: 0 | TZW1: 0 | TZX1: 0 | TZY1: 0 | TZZ1: 0 | UAA1: 0 | UAB1: 0 | UAC1: 0 | UAD1: 0 | UAE1: 0 | UAF1: 0 | UAG1: 0 | UAH1: 0 | UAI1: 0 | UAJ1: 0 | UAK1: 0 | UAL1: 0 | UAM1: 0 | UAN1: 0 | UAO1: 0 | UAP1: 0 | UAQ1: 0 | UAR1: 0 | UAS1: 0 | UAT1: 0 | UAU1: 0 | UAV1: 0 | UAW1: 0 | UAX1: 0 | UAY1: 0 | UAZ1: 0 | UBA1: 0 | UBB1: 0 | UBC1: 0 | UBD1: 0 | UBE1: 0 | UBF1: 0 | UBG1: 0 | UBH1: 0 | UBI1: 0 | UBJ1: 0 | UBK1: 0 | UBL1: 0 | UBM1: 0 | UBN1: 0 | UBO1: 0 | UBP1: 0 | UBQ1: 0 | UBR1: 0 | UBS1: 0 | UBT1: 0 | UBU1: 0 | UBV1: 0 | UBW1: 0 | UBX1: 0 | UBY1: 0 | UBZ1: 0 | UCA1: 0 | UCB1: 0 | UCC1: 0 | UCD1: 0 | UCE1: 0 | UCF1: 0 | UCG1: 0 | UCH1: 0 | UCI1: 0 | UCJ1: 0 | UCK1: 0 | UCL1: 0 | UCM1: 0 | UCN1: 0 | UCO1: 0 | UCP1: 0 | UCQ1: 0 | UCR1: 0 | UCS1: 0 | UCT1: 0 | UCU1: 0 | UCV1: 0 | UCW1: 0 | UCX1: 0 | UCY1: 0 | UCZ1: 0 | UDA1: 0 | UDB1: 0 | UDC1: 0 | UDD1: 0 | UDE1: 0 | UDF1: 0 | UDG1: 0 | UDH1: 0 | UDI1: 0 | UDJ1: 0 | UDK1: 0 | UDL1: 0 | UDM1: 0 | UDN1: 0 | UDO1: 0 | UDP1: 0 | UDQ1: 0 | UDR1: 0 | UDS1: 0 | UDT1: 0 | UDU1: 0 | UDV1: 0 | UDW1: 0 | UDX1: 0 | UDY1: 0 | UDZ1: 0 | UEA1: 0 | UEB1: 0 | UEC1: 0 | UED1: 0 | UEE1: 0 | UEF1: 0 | UEG1: 0 | UEH1: 0 | UEI1: 0 | UEJ1: 0 | UEK1: 0 | UEL1: 0 | UEM1: 0 | UEN1: 0 | UEO1: 0 | UEP1: 0 | UEQ1: 0 | UER1: 0 | UES1: 0 | UET1: 0 | UEU1: 0 | UEV1: 0 | UEW1: 0 | UEX1: 0 | UEY1: 0 | UEZ1: 0 | UFA1: 0 | UFB1: 0 | UFC1: 0 | UFD1: 0 | UFE1: 0 | UFF1: 0 | UFG1: 0 | UFH1: 0 | UFI1: 0 | UFJ1: 0 | UFK1: 0 | UFL1: 0 | UFM1: 0 | UFN1: 0 | UFO1: 0 | UFP1: 0 | UFQ1: 0 | UFR1: 0 | UFS1: 0 | UFT1: 0 | UFU1: 0 | UFV1: 0 | UFW1: 0 | UFX1: 0 | UFY1: 0 | UFZ1: 0 | UGA1: 0 | UGB1: 0 | UGC1: 0 | UGD1: 0 | UGE1: 0 | UGF1: 0 | UGG1: 0 | UGH1: 0 | UGI1: 0 | UGJ1: 0 | UGK1: 0 | UGL1: 0 | UGM1: 0 | UGN1: 0 | UGO1: 0 | UGP1: 0 | UGQ1: 0 | UGR1: 0 | UGS1: 0 | UGT1: 0 | UGU1: 0 | UGV1: 0 | UGW1: 0 | UGX1: 0 | UGY1: 0 | UGZ1: 0 | UHA1: 0 | UHB1: 0 | UHC1: 0 | UHD1: 0 | UHE1: 0 | UHF1: 0 | UHG1: 0 | UHH1: 0 | UHI1: 0 | UHJ1: 0 | UHK1: 0 | UHL1: 0 | UHM1: 0 | UHN1: 0 | UHO1: 0 | UHP1: 0 | UHQ1: 0 | UHR1: 0 | UHS1: 0 | UHT1: 0 | UHU1: 0 | UHV1: 0 | UHW1: 0 | UHX1: 0 | UHY1: 0 | UHZ1: 0 | UIA1: 0 | UIB1: 0 | UIC1: 0 | UID1: 0 | UIE1: 0 | UIF1: 0 | UIG1: 0 | UIH1: 0 | UII1: 0 | UIJ1: 0 | UIK1: 0 | UIL1: 0 | UIM1: 0 | UIN1: 0 | UIO1: 0 | UIP1: 0 | UIQ1: 0 | UIR1: 0 | UIS1: 0 | UIT1: 0 | UIU1: 0 | UIV1: 0 | UIW1: 0 | UIX1: 0 | UIY1: 0 | UIZ1: 0 | UJA1: 0 | UJB1: 0 | UJC1: 0 | UJD1: 0 | UJE1: 0 | UJF1: 0 | UJG1: 0 | UJH1: 0 | UJI1: 0 | UJJ1: 0 | UJK1: 0 | UJL1: 0 | UJM1: 0 | UJN1: 0 | UJO1: 0 | UJP1: 0 | UJQ1: 0 | UJR1: 0 | UJS1: 0 | UJT1: 0 | UJU1: 0 | UJV1: 0 | UJW1: 0 | UJX1: 0 | UJY1: 0 | UJZ1: 0 | UKA1: 0 | UKB1: 0 | UKC1: 0 | UKD1: 0 | UKE1: 0 | UKF1: 0 | UKG1: 0 | UKH1: 0 | UKI1: 0 | UKJ1: 0 | UKK1: 0 | UKL1: 0 | UKM1: 0 | UKN1: 0 | UKO1: 0 | UKP1: 0 | UKQ1: 0 | UKR1: 0 | UKS1: 0 | UKT1: 0 | UKU1: 0 | UKV1: 0 | UKW1: 0 | UKX1: 0 | UKY1: 0 | UKZ1: 0 | ULA1: 0 | ULB1: 0 | ULC1: 0 | ULD1: 0 | ULE1: 0 | ULF1: 0 | ULG1: 0 | ULH1: 0 | ULI1: 0 | ULJ1: 0 | ULK1: 0 | ULL1: 0 | ULM1: 0 | ULN1: 0 | ULO1: 0 | ULP1: 0 | ULQ1: 0 | ULR1: 0 | ULS1: 0 | ULT1: 0 | ULU1: 0 | ULV1: 0 | ULW1: 0 | ULX1: 0 | ULY1: 0 | ULZ1: 0 | UMA1: 0 | UMB1: 0 | UMC1: 0 | UMD1: 0 | UME1: 0 | UMF1: 0 | UMG1: 0 | UMH1: 0 | UMI1: 0 | UMJ1: 0 | UMK1: 0 | UML1: 0 | UMM1: 0 | UMN1: 0 | UMO1: 0 | UMP1: 0 | UMQ1: 0 | UMR1: 0 | UMS1: 0 | UMT1: 0 | UMU1: 0 | UMV1: 0 | UMW1: 0 | UMX1: 0 | UMY1: 0 | UMZ1: 0 | UNA1: 0 | UNB1: 0 | UNC1: 0 | UND1: 0 | UNE1: 0 | UNF1: 0 | UNG1: 0 | UNH1: 0 | UNI1: 0 | UNJ1: 0 | UNK1: 0 | UNL1: 0 | UNM1: 0 | UNN1: 0 | UNO1: 0 | UNP1: 0 | UNQ1: 0 | UNR1: 0 | UNS1: 0 | UNT1: 0 | UNU1: 0 | UNV1: 0 | UNW1: 0 | UNX1: 0 | UNY1: 0 | UNZ1: 0 | UOA1: 0 | UOB1: 0 | UOC1: 0 | UOD1: 0 | UOE1: 0 | UOF1: 0 | UOG1: 0 | UOH1: 0 | UOI1: 0 | UOJ1: 0 | UOK1: 0 | UOL1: 0 | UOM1: 0 | UON1: 0 | UOO1: 0 | UOP1: 0 | UOQ1: 0 | UOR1: 0 | UOS1: 0 | UOT1: 0 | UOU1: 0 | UOV1: 0 | UOW1: 0 | UOX1: 0 | UOY1: 0 | UOZ1: 0 | UPA1: 0 | UPB1: 0 | UPC1: 0 | UPD1: 0 | UPE1: 0 | UPF1: 0 | UPG1: 0 | UPH1: 0 | UPI1: 0 | UPJ1: 0 | UPK1: 0 | UPL1: 0 | UPM1: 0 | UPN1: 0 | UPO1: 0 | UPP1: 0 | UPQ1: 0 | UPR1: 0 | UPS1: 0 | UPT1: 0 | UPU1: 0 | UPV1: 0 | UPW1: 0 | UPX1: 0 | UPY1: 0 | UPZ1: 0 | UQA1: 0 | UQB1: 0 | UQC1: 0 | UQD1: 0 | UQE1: 0 | UQF1: 0 | UQG1: 0 | UQH1: 0 | UQI1: 0 | UQJ1: 0 | UQK1: 0 | UQL1: 0 | UQM1: 0 | UQN1: 0 | UQO1: 0 | UQP1: 0 | UQQ1: 0 | UQR1: 0 | UQS1: 0 | UQT1: 0 | UQU1: 0 | UQV1: 0 | UQW1: 0 | UQX1: 0 | UQY1: 0 | UQZ1: 0 | URA1: 0 | URB1: 0 | URC1: 0 | URD1: 0 | URE1: 0 | URF1: 0 | URG1: 0 | URH1: 0 | URI1: 0 | URJ1: 0 | URK1: 0 | URL1: 0 | URM1: 0 | URN1: 0 | URO1: 0 | URP1: 0 | URQ1: 0 | URR1: 0 | URS1: 0 | URT1: 0 | URU1: 0 | URV1: 0 | URW1: 0 | URX1: 0 | URY1: 0 | URZ1: 0 | USA1: 0 | USB1: 0 | USC1: 0 | USD1: 0 | USE1: 0 | USF1: 0 | USG1: 0 | USH1: 0 | USI1: 0 | USJ1: 0 | USK1: 0 | USL1: 0 | USM1: 0 | USN1: 0 | USO1: 0 | USP1: 0 | USQ1: 0 | USR1: 0 | USS1: 0 | UST1: 0 | USU1: 0 | USV1: 0 | USW1: 0 | USX1: 0 | USY1: 0 | USZ1: 0 | UTA1: 0 | UTB1: 0 | UTC1: 0 | UTD1: 0 | UTE1: 0 | UTF1: 0 | UTG1: 0 | UTH1: 0 | UTI1: 0 | UTJ1: 0 | UTK1: 0 | UTL1: 0 | UTM1: 0 | UTN1: 0 | UTO1: 0 | UTP1: 0 | UTQ1: 0 | UTR1: 0 | UTS1: 0 | UTT1: 0 | UTU1: 0 | UTV1: 0 | UTW1: 0 | UTX1: 0 | UTY1: 0 | UTZ1: 0 | UUA1: 0 | UUB1: 0 | UUC1: 0 | UUD1: 0 | UUE1: 0 | UUF1: 0 | UUG1: 0 | UUH1: 0 | UUI1: 0 | UUJ1: 0 | UUK1: 0 | UUL1: 0 | UUM1: 0 | UUN1: 0 | UUO1: 0 | UUP1: 0 | UUQ1: 0 | UUR1: 0 | UUS1: 0 | UUT1: 0 | UUU1: 0 | UUV1: 0 | UUW1: 0 | UUX1: 0 | UUY1: 0 | UUZ1: 0 | UVA1: 0 | UVB1: 0 | UVC1: 0 | UVD1: 0 | UVE1: 0 | UVF1: 0 | UVG1: 0 | UVH1: 0 | UVI1: 0 | UVJ1: 0 | UVK1: 0 | UVL1: 0 | UVM1: 0 | UVN1: 0 | UVO1: 0 | UVP1: 0 | UVQ1: 0 | UVR1: 0 | UVS1: 0 | UVT1: 0 | UVU1: 0 | UVV1: 0 | UVW1: 0 | UVX1: 0 | UVY1: 0 | UVZ1: 0 | UWA1: 0 | UWB1: 0 | UWC1: 0 | UWD1: 0 | UWE1: 0 | UWF1: 0 | UWG1: 0 | UWH1: 0 | UWI1: 0 | UWJ1: 0 | UWK1: 0 | UWL1: 0 | UWM1: 0 | UWN1: 0 | UWO1: 0 | UWP1: 0 | UWQ1: 0 | UWR1: 0 | UWS1: 0 | UWT1: 0 | UWU1: 0 | UWV1: 0 | UWW1: 0 | UWX1: 0 | UWY1: 0 | UWZ1: 0 | UXA1: 0 | UXB1: 0 | UXC1: 0 | UXD1: 0 | UXE1: 0 | UXF1: 0 | UXG1: 0 | UXH1: 0 | UXI1: 0 | UXJ1: 0 | UXK1: 0 | UXL1: 0 | UXM1: 0 | UXN1: 0 | UXO1: 0 | UXP1: 0 | UXQ1: 0 | UXR1: 0 | UXS1: 0 | UXT1: 0 | UXU1: 0 | UXV1: 0 | UXW1: 0 | UXX1: 0 | UXY1: 0 | UXZ1: 0 | UYA1: 0 | UYB1: 0 | UYC1: 0 | UYD1: 0 | UYE1: 0 | UYF1: 0 | UYG1: 0 | UYH1: 0 | UYI1: 0 | UYJ1: 0 | UYK1: 0 | UYL1: 0 | UYM1: 0 | UYN1: 0 | UYO1: 0 | UYP1: 0 | UYQ1: 0 | UYR1: 0 | UYS1: 0 | UYT1: 0 | UYU1: 0 | UYV1: 0 | UYW1: 0 | UYX1: 0 | UYY1: 0 | UYZ1: 0 | UZA1: 0 | UZB1: 0 | UZC1: 0 | UZD1: 0 | UZE1: 0 | UZF1: 0 | UZG1: 0 | UZH1: 0 | UZI1: 0 | UZJ1: 0 | UZK1: 0 | UZL1: 0 | UZM1: 0 | UZN1: 0 | UZO1: 0 | UZP1: 0 | UZQ1: 0 | UZR1: 0 | UZS1: 0 | UZT1: 0 | UZU1: 0 | UZV1: 0 | UZW1: 0 | UZX1: 0 | UZY1: 0 | UZZ1: 0 | VAA1: 0 | VAB1: 0 | VAC1: 0 | VAD1: 0 | VAE1: 0 | VAF1: 0 | VAG1: 0 | VAH1: 0 | VAI1: 0 | VAJ1: 0 | VAK1: 0 | VAL1: 0 | VAM1: 0 | VAN1: 0 | VAO1: 0 | VAP1: 0 | VAQ1: 0 | VAR1: 0 | VAS1: 0 | VAT1: 0 | VAU1: 0 | VAV1: 0 | VAW1: 0 | VAX1: 0 | VAY1: 0 | VAZ1: 0 | VBA1: 0 | VBB1: 0 | VBC1: 0 | VBD1: 0 | VBE1: 0 | VBF1: 0 | VBG1: 0 | VBH1: 0 | VBI1: 0 | VBJ1: 0 | VBK1: 0 | VBL1: 0 | VBM1: 0 | VBN1: 0 | VBO1: 0 | VBP1: 0 | VBQ1: 0 | VBR1: 0 | VBS1: 0 | VBT1: 0 | VBU1: 0 | VBV1: 0 | VBW1: 0 | VBX1: 0 | VBY1: 0 | VBZ1: 0 | VCA1: 0 | VCB1: 0 | VCC1: 0 | VCD1: 0 | VCE1: 0 | VCF1: 0 | VCG1: 0 | VCH1: 0 | VCI1: 0 | VCJ1: 0 | VCK1: 0 | VCL1: 0 | VCM1: 0 | VCN1: 0 | VCO1: 0 | VCP1: 0 | VCQ1: 0 | VCR1: 0 | VCS1: 0 | VCT1: 0 | VCU1: 0 | VCV1: 0 | VCW1: 0 | VCX1: 0 | VCY1: 0 | VCZ1: 0 | VDA1: 0 | VDB1: 0 | VDC1: 0 | VDD1: 0 | VDE1: 0 | VDF1: 0 | VDG1: 0 | VDH1: 0 | VDI1: 0 | VDJ1: 0 | VDK1: 0 | VDL1: 0 | VDM1: 0 | VDN1: 0 | VDO1: 0 | VDP1: 0 | VDQ1: 0 | VDR1: 0 | VDS1: 0 | VDT1: 0 | VDU1: 0 | VDV1: 0 | VDW1: 0 | VDX1: 0 | VDY1: 0 | VDZ1: 0 | VEA1: 0 | VEB1: 0 | VEC1: 0 | VED1: 0 | VEE1: 0 | VEF1: 0 | VEG1: 0 | VEH1: 0 | VEI1: 0 | VEJ1: 0 | VEK1: 0 | VEL1: 0 | VEM1: 0 | VEN1: 0 | VEO1: 0 | VEP1: 0 | VEQ1: 0 | VER1: 0 | VES1: 0 | VET1: 0 | VEU1: 0 | VEV1: 0 | VEW1: 0 | VEX1: 0 | VEY1: 0 | VEZ1: 0 | VFA1: 0 | VFB1: 0 | VFC1: 0 | VFD1: 0 | VFE1: 0 | VFF1: 0 | VFG1: 0 | VFH1: 0 | VFI1: 0 | VFJ1: 0 | VFK1: 0 | VFL1: 0 | VFM1: 0 | VFN1: 0 | VFO1: 0 | VFP1: 0 | VFQ1: 0 | VFR1: 0 | VFS1: 0 | VFT1: 0 | VFU1: 0 | VFV1: 0 | VFW1: 0 | VFX1: 0 | VFY1: 0 | VFZ1: 0 | VGA1: 0 | VGB1: 0 | VGC1: 0 | VGD1: 0 | VGE1: 0 | VGF1: 0 | VGG1: 0 | VGH1: 0 | VGI1: 0 | VGJ1: 0 | VGK1: 0 | VGL1: 0 | VGM1: 0 | VGN1: 0 | VGO1: 0 | VGP1: 0 | VGQ1: 0 | VGR1: 0 | VGS1: 0 | VGT1: 0 | VGU1: 0 | VGV1: 0 | VGW1: 0 | VGX1: 0 | VGY1: 0 | VGZ1: 0 | VHA1: 0 | VHB1: 0 | VHC1: 0 | VHD1: 0 | VHE1: 0 | VHF1: 0 | VHG1: 0 | VHH1: 0 | VHI1: 0 | VHJ1: 0 | VHK1: 0 | VHL1: 0 | VHM1: 0 | VHN1: 0 | VHO1: 0 | VHP1: 0 | VHQ1: 0 | VHR1: 0 | VHS1: 0 | VHT1: 0 | VHU1: 0 | VHV1: 0 | VHW1: 0 | VHX1: 0 | VHY1: 0 | VHZ1: 0 | VIA1: 0 | VIB1: 0 | VIC1: 0 | VID1: 0 | VIE1: 0 | VIF1: 0 | VIG1: 0 | VIH1: 0 | VII1: 0 | VIJ1: 0 | VIK1: 0 | VIL1: 0 | VIM1: 0 | VIN1: 0 | VIO1: 0 | VIP1: 0 | VIQ1: 0 | VIR1: 0 | VIS1: 0 | VIT1: 0 | VIU1: 0 | VIV1: 0 | VIW1: 0 | VIX1: 0 | VIY1: 0 | VIZ1: 0 | VJA1: 0 | VJB1: 0 | VJC1: 0 | VJD1: 0 | VJE1: 0 | VJF1: 0 | VJG1: 0 | VJH1: 0 | VJI1: 0 | VJJ1: 0 | VJK1: 0 | VJL1: 0 | VJM1: 0 | VJN1: 0 | VJO1: 0 | VJP1: 0 | VJQ1: 0 | VJR1: 0 | VJS1: 0 | VJT1: 0 | VJU1: 0 | VJV1: 0 | VJW1: 0 | VJX1: 0 | VJY1: 0 | VJZ1: 0 | VKA1: 0 | VKB1: 0 | VKC1: 0 | VKD1: 0 | VKE1: 0 | VKF1: 0 | VKG1: 0 | VKH1: 0 | VKI1: 0 | VKJ1: 0 | VKK1: 0 | VKL1: 0 | VKM1: 0 | VKN1: 0 | VKO1: 0 | VKP1: 0 | VKQ1: 0 | VKR1: 0 | VKS1: 0 | VKT1: 0 | VKU1: 0 | VKV1: 0 | VKW1: 0 | VKX1: 0 | VKY1: 0 | VKZ1: 0 | VLA1: 0 | VLB1: 0 | VLC1: 0 | VLD1: 0 | VLE1: 0 | VLF1: 0 | VLG1: 0 | VLH1: 0 | VLI1: 0 | VLJ1: 0 | VLK1: 0 | VLL1: 0 | VLM1: 0 | VLN1: 0 | VLO1: 0 | VLP1: 0 | VLQ1: 0 | VLR1: 0 | VLS1: 0 | VLT1: 0 | VLU1: 0 | VLV1: 0 | VLW1: 0 | VLX1: 0 | VLY1: 0 | VLZ1: 0 | VMA1: 0 | VMB1: 0 | VMC1: 0 | VMD1: 0 | VME1: 0 | VMF1: 0 | VMG1: 0 | VMH1: 0 | VMI1: 0 | VMJ1: 0 | VMK1: 0 | VML1: 0 | VMM1: 0 | VMN1: 0 | VMO1: 0 | VMP1: 0 | VMQ1: 0 | VMR1: 0 | VMS1: 0 | VMT1: 0 | VMU1: 0 | VMV1: 0 | VMW1: 0 | VMX1: 0 | VMY1: 0 | VMZ1: 0 | VNA1: 0 | VNB1: 0 | VNC1: 0 | VND1: 0 | VNE1: 0 | VNF1: 0 | VNG1: 0 | VNH1: 0 | VNI1: 0 | VNJ1: 0 | VNK1: 0 | VNL1: 0 | VNM1: 0 | VNN1: 0 | VNO1: 0 | VNP1: 0 | VNQ1: 0 | VNR1: 0 | VNS1: 0 | VNT1: 0 | VNU1: 0 | VNV1: 0 | VNW1: 0 | VNX1: 0 | VNY1: 0 | VNZ1: 0 | VOA1: 0 | VOB1: 0 | VOC1: 0 | VOD1: 0 | VOE1: 0 | VOF1: 0 | VOG1: 0 | VOH1: 0 | VOI1: 0 | VOJ1: 0 | VOK1: 0 | VOL1: 0 | VOM1: 0 | VON1: 0 | VOO1: 0 | VOP1: 0 | VOQ1: 0 | VOR1: 0 | VOS1: 0 | VOT1: 0 | VOU1: 0 | VOV1: 0 | VOW1: 0 | VOX1: 0 | VOY1: 0 | VOZ1: 0 | VPA1: 0 | VPB1: 0 | VPC1: 0 | VPD1: 0 | VPE1: 0 | VPF1: 0 | VPG1: 0 | VPH1: 0 | VPI1: 0 | VPJ1: 0 | VPK1: 0 | VPL1: 0 | VPM1: 0 | VPN1: 0 | VPO1: 0 | VPP1: 0 | VPQ1: 0 | VPR1: 0 | VPS1: 0 | VPT1: 0 | VPU1: 0 | VPV1: 0 | VPW1: 0 | VPX1: 0 | VPY1: 0 | VPZ1: 0 | VQA1: 0 | VQB1: 0 | VQC1: 0 | VQD1: 0 | VQE1: 0 | VQF1: 0 | VQG1: 0 | VQH1: 0 | VQI1: 0 | VQJ1: 0 | VQK1: 0 | VQL1: 0 | VQM1: 0 | VQN1: 0 | VQO1: 0 | VQP1: 0 | VQQ1: 0 | VQR1: 0 | VQS1: 0 | VQT1: 0 | VQU1: 0 | VQV1: 0 | VQW1: 0 | VQX1: 0 | VQY1: 0 | VQZ1: 0 | VRA1: 0 | VRB1: 0 | VRC1: 0 | VRD1: 0 | VRE1: 0 | VRF1: 0 | VRG1: 0 | VRH1: 0 | VRI1: 0 | VRJ1: 0 | VRK1: 0 | VRL1: 0 | VRM1: 0 | VRN1: 0 | VRO1: 0 | VRP1: 0 | VRQ1: 0 | VRR1: 0 | VRS1: 0 | VRT1: 0 | VRU1: 0 | VRV1: 0 | VRW1: 0 | VRX1: 0 | VRY1: 0 | VRZ1: 0 | VSA1: 0 | VSB1: 0 | VSC1: 0 | VSD1: 0 | VSE1: 0 | VSF1: 0 | VSG1: 0 | VSH1: 0 | VSI1: 0 | VSJ1: 0 | VSK1: 0 | VSL1: 0 | VSM1: 0 | VSN1: 0 | VSO1: 0 | VSP1: 0 | VSQ1: 0 | VSR1: 0 | VSS1: 0 | VST1: 0 | VSU1: 0 | VSV1: 0 | VSW1: 0 | VSX1: 0 | VSY1: 0 | VSZ1: 0 | VTA1: 0 | VTB1: 0 | VTC1: 0 | VTD1: 0 | VTE1: 0 | VTF1: 0 | VTG1: 0 | VTH1: 0 | VTI1: 0 | VTJ1: 0 | VTK1: 0 | VTL1: 0 | VTM1: 0 | VTN1: 0 | VTO1: 0 | VTP1: 0 | VTQ1: 0 | VTR1: 0 | VTS1: 0 | VTT1: 0 | VTU1: 0 | VTV1: 0 | VTW1: 0 | VTX1: 0 | VTY1: 0 | VTZ1: 0 | VUA1: 0 | VUB1: 0 | VUC1: 0 | VUD1: 0 | VUE1: 0 | VUF1: 0 | VUG1: 0 | VUH1: 0 | VUI1: 0 | VUJ1: 0 | VUK1: 0 | VUL1: 0 | VUM1: 0 | VUN1: 0 | VUO1: 0 | VUP1: 0 | VUQ1: 0 | VUR1: 0 | VUS1: 0 | VUT1: 0 | VUU1: 0 | VUV1: 0 | VUW1: 0 | VUX1: 0 | VUY1: 0 | VUZ1: 0 | VVA1: 0 | VVB1: 0 | VVC1: 0 | VVD1: 0 | VVE1: 0 | VVF1: 0 | VVG1: 0 | VVH1: 0 | VVI1: 0 | VVJ1: 0 | VVK1: 0 | VVL1: 0 | VVM1: 0 | VVN1: 0 | VVO1: 0 | VVP1: 0 | VVQ1: 0 | VVR1: 0 | VVS1: 0 | VVT1: 0 | VVU1: 0 | VVV1: 0 | VVW1: 0 | VVX1: 0 | VVY1: 0 | VVZ1: 0 | VWA1: 0 | VWB1: 0 | VWC1: 0 | VWD1: 0 | VWE1: 0 | VWF1: 0 | VWG1: 0 | VWH1: 0 | VWI1: 0 | VWJ1: 0 | VWK1: 0 | VWL1: 0 | VWM1: 0 | VWN1: 0 | VWO1: 0 | VWP1: 0 | VWQ1: 0 | VWR1: 0 | VWS1: 0 | VWT1: 0 | VWU1: 0 | VWV1: 0 | VWW1: 0 | VWX1: 0 | VWY1: 0 | VWZ1: 0 | VXA1: 0 | VXB1: 0 | VXC1: 0 | VXD1: 0 | VXE1: 0 | VXF1: 0 | VXG1: 0 | VXH1: 0 | VXI1: 0 | VXJ1: 0 | VXK1: 0 | VXL1: 0 | VXM1: 0 | VXN1: 0 | VXO1: 0 | VXP1: 0 | VXQ1: 0 | VXR1: 0 | VXS1: 0 | VXT1: 0 | VXU1: 0 | VXV1: 0 | VXW1: 0 | VXX1: 0 | VXY1: 0 | VXZ1: 0 | VYA1: 0 | VYB1: 0 | VYC1: 0 | VYD1: 0 | VYE1: 0 | VYF1: 0 | VYG1: 0 | VYH1: 0 | VYI1: 0 | VYJ1: 0 | VYK1: 0 | VYL1: 0 | VYM1: 0 | VYN1: 0 | VYO1: 0 | VYP1: 0 | VYQ1: 0 | VYR1: 0 | VYS1: 0 | VYT1: 0 | VYU1: 0 | VYV1: 0 | VYW1: 0 | VYX1: 0 | VYY1: 0 | VYZ1: 0 | VZA1: 0 | VZB1: 0 | VZC1: 0 | VZD1: 0 | VZE1: 0 | VZF1: 0 | VZG1: 0 | VZH1: 0 | VZI1: 0 | VZJ1: 0 | VZK1: 0 | VZL1: 0 | VZM1: 0 | VZN1: 0 | VZO1: 0 | VZP1: 0 | VZQ1: 0 | VZR1: 0 | VZS1: 0 | VZT1: 0 | VZU1: 0 | VZV1: 0 | VZW1: 0 | VZX1: 0 | VZY1: 0 | VZZ1: 0 | WAA1: 0 | WAB1: 0 | WAC1: 0 | WAD1: 0 | WAE1: 0 | WAF1: 0 | WAG1: 0 | WAH1: 0 | WAI1: 0 | WAJ1: 0 | WAK1: 0 | WAL1: 0 | WAM1: 0 | WAN1: 0 | WAO1: 0 | WAP1: 0 | WAQ1: 0 | WAR1: 0 | WAS1: 0 | WAT1: 0 | WAU1: 0 | WAV1: 0 | WAW1: 0 | WAX1: 0 | WAY1: 0 | WAZ1: 0 | WBA1: 0 | WBB1: 0 | WBC1: 0 | WBD1: 0 | WBE1: 0 | WBF1: 0 | WBG1: 0 | WBH1: 0 | WBI1: 0 | WBJ1: 0 | WBK1: 0 | WBL1: 0 | WBM1: 0 | WBN1: 0 | WBO1: 0 | WBP1: 0 | WBQ1: 0 | WBR1: 0 | WBS1: 0 | WBT1: 0 | WBU1: 0 | WBV1: 0 | WBW1: 0 | WBX1: 0 | WBY1: 0 | WBZ1: 0 | WCA1: 0 | WCB1: 0 | WCC1: 0 | WCD1: 0 | WCE1: 0 | WCF1: 0 | WCG1: 0 | WCH1: 0 | WCI1: 0 | WCJ1: 0 | WCK1: 0 | WCL1: 0 | WCM1: 0 | WCN1: 0 | WCO1: 0 | WCP1: 0 | WCQ1: 0 | WCR1: 0 | WCS1: 0 | WCT1: 0 | WCU1: 0 | WCV1: 0 | WCW1: 0 | WCX1: 0 | WCY1: 0 | WCZ1: 0 | WDA1: 0 | WDB1: 0 | WDC1: 0 | WDD1: 0 | WDE1: 0 | WDF1: 0 | WDG1: 0 | WDH1: 0 | WDI1: 0 | WDJ1: 0 | WDK1: 0 | WDL1: 0 | WDM1: 0 | WDN1: 0 | WDO1: 0 | WDP1: 0 | WDQ1: 0 | WDR1: 0 | WDS1: 0 | WDT1: 0 | WDU1: 0 | WDV1: 0 | WDW1: 0 | WDX1: 0 | WDY1: 0 | WDZ1: 0 | WEA1: 0 | WEB1: 0 | WEC1: 0 | WED1: 0 | WEE1: 0 | WEF1: 0 | WEG1: 0 | WEH1: 0 | WEI1: 0 | WEJ1: 0 | WEK1: 0 | WEL1: 0 | WEM1: 0 | WEN1: 0 | WEO1: 0 | WEP1: 0 | WEQ1: 0 | WER1: 0 | WES1: 0 | WET1: 0 | WEU1: 0 | WEV1: 0 | WEW1: 0 | WEX1: 0 | WEY1: 0 | WEZ1: 0 | WFA1: 0 | WFB1: 0 | WFC1: 0 | WFD1: 0 | WFE1: 0 | WFF1: 0 | WFG1: 0 | WFH1: 0 | WFI1: 0 | WFJ1: 0 | WFK1: 0 | WFL1: 0 | WFM1: 0 | WFN1: 0 | WFO1: 0 | WFP1: 0 | WFQ1: 0 | WFR1: 0 | WFS1: 0 | WFT1: 0 | WFU1: 0 | WFV1: 0 | WFW1: 0 | WFX1: 0 | WFY1: 0 | WFZ1: 0 | WGA1: 0 | WGB1: 0 | WGC1: 0 | WGD1: 0 | WGE1: 0 | WGF1: 0 | WGG1: 0 | WGH1: 0 | WGI1: 0 | WGJ1: 0 | WGK1: 0 | WGL1: 0 | WGM1: 0 | WGN1: 0 | WGO1: 0 | WGP1: 0 | WGQ1: 0 | WGR1: 0 | WGS1: 0 | WGT1: 0 | WGU1: 0 | WGV1: 0 | WGW1: 0 | WGX1: 0 | WGY1: 0 | WGZ1: 0 | WHA1: 0 | WHB1: 0 | WHC1: 0 | WHD1: 0 | WHE1: 0 | WHF1: 0 | WHG1: 0 | WHH1: 0 | WHI1: 0 | WHJ1: 0 | WHK1: 0 | WHL1: 0 | WHM1: 0 | WHN1: 0 | WHO1: 0 | WHP1: 0 | WHQ1: 0 | WHR1: 0 | WHS1: 0 | WHT1: 0 | WHU1: 0 | WHV1: 0 | WHW1: 0 | WHX1: 0 | WHY1: 0 | WHZ1: 0 | WIA1: 0 | WIB1: 0 | WIC1: 0 | WID1: 0 | WIE1: 0 | WIF1: 0 | WIG1: 0 | WIH1: 0 | WII1: 0 | WIJ1: 0 | WIK1: 0 | WIL1: 0 | WIM1: 0 | WIN1: 0 | WIO1: 0 | WIP1: 0 | WIQ1: 0 | WIR1: 0 | WIS1: 0 | WIT1: 0 | WIU1: 0 | WIV1: 0 | WIW1: 0 | WIX1: 0 | WIY1: 0 | WIZ1: 0 | WJA1: 0 | WJB1: 0 | WJC1: 0 | WJD1: 0 | WJE1: 0 | WJF1: 0 | WJG1: 0 | WJH1: 0 | WJI1: 0 | WJJ1: 0 | WJK1: 0 | WJL1: 0 | WJM1: 0 | WJN1: 0 | WJO1: 0 | WJP1: 0 | WJQ1: 0 | WJR1: 0 | WJS1: 0 | WJT1: 0 | WJU1: 0 | WJV1: 0 | WJW1: 0 | WJX1: 0 | WJY1: 0 | WJZ1: 0 | WKA1: 0 | WKB1: 0 | WKC1: 0 | WKD1: 0 | WKE1: 0 | WKF1: 0 | WKG1: 0 | WKH1: 0 | WKI1: 0 | WKJ1: 0 | WKK1: 0 | WKL1: 0 | WKM1: 0 | WKN1: 0 | WKO1: 0 | WKP1: 0 | WKQ1: 0 | WKR1: 0 | WKS1: 0 | WKT1: 0 | WKU1: 0 | WKV1: 0 | WKW1: 0 | WKX1: 0 | WKY1: 0 | WKZ1: 0 | WLA1: 0 | WLB1: 0 | WLC1: 0 | WLD1: 0 | WLE1: 0 | WLF1: 0 | WLG1: 0 | WLH1: 0 | WLI1: 0 | WLJ1: 0 | WLK1: 0 | WLL1: 0 | WLM1: 0 | WLN1: 0 | WLO1: 0 | WLP1: 0 | WLQ1: 0 | WLR1: 0 | WLS1: 0 | WLT1: 0 | WLU1: 0 | WLV1: 0 | WLW1: 0 | WLX1: 0 | WLY1: 0 | WLZ1: 0 | WMA1: 0 | WMB1: 0 | WMC1: 0 | WMD1: 0 | WME1: 0 | WMF1: 0 | WMG1: 0 | WMH1: 0 | WMI1: 0 | WMJ1: 0 | WMK1: 0 | WML1: 0 | WMM1: 0 | WMN1: 0 | WMO1: 0 | WMP1: 0 | WMQ1: 0 | WMR1: 0 | WMS1: 0 | WMT1: 0 | WMU1: 0 | WMV1: 0 | WMW1: 0 | WMX1: 0 | WMY1: 0 | WMZ1: 0 | WNA1: 0 | WNB1: 0 | WNC1: 0 | WND1: 0 | WNE1: 0 | WNF1: 0 | WNG1: 0 | WNH1: 0 | WNI1: 0 | WNJ1: 0 | WNK1: 0 | WNL1: 0 | WNM1: 0 | WNN1: 0 | WNO1: 0 | WNP1: 0 | WNQ1: 0 | WNR1: 0 | WNS1: 0 | WNT1: 0 | WNU1: 0 | WNV1: 0 | WNW1: 0 | WNX1: 0 | WNY1: 0 | WNZ1: 0 | WOA1: 0 | WOB1: 0 | WOC1: 0 | WOD1: 0 | WOE1: 0 | WOF1: 0 | WOG1: 0 | WOH1: 0 | WOI1: 0 | WOJ1: 0 | WOK1: 0 | WOL1: 0 | WOM1: 0 | WON1: 0 | WOO1: 0 | WOP1: 0 | WOQ1: 0 | WOR1: 0 | WOS1: 0 | WOT1: 0 | WOU1: 0 | WOV1: 0 | WOW1: 0 | WOX1: 0 | WOY1: 0 | WOZ1: 0 | WPA1: 0 | WPB1: 0 | WPC1: 0 | WPD1: 0 | WPE1: 0 | WPF1: 0 | WPG1: 0 | WPH1: 0 | WPI1: 0 | WPJ1: 0 | WPK1: 0 | WPL1: 0 | WPM1: 0 | WPN1: 0 | WPO1: 0 | WPP1: 0 | WPQ1: 0 | WPR1: 0 | WPS1: 0 | WPT1: 0 | WPU1: 0 | WPV1: 0 | WPW1: 0 | WPX1: 0 | WPY1: 0 | WPZ1: 0 | WQA1: 0 | WQB1: 0 | WQC1: 0 | WQD1: 0 | WQE1: 0 | WQF1: 0 | WQG1: 0 | WQH1: 0 | WQI1: 0 | WQJ1: 0 | WQK1: 0 | WQL1: 0 | WQM1: 0 | WQN1: 0 | WQO1: 0 | WQP1: 0 | WQQ1: 0 | WQR1: 0 | WQS1: 0 | WQT1: 0 | WQU1: 0 | WQV1: 0 | WQW1: 0 | WQX1: 0 | WQY1: 0 | WQZ1: 0 | WRA1: 0 | WRB1: 0 | WRC1: 0 | WRD1: 0 | WRE1: 0 | WRF1: 0 | WRG1: 0 | WRH1: 0 | WRI1: 0 | WRJ1: 0 | WRK1: 0 | WRL1: 0 | WRM1: 0 | WRN1: 0 | WRO1: 0 | WRP1: 0 | WRQ1: 0 | WRR1: 0 | WRS1: 0 | WRT1: 0 | WRU1: 0 | WRV1: 0 | WRW1: 0 | WRX1: 0 | WRY1: 0 | WRZ1: 0 | WSA1: 0 | WSB1: 0 | WSC1: 0 | WSD1: 0 | WSE1: 0 | WSF1: 0 | WSG1: 0 | WSH1: 0 | WSI1: 0 | WSJ1: 0 | WSK1: 0 | WSL1: 0 | WSM1: 0 | WSN1: 0 | WSO1: 0 | WSP1: 0 | WSQ1: 0 | WSR1: 0 | WSS1: 0 | WST1: 0 | WSU1: 0 | WSV1: 0 | WSW1: 0 | WSX1: 0 | WSY1: 0 | WSZ1: 0 | WTA1: 0 | WTB1: 0 | WTC1: 0 | WTD1: 0 | WTE1: 0 | WTF1: 0 | WTG1: 0 | WTH1: 0 | WTI1: 0 | WTJ1: 0 | WTK1: 0 | WTL1: 0 | WTM1: 0 | WTN1: 0 | WTO1: 0 | WTP1: 0 | WTQ1: 0 | WTR1: 0 | WTS1: 0 | WTT1: 0 | WTU1: 0 | WTV1: 0 | WTW1: 0 | WTX1: 0 | WTY1: 0 | WTZ1: 0 | WUA1: 0 | WUB1: 0 | WUC1: 0 | WUD1: 0 | WUE1: 0 | WUF1: 0 | WUG1: 0 | WUH1: 0 | WUI1: 0 | WUJ1: 0 | WUK1: 0 | WUL1: 0 | WUM1: 0 | WUN1: 0 | WUO1: 0 | WUP1: 0 | WUQ1: 0 | WUR1: 0 | WUS1: 0 | WUT1: 0 | WUU1: 0 | WUV1: 0 | WUW1: 0 | WUX1: 0 | WUY1: 0 | WUZ1: 0 | WVA1: 0 | WVB1: 0 | WVC1: 0 | WVD1: 0 | WVE1: 0 | WVF1: 0 | WVG1: 0 | WVH1: 0 | WVI1: 0 | WVJ1: 0 | WVK1: 0 | WVL1: 0 | WVM1: 0 | WVN1: 0 | WVO1: 0 | WVP1: 0 | WVQ1: 0 | WVR1: 0 | WVS1: 0 | WVT1: 0 | WVU1: 0 | WVV1: 0 | WVW1: 0 | WVX1: 0 | WVY1: 0 | WVZ1: 0 | WWA1: 0 | WWB1: 0 | WWC1: 0 | WWD1: 0 | WWE1: 0 | WWF1: 0 | WWG1: 0 | WWH1: 0 | WWI1: 0 | WWJ1: 0 | WWK1: 0 | WWL1: 0 | WWM1: 0 | WWN1: 0 | WWO1: 0 | WWP1: 0 | WWQ1: 0 | WWR1: 0 | WWS1: 0 | WWT1: 0 | WWU1: 0 | WWV1: 0 | WWW1: 0 | WWX1: 0 | WWY1: 0 | WWZ1: 0 | WXA1: 0 | WXB1: 0 | WXC1: 0 | WXD1: 0 | WXE1: 0 | WXF1: 0 | WXG1: 0 | WXH1: 0 | WXI1: 0 | WXJ1: 0 | WXK1: 0 | WXL1: 0 | WXM1: 0 | WXN1: 0 | WXO1: 0 | WXP1: 0 | WXQ1: 0 | WXR1: 0 | WXS1: 0 | WXT1: 0 | WXU1: 0 | WXV1: 0 | WXW1: 0 | WXX1: 0 | WXY1: 0 | WXZ1: 0 | WYA1: 0 | WYB1: 0 | WYC1: 0 | WYD1: 0 | WYE1: 0 | WYF1: 0 | WYG1: 0 | WYH1: 0 | WYI1: 0 | WYJ1: 0 | WYK1: 0 | WYL1: 0 | WYM1: 0 | WYN1: 0 | WYO1: 0 | WYP1: 0 | WYQ1: 0 | WYR1: 0 | WYS1: 0 | WYT1: 0 | WYU1: 0 | WYV1: 0 | WYW1: 0 | WYX1: 0 | WYY1: 0 | WYZ1: 0 | WZA1: 0 | WZB1: 0 | WZC1: 0 | WZD1: 0 | WZE1: 0 | WZF1: 0 | WZG1: 0 | WZH1: 0 | WZI1: 0 | WZJ1: 0 | WZK1: 0 | WZL1: 0 | WZM1: 0 | WZN1: 0 | WZO1: 0 | WZP1: 0 | WZQ1: 0 | WZR1: 0 | WZS1: 0 | WZT1: 0 | WZU1: 0 | WZV1: 0 | WZW1: 0 | WZX1: 0 | WZY1: 0 | WZZ1: 0 | XAA1: 0 | XAB1: 0 | XAC1: 0 | XAD1: 0 | XAE1: 0 | XAF1: 0 | XAG1: 0 | XAH1: 0 | XAI1: 0 | XAJ1: 0 | XAK1: 0 | XAL1: 0 | XAM1: 0 | XAN1: 0 | XAO1: 0 | XAP1: 0 | XAQ1: 0 | XAR1: 0 | XAS1: 0 | XAT1: 0 | XAU1: 0 | XAV1: 0 | XAW1: 0 | XAX1: 0 | XAY1: 0 | XAZ1: 0 | XBA1: 0 | XBB1: 0 | XBC1: 0 | XBD1: 0 | XBE1: 0 | XBF1: 0 | XBG1: 0 | XBH1: 0 | XBI1: 0 | XBJ1: 0 | XBK1: 0 | XBL1: 0 | XBM1: 0 | XBN1: 0 | XBO1: 0 | XBP1: 0 | XBQ1: 0 | XBR1: 0 | XBS1: 0 | XBT1: 0 | XBU1: 0 | XBV1: 0 | XBW1: 0 | XBX1: 0 | XBY1: 0 | XBZ1: 0 | XCA1: 0 | XCB1: 0 | XCC1: 0 | XCD1: 0 | XCE1: 0 | XCF1: 0 | XCG1: 0 | XCH1: 0 | XCI1: 0 | XCJ1: 0 | XCK1: 0 | XCL1: 0 | XCM1: 0 | XCN1: 0 | XCO1: 0 | XCP1: 0 | XCQ1: 0 | XCR1: 0 | XCS1: 0 | XCT1: 0 | XCU1: 0 | XCV1: 0 | XCW1: 0 | XCX1: 0 | XCY1: 0 | XCZ1: 0 | XDA1: 0 | XDB1: 0 | XDC1: 0 | XDD1: 0 | XDE1: 0 | XDF1: 0 | XDG1: 0 | XDH1: 0 | XDI1: 0 | XDJ1: 0 | XDK1: 0 | XDL1: 0 | XDM1: 0 | XDN1: 0 | XDO1: 0 | XDP1: 0 | XDQ1: 0 | XDR1: 0 | XDS1: 0 | XDT1: 0 | XDU1: 0 | XDV1: 0 | XDW1: 0 | XDX1: 0 | XDY1: 0 | XDZ1: 0 | XEA1: 0 | XEB1: 0 | XEC1: 0 | XED1: 0 | XEE1: 0 | XEF1: 0 | XEG1: 0 | XEH1: 0 | XEI1: 0 | XEJ1: 0 | XEK1: 0 | XEL1: 0 | XEM1: 0 | XEN1: 0 | XEO1: 0 | XEP1: 0 | XEQ1: 0 | XER1: 0 | XES1: 0 | XET1: 0 | XEU1: 0 | XEV1: 0 | XEW1: 0 | XEX1: 0 | XEY1: 0 | XEZ1: 0 | XFA1: 0 | XFB1: 0 | XFC1: 0 | XFD1: 0
