Workbook

Sheet berekenaar
A1: budget | B1: 265150 | K1: KOOR | O1: HOUT | T1: KOPER | X1: STRIJKERS | AC1: SLAGWERK
A2: aantal repetitiedagen | B2: 3 | I2: sol | J2: dir | K2: S | L2: A | M2: T | N2: B | O2: fl | P2: hb | Q2: kl | R2: fg | S2: sx | T2: hn | U2: tp | V2: tb | W2: tba | X2: v1 | Y2: v2 | Z2: va | AA2: vc | AB2: cb | AC2: dr | AD2: prc
A3: aantal concertdagen | B3: 12 | H3: bezetting | I3: 1 | J3: 1 | K3: 0 | L3: 0 | M3: 0 | N3: 0 | O3: 2 | P3: 2 | Q3: 2 | R3: 2 | S3: 0 | T3: 4 | U3: 3 | V3: 3 | W3: 1 | X3: 8 | Y3: 6 | Z3: 4 | AA3: 4 | AB3: 3 | AC3: 1 | AD3: 2
A5: totaal aantal musici | B5: =SUM(I3:AD3) -> 49
B7: N | C7: tarief repetitiedag | D7: tarief concertdag | E7: uurtarief pp | F7: gage pp | G7: totaal | H7: incl. BTW
A8: =hulpcellen!A2 -> tutti-spelers | B8: =B5-SUM(B9:B12) -> 32 | C8: =IFERROR(((hulpcellen!B2/hulpcellen!D2)*G8)/$B8/$B$2,"") -> 107.68507 | D8: =IFERROR(((hulpcellen!C2/hulpcellen!D2)*G8)/$B8/$B$3,"") -> 323.05521 | E8: =IFERROR(F8/((assumpties!$B$15*assumpties!$B$2)+(berekenaar!$B$3*assumpties!$B$3)),"") -> 49.99664 | F8: =IFERROR(G8/B8,"") -> 4199.7178 | G8: =IFERROR(H8/(1+assumpties!$B$26),"") -> 134390.97 | H8: =IFERROR((hulpcellen!D2/hulpcellen!$D$7)*($H$15-SUM($H$13:$H$14)),"") -> 146486.16
A9: =hulpcellen!A3 -> aanvoerders | B9: =COUNTIF(K3:AD3,">0")-B10 -> 14 | C9: =IFERROR(((hulpcellen!B3/hulpcellen!D3)*G9)/$B9/$B$2,"") -> 171.02923 | D9: =IFERROR(((hulpcellen!C3/hulpcellen!D3)*G9)/$B9/$B$3,"") -> 342.05846 | E9: =IFERROR(F9/(($B$2*assumpties!$B$2)+(berekenaar!$B$3*assumpties!$B$3)),"") -> 51.308769 | F9: =IFERROR(G9/B9,"") -> 4617.7892 | G9: =IFERROR(H9/(1+assumpties!$B$26),"") -> 64649.049 | H9: =IFERROR((hulpcellen!D3/hulpcellen!$D$7)*($H$15-SUM($H$13:$H$14)),"") -> 70467.464
A10: =hulpcellen!A4 -> concertmeester | B10: =IF(B5<assumpties!$B$7,0,1) -> 1 | C10: =IFERROR(((hulpcellen!B4/hulpcellen!D4)*G10)/$B10/$B$2,"") -> 190.03248 | D10: =IFERROR(((hulpcellen!C4/hulpcellen!D4)*G10)/$B10/$B$3,"") -> 380.06496 | E10: =IFERROR(F10/(($B$2*assumpties!$B$2)+(berekenaar!$B$3*assumpties!$B$3)),"") -> 57.009744 | F10: =IFERROR(G10/B10,"") -> 5130.8769 | G10: =IFERROR(H10/(1+assumpties!$B$26),"") -> 5130.8769 | H10: =IFERROR((hulpcellen!D4/hulpcellen!$D$7)*($H$15-SUM($H$13:$H$14)),"") -> 5592.6559
A11: =hulpcellen!A5 -> dirigent | B11: =J3 -> 1 | C11: =IFERROR(((hulpcellen!B5/hulpcellen!D5)*G11)/$B11/$B$2,"") -> 285.04872 | D11: =IFERROR(((hulpcellen!C5/hulpcellen!D5)*G11)/$B11/$B$3,"") -> 570.09744 | E11: =IFERROR(F11/(($B$2*assumpties!$B$2)+(berekenaar!$B$3*assumpties!$B$3)),"") -> 85.514616 | F11: =IFERROR(G11/B11,"") -> 7696.3154 | G11: =IFERROR(H11/(1+assumpties!$B$26),"") -> 7696.3154 | H11: =IFERROR((hulpcellen!D5/hulpcellen!$D$7)*($H$15-SUM($H$13:$H$14)),"") -> 8388.9838
A12: =hulpcellen!A6 -> solist | B12: =I3 -> 1 | C12: =IFERROR(((hulpcellen!B6/hulpcellen!D6)*G12)/$B12,"") -> 760.12992 | D12: =IFERROR(((hulpcellen!C6/hulpcellen!D6)*G12)/$B12/$B$3,"") -> 1520.2598 | E12: =IFERROR(F12/((assumpties!$B$16*assumpties!$B$2)+(berekenaar!$B$3*assumpties!$B$3)),"") -> 243.63138 | F12: =IFERROR(G12/B12,"") -> 19003.248 | G12: =IFERROR(H12/(1+assumpties!$B$26),"") -> 19003.248 | H12: =IFERROR((hulpcellen!D6/hulpcellen!$D$7)*($H$15-SUM($H$13:$H$14)),"") -> 20713.54
G13: séjour | H13: =(ROUNDDOWN((B2*assumpties!B2)/assumpties!B18,0)*B5)+IF(assumpties!B20="ja",berekenaar!B3*assumpties!B21*berekenaar!B5,0) -> 5145
G14: tegemoetkoming reiskosten | H14: =((B5-B12)*(assumpties!B23*2*SUM(berekenaar!B2:B3))*assumpties!B24)+(B12*(assumpties!B23*2*(assumpties!B16+berekenaar!B3)*assumpties!B24)) -> 8356.2
G15: eindtotaal | H15: =B1 -> 265150

Sheet assumpties
A1: TIJD
A2: gerekende uren voor repetitiedag | B2: 6
A3: gerekende uren voor concertdag | B3: 6
A4: REPETITIES / CONCERTEN
A5: gage voor repetitiedag t.o.v. concertdag | B5: 0.5
A6: CONCERTMEESTER
A7: minimale ensemblegrootte voor concertmeester | B7: 10
A8: SALARISSCHALEN
A9: tutti-spelers | B9: 0.85
A10: aanvoerders | B10: 0.9
A11: concertmeester | B11: 1
A12: dirigent | B12: 1.5
A13: solist | B13: 4
A14: DEELNAME REPETITIES
A15: aantal repetities met tutti-spelers | B15: 2
A16: aantal repetities met solist(en) | B16: 1
A17: SEJOUR
A18: pauze per … uur | B18: 2
A19: pauzekosten | B19: 2
A20: concertdagen incl. diner | B20: ja
A21: dinerkosten | B21: 8
A22: TEGEMOETKOMING REISKOSTEN
A23: gemiddelde reisafstand (km) | B23: 30
A24: kilometervergoeding | B24: 0.19
A25: BELASTING
A26: BTW-tarief | B26: 0.09

Sheet hulpcellen
A1: hulpcellen | B1: tr | C1: tc | D1: tt
A2: tutti-spelers | B2: =(berekenaar!B8*assumpties!$B$15*assumpties!B9)*assumpties!$B$5 -> 27.2 | C2: =(berekenaar!B8*berekenaar!$B$3*assumpties!B9) -> 326.4 | D2: =SUM(B2:C2) -> 353.6
A3: aanvoerders | B3: =(berekenaar!B9*berekenaar!$B$2*assumpties!B10)*assumpties!$B$5 -> 18.9 | C3: =(berekenaar!B9*berekenaar!$B$3*assumpties!B10) -> 151.2 | D3: =SUM(B3:C3) -> 170.1
A4: concertmeester | B4: =(berekenaar!B10*berekenaar!$B$2*assumpties!B11)*assumpties!$B$5 -> 1.5 | C4: =(berekenaar!B10*berekenaar!$B$3*assumpties!B11) -> 12 | D4: =SUM(B4:C4) -> 13.5
A5: dirigent | B5: =(berekenaar!B11*berekenaar!$B$2*assumpties!B12)*assumpties!$B$5 -> 2.25 | C5: =(berekenaar!B11*berekenaar!$B$3*assumpties!B12) -> 18 | D5: =SUM(B5:C5) -> 20.25
A6: solist | B6: =(berekenaar!B12*assumpties!$B$16*assumpties!B13)*assumpties!$B$5 -> 2 | C6: =(berekenaar!B12*berekenaar!$B$3*assumpties!B13) -> 48 | D6: =SUM(B6:C6) -> 50
C7: sum | D7: =SUM(D2:D6) -> 607.45
